BEGIN:VCALENDAR
VERSION:2.0
PRODID:-//PerformanceMarketing.de - ECPv6.15.20//NONSGML v1.0//EN
CALSCALE:GREGORIAN
METHOD:PUBLISH
X-WR-CALNAME:PerformanceMarketing.de
X-ORIGINAL-URL:https://www.performancemarketing.de
X-WR-CALDESC:Veranstaltungen für PerformanceMarketing.de
REFRESH-INTERVAL;VALUE=DURATION:PT1H
X-Robots-Tag:noindex
X-PUBLISHED-TTL:PT1H
BEGIN:VTIMEZONE
TZID:Europe/Berlin
BEGIN:DAYLIGHT
TZOFFSETFROM:+0100
TZOFFSETTO:+0200
TZNAME:CEST
DTSTART:20190331T010000
END:DAYLIGHT
BEGIN:STANDARD
TZOFFSETFROM:+0200
TZOFFSETTO:+0100
TZNAME:CET
DTSTART:20191027T010000
END:STANDARD
BEGIN:DAYLIGHT
TZOFFSETFROM:+0100
TZOFFSETTO:+0200
TZNAME:CEST
DTSTART:20200329T010000
END:DAYLIGHT
BEGIN:STANDARD
TZOFFSETFROM:+0200
TZOFFSETTO:+0100
TZNAME:CET
DTSTART:20201025T010000
END:STANDARD
BEGIN:DAYLIGHT
TZOFFSETFROM:+0100
TZOFFSETTO:+0200
TZNAME:CEST
DTSTART:20210328T010000
END:DAYLIGHT
BEGIN:STANDARD
TZOFFSETFROM:+0200
TZOFFSETTO:+0100
TZNAME:CET
DTSTART:20211031T010000
END:STANDARD
END:VTIMEZONE
BEGIN:VEVENT
DTSTART;VALUE=DATE:20200504
DTEND;VALUE=DATE:20200506
DTSTAMP:20260422T053949
CREATED:20200318T144800Z
LAST-MODIFIED:20200318T144800Z
UID:2119-1588550400-1588723199@www.performancemarketing.de
SUMMARY:Ads Camp 2020
DESCRIPTION:Im Mai trifft sich in diesem Jahr wieder das Who is Who der deutschen und internationalen Facebook Advertising-Szene. Hebe dein Business jetzt auf das nächste Level – Networking und Deep Dive stehen hier im Fokus! Statt Grundlagen erhalten Performance Marketer auf dem Ads Camp Profi-Wissen für die alltägliche Arbeit mit Instagram\, Facebook & Co. \nDas Camp ist in zwei Parts gegliedert: Am ersten Tag kommen Top-Experten aus Deutschland auf die Bühne\, während es am zweiten Tag international weitergeht. Sichere dir konkrete Ideen\, Hacks und Tricks\, um deine Kampagnen zu maximalem Erfolg zu führen. \nAuf folgende Speaker kannst du dich in diesem Jahr freuen: Daniel Stauber (Facebook)\, Florian Litterst (Adsventure)\, Tobias Tellers (TWT Digital)\, Natasha Courtenay-Smith (Bolt Digital)\, Simon Kreienbaum (Kitchn.io) und Gil David (AdLeaks). \nHinweis: Aufgrund der Corona-Krise findet die Veranstaltung online statt.
URL:https://www.performancemarketing.de/event/ads-camp-2020/
LOCATION:Hilton Cologne\, Marzellenstraße 13-17\, Köln\, 50668\, Deutschland
CATEGORIES:Konferenz
ORGANIZER;CN="Nerds GmbH & Co KG":MAILTO:kontakt@smnerds.de
END:VEVENT
BEGIN:VEVENT
DTSTART;VALUE=DATE:20200507
DTEND;VALUE=DATE:20200509
DTSTAMP:20260422T053949
CREATED:20200224T144733Z
LAST-MODIFIED:20200224T144733Z
UID:2072-1588809600-1588982399@www.performancemarketing.de
SUMMARY:Rheinwerk Online Marketing Konferenz 2020
DESCRIPTION:Die Rheinwerk Online Marketing-Konferenz geht in die nächste Runde. Hole Dir neues Wissen\, neue Strategien und neue Techniken zu den Online Marketing-Themen\, die in jeden Marketingmix gehören. \nIn drei Tracks mit mehr als 20 Vorträgen bietet der erste Konferenztag den vollständigen Überblick zu allen Online Marketing-Kanälen. Führende Experten zeigen konkret und praxisnah\, wie digitales Marketing auf den verschiedenen Kanälen funktioniert. Am zweiten Tag rundet ein ganztägiges Workshop-Programm die Konferenz ab. \nAls Speaker werden 2020 u.a. erwartet: Babak Zand (Telekom Deutschland)\, Florian Eckert (McDonald’s Deutschland)\, Britta Schlömer (Thought Leader Systems)\, Christian Solmecke (Wilde Beuger Solmecke)\, David Odenthal (konversion.digital) und Felix Beilharz.
URL:https://www.performancemarketing.de/event/rheinwerk-online-marketing-konferenz-2020/
LOCATION:Balloni Hallen\, Ehrenfeldgürtel 88-94\, Köln\, 50823\, Deutschland
CATEGORIES:Konferenz
ORGANIZER;CN="Rheinwerk Verlag":MAILTO:carmen.weiss@rheinwerk-verlag.de
END:VEVENT
BEGIN:VEVENT
DTSTART;TZID=Europe/Berlin:20200508T090000
DTEND;TZID=Europe/Berlin:20200508T200000
DTSTAMP:20260422T053949
CREATED:20200324T155431Z
LAST-MODIFIED:20200324T155431Z
UID:2122-1588928400-1588968000@www.performancemarketing.de
SUMMARY:merchantday 2020
DESCRIPTION:In seine inzwischen vierte Auflage geht in diesem Jahr der merchantday in Hannover. Die Konferenz richtet sich an Onlinehändler\, Marken\, Hersteller und Dienstleister\, die sich zu den Themen Amazon Marketing\, Google Shopping\, Webshop-Optimierung\, E-Commerce Internationalisierung sowie Steuer und Recht im Onlinehandel weiterbilden und mit anderen Teilnehmern und Experten austauschen wollen. \nAlle Vorträge auf dem merchantday vermitteln praktisches Wissen\, Success Stories und E-Commerce-Insights. Mit mehreren hundert Besuchern hat sich der merchantday zu einer der größten und bedeutendsten Konferenzen im Bereich Marktplätze und Omnichannel entwickelt. \nAls Speaker werden 2020 u.a. erwartet: Patrick Chardon (Google)\, Jana Krekic (YLT Translations)\, Max F. Hofmann (BidX)\, Daniel Höhnke (Pixup Media)\, Niels Dahnke (Suxeedo) und Sandra Brambrink (Glaskoch/Leonardo).
URL:https://www.performancemarketing.de/event/merchantday-2020/
LOCATION:Convention Center\, Messegelände\, Hannover\, 30521\, Deutschland
CATEGORIES:Konferenz
ORGANIZER;CN="intomarkets":MAILTO:ronny.marx@intomarkets.com
END:VEVENT
BEGIN:VEVENT
DTSTART;TZID=Europe/Berlin:20200519T080000
DTEND;TZID=Europe/Berlin:20200519T200000
DTSTAMP:20260422T053949
CREATED:20200305T131323Z
LAST-MODIFIED:20200305T131323Z
UID:2097-1589875200-1589918400@www.performancemarketing.de
SUMMARY:ContentDay 2020
DESCRIPTION:Der ContentDay ist die größte Fachkonferenz für Content-Marketing in Österreich. Ob Wirtschaft\, Tourismus\, Handel oder Industrie – am ContentDay dreht sich einen Tag lang alles um gute Inhalte. \nDie Themen der Konferenz reichen dabei von textbasiertem Content über Visual Storytelling bis hin zu Social Media-Marketing. Insgesamt dürfen sich die Teilnehmer auf 20 Sessions mit hochkarätigen Content-Experten aus dem DACH-Raum freuen\, in denen die neuesten Trends und Entwicklungen aus der Szene aufs Tablett kommen. Spezielle Deep-Dive-Sessions und Hands-on-Slots sorgen zudem für fachlichen und kreativen Input. \nIhr Wissen teilen in diesem Jahr u.a. folgende Speaker: Astrid Linser (Stylight)\, Christin Hock (punkt & komma)\, David Neuhaus (SocialHub)\, Ines Stampf (Magenta) und Nicolai Kuban (contentbird GmbH).
URL:https://www.performancemarketing.de/event/contentday-2020/
LOCATION:Imlauer Hotel Pitter Salzburg\, Rainerstraße 12–14\, Salzburg\, 5020\, Österreich
CATEGORIES:Konferenz
ORGANIZER;CN="punkt & komma GmbH":MAILTO:info@punkt-komma.at
END:VEVENT
BEGIN:VEVENT
DTSTART;VALUE=DATE:20200526
DTEND;VALUE=DATE:20200528
DTSTAMP:20260422T053949
CREATED:20200324T161407Z
LAST-MODIFIED:20200324T161407Z
UID:2126-1590451200-1590623999@www.performancemarketing.de
SUMMARY:hallo.digital 2020
DESCRIPTION:Content-Marketing\, Social Media\, UX/Design\, SEO\, Data\, Tracking und noch vieles mehr steht im Mittelpunkt der hallo.digital 2020. An den beiden Konferenztagen präsentieren zahlreiche Experten ihr Wissen in Vorträgen\, Panels\, Keynotes und Workshops. \nDabei gibt es in diesem Jahr gleich drei neue Stages: die Tool & Product Stage\, bei der gemeinsam mit Partner praxiserprobte Tools und Case Studies vorgestellt werden\, die Clinic Stage\, bei der im Austausch mit Experten die eigenen Webseiten\, Social Media-Auftritte und Kampagnen unter die Lupe genommen werden können und die Secret Stage\, bei der ein Einblick in Live-Daten gegeben und von Fails und Learnings berichtet wird\, die man sonst nirgendwo zu hören bekommt. Seien Sie gespannt! \nAls Speaker und Experten kommen in diesem Jahr u.a. zur hallo.digital: Dr. Mario Fischer (Dr. Mario Fischer Unternehmensberatung)\, Peter Janze (digital@M GmbH)\, Matthias Mehner (MessengerPeople GmbH)\, Vitaly Friedman (Smashing Media AG) und Bastian Grimm (Peak Ace AG). \nAktueller Hinweis: Aufgrund der Corona-Pandemie findet die Veranstaltung in diesem Jahr online statt!
URL:https://www.performancemarketing.de/event/hallo-digital-2020/
LOCATION:Tollhaus Karlsruhe\, Alter Schlachthof 35\, Karlsruhe\, 76131\, Deutschland
CATEGORIES:Konferenz
ORGANIZER;CN="netzstrategen GmbH":MAILTO:info@netzstrategen.com
END:VEVENT
BEGIN:VEVENT
DTSTART;VALUE=DATE:20200526
DTEND;VALUE=DATE:20200528
DTSTAMP:20260422T053949
CREATED:20200408T153359Z
LAST-MODIFIED:20200408T153359Z
UID:2129-1590451200-1590623999@www.performancemarketing.de
SUMMARY:K5 Future Retail Conference 2020
DESCRIPTION:Die K5 Future Retail Conference ist die Leitveranstaltung im digitalen Handel. Beim alljährlichen Gipfeltreffen der E-Commerce-Branche trifft sich das Who-is-Who der digitalen Handelsszene. Getreu den Leitsätzen Content First und Quality Networking erleben die Teilnehmer zwei prall gefüllte Tage voller Insights\, Inspirationen\, News und Austausch auf Augenhöhe. \n2020 steht die K5 Future Retail Conference unter dem Leitmotiv „Next 10 Years – New Frontiers”. Natürlich dürfen sich die Teilnehmer auch wieder über mehr als 150 Top-Aussteller und ein Stelldichein der besten Speaker aus der Branche freuen. In diesem Jahr werden u.a. Gerald Kullack (Lillydoo)\, Thilo Haas (Connox)\, Dr. Marco Vietor (Audibene)\, Vanessa Stützle (Douglas) und Daniela Engel (Wish) auf der Stage erwartet.
URL:https://www.performancemarketing.de/event/k5-future-retail-conference-2020/
LOCATION:Estrel Congress Center\, Sonnenallee 225\, Berlin\, 12057\, Deutschland
CATEGORIES:Konferenz
ORGANIZER;CN="K5 GmbH":MAILTO:schluepmann@k5-gmbh.com
END:VEVENT
END:VCALENDAR