BEGIN:VCALENDAR
VERSION:2.0
PRODID:-//PerformanceMarketing.de - ECPv6.15.20//NONSGML v1.0//EN
CALSCALE:GREGORIAN
METHOD:PUBLISH
X-WR-CALNAME:PerformanceMarketing.de
X-ORIGINAL-URL:https://www.performancemarketing.de
X-WR-CALDESC:Veranstaltungen für PerformanceMarketing.de
REFRESH-INTERVAL;VALUE=DURATION:PT1H
X-Robots-Tag:noindex
X-PUBLISHED-TTL:PT1H
BEGIN:VTIMEZONE
TZID:Europe/Berlin
BEGIN:DAYLIGHT
TZOFFSETFROM:+0100
TZOFFSETTO:+0200
TZNAME:CEST
DTSTART:20190331T010000
END:DAYLIGHT
BEGIN:STANDARD
TZOFFSETFROM:+0200
TZOFFSETTO:+0100
TZNAME:CET
DTSTART:20191027T010000
END:STANDARD
BEGIN:DAYLIGHT
TZOFFSETFROM:+0100
TZOFFSETTO:+0200
TZNAME:CEST
DTSTART:20200329T010000
END:DAYLIGHT
BEGIN:STANDARD
TZOFFSETFROM:+0200
TZOFFSETTO:+0100
TZNAME:CET
DTSTART:20201025T010000
END:STANDARD
BEGIN:DAYLIGHT
TZOFFSETFROM:+0100
TZOFFSETTO:+0200
TZNAME:CEST
DTSTART:20210328T010000
END:DAYLIGHT
BEGIN:STANDARD
TZOFFSETFROM:+0200
TZOFFSETTO:+0100
TZNAME:CET
DTSTART:20211031T010000
END:STANDARD
END:VTIMEZONE
BEGIN:VEVENT
DTSTART;VALUE=DATE:20200310
DTEND;VALUE=DATE:20200312
DTSTAMP:20260422T081226
CREATED:20200220T164135Z
LAST-MODIFIED:20200220T164135Z
UID:2063-1583798400-1583971199@www.performancemarketing.de
SUMMARY:CMCX 2020
DESCRIPTION:Ohne Content keine Kommunikation. Insofern ist es für jeden Marketer unabdingbar zu wissen\, wie man Content richtig produziert\, platziert und organisiert. Wie also setzt man Content Marketing richtig um und ein? Welche Technologien sind nötig? Und über welche Kanäle wird die gewünschte Zielgruppe erreicht? Diesen und vielen weiteren Fragen geht die CMCX auf den Grund. \neÜber 100 Marketing-Experten diskutieren auf den Konferenzbühnen\, in 20 Workshops können die Teilnehmer ihre Kenntnisse vertiefen. Zudem präsentieren rund 100 Aussteller ihre Produkte im Messebereich. Als Speaker stehen in diesem Jahr u.a. auf der Bühne: Dr. Johannes Steegmann (Rewe)\, Marc Opelt (Otto)\, Susan Schramm (McDonalds)\, Michael Stenberg (Siemens)\, Christoph Zeidler (SAP) und Boris Dolkhani (Bosch).
URL:https://www.performancemarketing.de/event/cmcx-2020/
LOCATION:Messe München\, Messegelände\, München\, 81823\, Deutschland
CATEGORIES:Konferenz
ORGANIZER;CN="Contilla GmbH - Interaktives Content-Marketing":MAILTO:cmcx@contilla.de
END:VEVENT
BEGIN:VEVENT
DTSTART;VALUE=DATE:20200311
DTEND;VALUE=DATE:20200313
DTSTAMP:20260422T081226
CREATED:20200220T170058Z
LAST-MODIFIED:20200220T170207Z
UID:2065-1583884800-1584057599@www.performancemarketing.de
SUMMARY:Digital Marketing Forum 2020
DESCRIPTION:Daten sammeln\, Kennzahlen identifizieren\, analysieren und verbessern. Das Digital Marketing Forum informiert über aktuelle Themen rund um digitale Marketing-Systeme und deren Einsatz. Auf dem diesjährigen Programm stehen Themen wie Customer Experience Marketing\, CRM\, KI\, Data Science oder Performance Marketing. \nAm zweiten Tag bietet die Konferenz Expertenvorträge und Anwenderberichte\, beispielsweise mit der Wallet-Technologie bei Mercedes Benz Consulting oder der Business Geo Intelligence bei Fichtner IT Consulting. In weiteren Slots werden Inhalte wie Predictive Marketing\, Machine Learning\, Marketing-Automation oder Digital Analytics vertieft. Natürlich bleibt rund um die Veranstaltung auch Zeit für ausgiebiges Netzwerken.
URL:https://www.performancemarketing.de/event/digital-marketing-forum-2020/
LOCATION:VDI Haus Stuttgart GmbH\, Hamletstrasse 11\, Stuttgart\, 70563\, Deutschland
CATEGORIES:Konferenz
ORGANIZER;CN="media science GmbH":MAILTO:info@media-science.de
END:VEVENT
BEGIN:VEVENT
DTSTART;VALUE=DATE:20200311
DTEND;VALUE=DATE:20200313
DTSTAMP:20260422T081226
CREATED:20200228T135755Z
LAST-MODIFIED:20200228T135755Z
UID:2076-1583884800-1584057599@www.performancemarketing.de
SUMMARY:DYGITIZED Transformation Conference 2020
DESCRIPTION:Die DYGITIZED Transformation Conference vereint die Themen Digitale Transformation\, New Work\, Digitale Kommunikation und Agile in einem Event. An zwei Tagen treffen sich in München zahlreiche Experten\, um über die neuesten Trends und Entwicklungen zu referieren und zu diskutieren. Hier erwarten Besucher Proven Concepts – No Bullshit! In Speed Networking-Runden bleibt überdies ausreichend Zeit\, das eigene Netzwerk auszubauen. \nIn mehr als 20 Vorträgen und Panels werden in diesem Jahr über 30 Experten auf der Bühne stehen. Dazu gehören u.a. Anna Kopp (Microsoft)\, Sonja Moosburger (MediaMarktSaturn)\, Peter Jaeger (Dropbox)\, Nico Winkelhaus (Payback)\, Dr. Fabian Stich (Jochen Schweizer mydays Group) und Julian Grießl (McDonalds).
URL:https://www.performancemarketing.de/event/dygitized-transformation-conference-2020/
LOCATION:Alte Kongresshalle München\, Theresienhöhe 15\, München\, 80339\, Deutschland
CATEGORIES:Konferenz
ORGANIZER;CN="DYGITIZED GmbH":MAILTO:hallo@dygitized.de
END:VEVENT
BEGIN:VEVENT
DTSTART;VALUE=DATE:20200317
DTEND;VALUE=DATE:20200320
DTSTAMP:20260422T081226
CREATED:20200228T144017Z
LAST-MODIFIED:20200228T144017Z
UID:2084-1584403200-1584662399@www.performancemarketing.de
SUMMARY:AllFacebook Marketing Conference München 2020
DESCRIPTION:Ebenso wie die SMX ist die AllFacebook Marketing Conference inzwischen eine feste Institution in München. Das dreitägige Event startet mit Workshops am Tag vor der eigentlichen Konferenz. Auf der größten Social Media Marketing-Konferenz selbst geht es dann auf bis zu fünf Bühnen und mehr als 50 Top-Speakern ans Eingemachte. \nWie setzt man Facebook\, Instagram\, WhatsApp\, Pinterest\, Twitter und YouTube in Unternehmen richtig ein\, was sind die neuesten Ideen und Trends? Egal\, ob für Einzelkämpfer\, kleine Unternehmen\, Mittelstand oder Großkonzern – auf der AllFacebook Marketing Conference gibt es die Antworten! Am letzten Konferenz-Tag wird das Programm dann nochmals mit Highlights auf einer Bühne abgerundet. \nAls Speaker haben sich in diesem Jahr u.a. angekündigt: Jan Gutmann (AIDA Cruises)\, Nadine Neubauer (Instagram)\, Tino Krause (Facebook)\, Madeline Müller (RTL Interactive) und Katharina Fuxius (NDR).
URL:https://www.performancemarketing.de/event/allfacebook-marketing-conference-muenchen-2020/
LOCATION:ICM Internationales Congress Centrum München\, Messegelände\, München\, 81823\, Deutschland
CATEGORIES:Konferenz
ORGANIZER;CN="Rising Media Ltd":MAILTO:info@risingmedia.com
END:VEVENT
BEGIN:VEVENT
DTSTART;VALUE=DATE:20200318
DTEND;VALUE=DATE:20200320
DTSTAMP:20260422T081226
CREATED:20200228T141648Z
LAST-MODIFIED:20200228T141912Z
UID:2079-1584489600-1584662399@www.performancemarketing.de
SUMMARY:SMX München 2020
DESCRIPTION:SEO + SEA = SMX. So lautet die erfolgreiche Formel von Deutschlands größter Konferenz für Suchmarketing. Die SMX ist somit DER Treffpunkt aller Suchmarketer und Online Marketer\, die Suchmarketing verantworten. Hinter der SMX steht dabei kein Anbieter und keine Agentur\, sondern ein redaktionelles Team. Hier erwarten Besucher also kein Marketing-Blabla\, sondern Cutting Edge-Taktiken und Strategien von Top-Branchenexperten aus aller Welt. \nBis zu sieben parallel laufende Themen-Tracks (neben SEO und SEA u.a. auch Analytics & Data\, New Work etc.) bieten neben geballtem Wissen umsetzbare Inhalte und Inspirationen für die eigenen Aufgaben. Als Speaker werden in diesem Jahr u.a. auf der Bühne stehen: Helen Schrader (OBI)\, Johannes Müller (Google)\, Melanie Schlegel (Otto)\, Philipp Mainka (zooplus)\, Maria Corcoran (Adobe) und Dana DiTomaso (Kick Point).
URL:https://www.performancemarketing.de/event/smx-muenchen-2020/
LOCATION:ICM Internationales Congress Centrum München\, Messegelände\, München\, 81823\, Deutschland
CATEGORIES:Konferenz
ORGANIZER;CN="Rising Media Ltd":MAILTO:info@risingmedia.com
END:VEVENT
BEGIN:VEVENT
DTSTART;VALUE=DATE:20200319
DTEND;VALUE=DATE:20200320
DTSTAMP:20260422T081226
CREATED:20200228T145646Z
LAST-MODIFIED:20200228T145646Z
UID:2086-1584576000-1584662399@www.performancemarketing.de
SUMMARY:All Influencer Marketing Conference München 2020
DESCRIPTION:Bereits zum vierten Mal findet in diesem Jahr die All Influencer Marketing Conference statt. Influencer Marketing nimmt im Marketing-Mix einen immer größeren Stellenwert ein. Fast jedes Unternehmen betreibt inzwischen Influencer Marketing oder plant den Einstieg in naher Zukunft – denn keine Marketingdisziplin ist näher am Kunden! \nAuf der All Influencer Marketing Conference lernen Teilnehmer von Experten die aktuellen Taktiken für eine effektive Strategie-Optimierung\, können sich von neue Ideen inspirieren lassen und sich praktische Tipps und Techniken holen\, die das eigene Business durch Influencer Marketing zum Erfolg führen. \nZahlreiche Experten geben auch bei dieser Ausgabe der All Influencer Marketing Conference ihr Wissen als Referenten weiter. In diesem Jahr sind dies u.a. Andreas Bersch (BRANDPUNKT)\, Julia Christoph (LinkedIn)\, Felix Hummel (BuzzBird)\, Juliane Krespelka (Siemens) und Luisa Neubauer (Klimaschutzaktivistin).
URL:https://www.performancemarketing.de/event/all-influencer-marketing-conference-muenchen-2020/
LOCATION:ICM Internationales Congress Centrum München\, Messegelände\, München\, 81823\, Deutschland
CATEGORIES:Konferenz
ORGANIZER;CN="Rising Media Ltd":MAILTO:info@risingmedia.com
END:VEVENT
BEGIN:VEVENT
DTSTART;TZID=Europe/Berlin:20200319T093000
DTEND;TZID=Europe/Berlin:20200319T164500
DTSTAMP:20260422T081226
CREATED:20200305T133947Z
LAST-MODIFIED:20200305T134045Z
UID:2101-1584610200-1584636300@www.performancemarketing.de
SUMMARY:Handelskraft Konferenz 2020
DESCRIPTION:Bereits zum fünften Mal führt die Handelskraft Konferenz in diesem Jahr die Akteure des Digital Business zusammen. Hier gibt es nicht nur Theorie\, hier stehen Macher auf der Bühne\, die die Dinge\, über die sie sprechen\, auch tatsächlich umsetzen. \nOb Innovationsmanagement\, E-Commerce\, Internationalisierung\, CRM\, User-Experience\, PIM\, Content-Commerce oder Digitalmarketing – hier kommt kein Thema zu kurz! Echtes Know-how\, reale Herausforderungen und bewährte Lösungsansätze von Business-Profis für Händler\, Hersteller und Verlage – das gibt es nur auf der Handelskraft Konferenz. \nFreuen Sie sich in diesem Jahr auf hochkarätige Speaker wie Tom Oelsner (Heidelberg Digital Unit)\, Eva Wohlmann (FISHBULL Franz Fischer Qualitätswerkzeuge GmbH)\, Michael Mollath (Deutsche Messe AG)\, Yves Lüthi (Geschenkidee.ch)\, Sabrina Stumpf (Adolf Würth GmbH & Co. KG) sowie Christian Malik (dotSource GmbH). \n  \nWichtiger Hinweis: Aufgrund der aktuellen Entwicklung rund um das Corona-Virus findet die Handelskraft Konferenz in diesem Jahr als Online-Konferenz im Internet statt!
URL:https://www.performancemarketing.de/event/handelskraft-konferenz-2020/
LOCATION:Wagenhallen Stuttgart\, Innerer Nordbahnhof 1\, Stuttgart\, 70191\, Deutschland
CATEGORIES:Konferenz
ORGANIZER;CN="dotSource GmbH":MAILTO:konferenz@handelskraft.de
END:VEVENT
BEGIN:VEVENT
DTSTART;VALUE=DATE:20200325
DTEND;VALUE=DATE:20200327
DTSTAMP:20260422T081226
CREATED:20200304T145208Z
LAST-MODIFIED:20200304T145208Z
UID:2091-1585094400-1585267199@www.performancemarketing.de
SUMMARY:SHIFT/CX 2020
DESCRIPTION:Die SHIFT/CX ist die Jahresveranstaltung zum Wandel von Marketing\, Vertrieb und Service im Customer Experience-Zeitalter. Teilnehmer diskutieren hier nicht nur über die neuesten Trends und Innovationen\, sondern nehmen auch zahlreiche Projekterfahrungen bei der Neuausrichtung auf mehr Kundenorientierung und Kundenbegeisterung im eigenen Unternehmen mit. \nDer Fokus in diesem Jahr liegt auf der Customer Passion. Wichtige Eckpunkte sind dabei die Kundenzentrierung als strategische Maxime\, die neuen technologischen Möglichkeiten für ein besseres Kundenerlebnis sowie die Umsetzung einer gelebten Kundenorientierung. \nAls Speaker werden u.a. auf der Bühne stehen: Peter Eisele (congstar)\, Viktoria Kremer (Allianz Deutschland)\, Elena Schmidt (SICK AG) und Marcel Böhl (Ergo Direkt).
URL:https://www.performancemarketing.de/event/shift-cx-2020/
LOCATION:Crowne Plaza Frankfurt\, Lyoner Strasse 44-48\, Frankfurt\, 60528\, Deutschland
CATEGORIES:Konferenz
ORGANIZER;CN="Kongress Media GmbH":MAILTO:contact@kongressmedia.de
END:VEVENT
BEGIN:VEVENT
DTSTART;VALUE=DATE:20200325
DTEND;VALUE=DATE:20200327
DTSTAMP:20260422T081226
CREATED:20200304T151456Z
LAST-MODIFIED:20200304T151456Z
UID:2094-1585094400-1585267199@www.performancemarketing.de
SUMMARY:ECC Forum 2020
DESCRIPTION:Content. Commerce. One Community. Das ECC Forum ist das Event für Handel im digitalen Zeitalter. Hier gibt es Insights und Impulse aus erster Hand von Top-Speakern aus Handel und Industrie. Zudem brandneue Customer- und Market-Insights sowie Networking auf Augenhöhe. Am ersten Tag der Konferenz dreht sich dabei alles um spannende Konzepte aus der B2C-Praxis\, während am zweiten Tag der B2B-Handel in den Fokus rückt. \nTeilnehmer dürfen sich 2020 u.a. auf folgende Speaker freuen: Daniel Füchtenschnieder (bonprix)\, Oliver Gliß (VfL Wolfsburg)\, Thomas Heim (Viessmann)\, Steven Mattwig (Douglas) und Carina Ressel (Raiffeisen NetWorld GmbH).
URL:https://www.performancemarketing.de/event/ecc-forum-2020/
LOCATION:DIE HALLE Tor 2\, Girlitzweg 30\, Köln\, 50829\, Deutschland
CATEGORIES:Konferenz
ORGANIZER;CN="IFH K%C3%B6ln GmbH":MAILTO:k.sunderdiek(at)ifhkoeln.de
END:VEVENT
BEGIN:VEVENT
DTSTART;VALUE=DATE:20200326
DTEND;VALUE=DATE:20200327
DTSTAMP:20260422T081226
CREATED:20200306T151910Z
LAST-MODIFIED:20200306T151910Z
UID:2106-1585180800-1585267199@www.performancemarketing.de
SUMMARY:Super Communication Land 2020
DESCRIPTION:Zum zweiten Mal steigt in diesem Jahr das Super Communication Land von news aktuell. Unter dem Motto „Beat the Machine – von denkenden Robotern und liebenden Menschen“ vereint die Veranstaltung für PR und Marketing Vorträge\, Panels\, Workshops und Podcasts zu den Themen KI\, Digital Trends und E-Sports und Liebe. \nAuf der Agenda stehen Fragen wie: Wie werden KI und Robotics die Kommunikationsarbeit beeinflussen? Verändert E-Sports unser Verständnis für Sport und Gaming? Und bleibt in einer digitalen Gesellschaft noch Platz für die Liebe? \nAls Speaker haben sich u.a. angekündigt: Michelle van der Veen (Grayling Deutschland GmbH)\, Florian Flaig (Michelin)\, Markus Beckedahl (netzpolitik.org und re:publica)\, Martin Müller (Vodafone)\, Niddal Salah-Eldin (dpa) und Kai Blasberg (Tele 5).
URL:https://www.performancemarketing.de/event/super-communication-land-2020/
LOCATION:Heilig-Kreuz-Kirche Berlin\, Zossener Strasse 65\, Berlin\, 10961\, Deutschland
CATEGORIES:Konferenz
ORGANIZER;CN="news aktuell GmbH":MAILTO:sucola@newsaktuell.de
END:VEVENT
END:VCALENDAR