BEGIN:VCALENDAR
VERSION:2.0
PRODID:-//PerformanceMarketing.de - ECPv6.15.20//NONSGML v1.0//EN
CALSCALE:GREGORIAN
METHOD:PUBLISH
X-ORIGINAL-URL:https://www.performancemarketing.de
X-WR-CALDESC:Veranstaltungen für PerformanceMarketing.de
REFRESH-INTERVAL;VALUE=DURATION:PT1H
X-Robots-Tag:noindex
X-PUBLISHED-TTL:PT1H
BEGIN:VTIMEZONE
TZID:Europe/Berlin
BEGIN:DAYLIGHT
TZOFFSETFROM:+0100
TZOFFSETTO:+0200
TZNAME:CEST
DTSTART:20180325T010000
END:DAYLIGHT
BEGIN:STANDARD
TZOFFSETFROM:+0200
TZOFFSETTO:+0100
TZNAME:CET
DTSTART:20181028T010000
END:STANDARD
BEGIN:DAYLIGHT
TZOFFSETFROM:+0100
TZOFFSETTO:+0200
TZNAME:CEST
DTSTART:20190331T010000
END:DAYLIGHT
BEGIN:STANDARD
TZOFFSETFROM:+0200
TZOFFSETTO:+0100
TZNAME:CET
DTSTART:20191027T010000
END:STANDARD
BEGIN:DAYLIGHT
TZOFFSETFROM:+0100
TZOFFSETTO:+0200
TZNAME:CEST
DTSTART:20200329T010000
END:DAYLIGHT
BEGIN:STANDARD
TZOFFSETFROM:+0200
TZOFFSETTO:+0100
TZNAME:CET
DTSTART:20201025T010000
END:STANDARD
END:VTIMEZONE
BEGIN:VEVENT
DTSTART;VALUE=DATE:20191118
DTEND;VALUE=DATE:20191120
DTSTAMP:20260422T141321
CREATED:20191023T132153Z
LAST-MODIFIED:20191023T132153Z
UID:2037-1574035200-1574207999@www.performancemarketing.de
SUMMARY:Data Driven Business 2019
DESCRIPTION:Nicht eine\, sondern gleich eine 3-fach-Konferenz ist die Data Driven Business in Berlin. Mit der „digital growth unleashed“\, dem „Marketing Analytics Summit“ und der „Predictive Analytics World Business“ werden unter einem Dach die Bereiche Growth\, Analytics und A.I umgesetzt. \nAuf bis zu sieben Bühnen gleichzeitig steigen Sessions und Workshops\, Top-Speaker präsentieren zudem die neuesten Facts und Trends aus den jeweiligen Branchen. Am zweiten Tag ist das Vertiefen der neuen Learnings und Impulse in kleinen Gruppen möglich. Natürlich kommt auch das Netzwerken nicht zu kurz. \nAls Speaker stehen u.a. auf der Bühne: Orlina Miller (TikTok)\, Dr. Franziska Engelhard (adidas)\, Dr. Nora Reich (KFW)\, Cengiz Dülger (sky)\, Andreas Wunderlich (Siemens) und Dr. Yuri Katz (S&P Global).
URL:https://www.performancemarketing.de/event/data-driven-business-2019/
LOCATION:Estrel Hotel Berlin\, Sonnenallee 225\, Berlin\, 12057\, Deutschland
CATEGORIES:Konferenz
ORGANIZER;CN="Rising Media Ltd":MAILTO:info@risingmedia.com
END:VEVENT
BEGIN:VEVENT
DTSTART;VALUE=DATE:20191121
DTEND;VALUE=DATE:20191122
DTSTAMP:20260422T141321
CREATED:20191023T142314Z
LAST-MODIFIED:20191023T142314Z
UID:2040-1574294400-1574380799@www.performancemarketing.de
SUMMARY:OMX Online Marketing Konferenz 2019
DESCRIPTION:Profundes Online Marketing-Wissen und zukunftweisende Hands-on-Tipps aus einer Hand von Top-Speakern – das gibt es bei der OMX Online Marketing Konferenz in Salzburg! In drei parallelen Tracks vermitteln spannende Vorträge Grundlagen und Profiwissen. \nHier gibt es keine Sales Pitches – jede Präsentation dient zur Druckbetankung mit purem Wissen\, News und Trends aus der Online Marketing-Szene. In den Pausen sowie bei der sich an die Konferenz anschließenden Abendveranstaltung können die mehr als 1.000 Konferenzteilnehmer zudem wertvolle neue Kontakte knüpfen oder ihr Netzwerk pflegen. \nAls Speaker werden in diesem Jahr u.a. erwartet: Branchenurgestein Karl Kratz\, Lena Saldern (E.ON)\, Britta Behrens (Piwik)\, Vanessa Markowski (ReachX)\, Nic Lecloux (true fruits) und Felix Beilharz.
URL:https://www.performancemarketing.de/event/omx-online-marketing-konferenz-2019/
LOCATION:Brandboxx\, Moosfeldstraße 1\, Bergheim bei Salzburg\, 5101\, Österreich
CATEGORIES:Konferenz
END:VEVENT
END:VCALENDAR