BEGIN:VCALENDAR
VERSION:2.0
PRODID:-//PerformanceMarketing.de - ECPv6.15.20//NONSGML v1.0//EN
CALSCALE:GREGORIAN
METHOD:PUBLISH
X-WR-CALNAME:PerformanceMarketing.de
X-ORIGINAL-URL:https://www.performancemarketing.de
X-WR-CALDESC:Veranstaltungen für PerformanceMarketing.de
REFRESH-INTERVAL;VALUE=DURATION:PT1H
X-Robots-Tag:noindex
X-PUBLISHED-TTL:PT1H
BEGIN:VTIMEZONE
TZID:Europe/Berlin
BEGIN:DAYLIGHT
TZOFFSETFROM:+0100
TZOFFSETTO:+0200
TZNAME:CEST
DTSTART:20180325T010000
END:DAYLIGHT
BEGIN:STANDARD
TZOFFSETFROM:+0200
TZOFFSETTO:+0100
TZNAME:CET
DTSTART:20181028T010000
END:STANDARD
BEGIN:DAYLIGHT
TZOFFSETFROM:+0100
TZOFFSETTO:+0200
TZNAME:CEST
DTSTART:20190331T010000
END:DAYLIGHT
BEGIN:STANDARD
TZOFFSETFROM:+0200
TZOFFSETTO:+0100
TZNAME:CET
DTSTART:20191027T010000
END:STANDARD
BEGIN:DAYLIGHT
TZOFFSETFROM:+0100
TZOFFSETTO:+0200
TZNAME:CEST
DTSTART:20200329T010000
END:DAYLIGHT
BEGIN:STANDARD
TZOFFSETFROM:+0200
TZOFFSETTO:+0100
TZNAME:CET
DTSTART:20201025T010000
END:STANDARD
END:VTIMEZONE
BEGIN:VEVENT
DTSTART;VALUE=DATE:20190206
DTEND;VALUE=DATE:20190210
DTSTAMP:20260423T032818
CREATED:20190131T124518Z
LAST-MODIFIED:20190131T124518Z
UID:1812-1549411200-1549756799@www.performancemarketing.de
SUMMARY:London Affiliate Conference 2019
DESCRIPTION:Die London Affiliate Conference 2019 ist die weltweit größte Affiliate-Konferenz und Ausstellung rund um das Thema iGaming. Treffen Sie mehr als 5.200 iGaming-Experten aus aller Welt und erweitern Sie ihr Netzwerk. Mehr als 100 Aussteller präsentieren neue Produkte\, Trends und Innovationen. Dazu gibt es mehr als 16 Stunden Vorträge und Fragerunden. Als Speaker werden in diesem Jahr u.a. erwartet: Boaz Brindt (The Lotter)\, Gavin Walters (Gambling.com)\, Liza Dunning (Airbnb)\, Michael Pedersen (LetsBet.com) und Guy Harding (Oddschecker).
URL:https://www.performancemarketing.de/event/london-affiliate-conference-2019/
LOCATION:Exhibition Centre London\, Royal Victoria Dock\, 1 Western Gateway\, London\, E16 1XL\, Großbritannien (Vereinigtes Königreich)
CATEGORIES:Konferenz
ORGANIZER;CN="iGaming Business":MAILTO:Alana@iGamingBusiness.com
END:VEVENT
BEGIN:VEVENT
DTSTART;VALUE=DATE:20190214
DTEND;VALUE=DATE:20190215
DTSTAMP:20260423T032818
CREATED:20190131T133104Z
LAST-MODIFIED:20190131T133104Z
UID:1819-1550102400-1550188799@www.performancemarketing.de
SUMMARY:Big Data Marketing Day 2019
DESCRIPTION:Der Big Data Marketing Day hat seinen Fokus auf Produktinnovationen und praxistauglichen Lösungen für Data Driven Marketing. Das Konferenzprogramm ist lösungsbezogen ausgerichtet und vermittelt den Teilnehmern einen umfassenden Überblick über die neuesten Entwicklungen und Innovationen des Jahres. \nDie inhaltliche Ausrichtung orientiert sich an folgenden Eckpunkten: Aufzeigen von Einsatzmöglichkeiten\, Vorstellung von Lösungsansätzen\, Vorgehensmodellen und Best Practices\, Vermittlung von Orientierungspunkten aus der Praxis\, Informationen zu Rechtsvorschriften und Datenschutz sowie dem Fördern von Networking. \nAls Speaker werden 2019 u.a. Dr. Isabel Marcin (Google Germany)\, Mike Klinkhammer (eBay Advertising EU)\, Ralf Jäger (Unitymedia)\, Ansgar Schneider (Payback) und Alexander Krull (Webtrekk) auf der Bühne erwartet.
URL:https://www.performancemarketing.de/event/big-data-marketing-day-2019/
LOCATION:municon\, Flughafen München\, Terminalstraße Mitte 18\, München\, 85356\, Deutschland
CATEGORIES:Konferenz
ORGANIZER;CN="smile communication":MAILTO:info@smile-communication.de
END:VEVENT
BEGIN:VEVENT
DTSTART;VALUE=DATE:20190218
DTEND;VALUE=DATE:20190220
DTSTAMP:20260423T032818
CREATED:20190206T141415Z
LAST-MODIFIED:20190206T141459Z
UID:1846-1550448000-1550620799@www.performancemarketing.de
SUMMARY:Domain Pulse 2019
DESCRIPTION:Auch in diesem Jahr startet die Domain Pulse als bedeutendste Veranstaltung für aktuelle Themen\, Tendenzen und Trends rund um Domain-Namen im Februar. Veranstaltet wird die Domain Pulse von den Registrierungsstellen der Länderendungen DENIC (Deutschland)\, SWITCH (Schweiz) und Nic.at (Österreich). Der Schwerpunkt der Konferenz\, die in diesem Jahr im Rathaus Bern stattfindet\, liegt 2019 auf digitalen Identitäten\, deren Sicherung\, Verwaltung und rechtlichen Aspekten. \nAls Speaker werden u.a. erwartet: Prof. Dr. Wolfgang Kleinwächter (Universität Aarhus)\, Michael Hausding (SWITCH)\, Prof. Dr. Adrian Perrig (ETH Zürich) und Richard Wein (Nic.at). Zwischen den einzelnen Veranstaltungen bleibt für die Teilnehmer selbstverständlich genügend Zeit\, das eigene Netzwerk zu erweitern.
URL:https://www.performancemarketing.de/event/domain-pulse-2019/
LOCATION:Rathaus Bern\, Rathausplatz\, Bern\, 3011\, Schweiz
CATEGORIES:Konferenz
ORGANIZER;CN="DENIC":MAILTO:presse@denic.de
END:VEVENT
BEGIN:VEVENT
DTSTART;VALUE=DATE:20190219
DTEND;VALUE=DATE:20190221
DTSTAMP:20260423T032818
CREATED:20190130T125220Z
LAST-MODIFIED:20190131T121240Z
UID:1806-1550534400-1550707199@www.performancemarketing.de
SUMMARY:Rakuten Marketing DealMaker Scottsdale 2019
DESCRIPTION:Netzwerken steht an oberster Stelle des Rakuten Marketing DealMaker in Scottsdale. Mehr als 700 Teilnehmer tauschen sich hier über die neuesten Entwicklungen und Trends im Performance Marketing\, Bildung\, Geschäftsplanung oder aktuelle Marktstrategien aus. Auf der Agenda stehen spannende Speaker\, umsetzbare Informationen in Breakout-Sitzungen und eine Fülle interaktiver Möglichkeiten\, um sich mit anderen Konferenzteilnehmern zu vernetzen.
URL:https://www.performancemarketing.de/event/rakuten-marketing-dealmaker-scottsdale-2019/
LOCATION:JW Marriott Scottsdale Camelback Inn Resort & Spa\, 5402 East Lincoln Drive\, Scottsdale\, Arizona\, 85253\, Vereinigte Staaten
CATEGORIES:Konferenz
ORGANIZER;CN="Rakuten Marketing LLC.":MAILTO:events@mail.rakuten.com
END:VEVENT
BEGIN:VEVENT
DTSTART;VALUE=DATE:20190228
DTEND;VALUE=DATE:20190301
DTSTAMP:20260423T032818
CREATED:20190220T130536Z
LAST-MODIFIED:20190220T130536Z
UID:1879-1551312000-1551398399@www.performancemarketing.de
SUMMARY:Sales Marketing Messe 2019
DESCRIPTION:Die Sales Marketing Messe München ist die Top-Adresse für innovative Marktstrategien. Unter dem Motto „Kunden finden\, Kunden binden – Impulse für den Vertrieb“ treffen sich auf der eintägigen Messe Geschäftsführer\, Marketing- und Vertriebsleiter von großen Konzernen und mittelständischen Unternehmen\, um sich über aktuelle Trends und die derzeit angesagtesten Marketing- und Vertriebsstrategien zu informieren. \nAuf der Themenliste für 2019 stehen u.a. Dialog Marketing\, Online-Marketing\, Marketing Automation\, Social Media und E-Commerce. Als Speaker werden u.a. erwartet: Thomas Stahl (IcosAkademie)\, Diana Karcz (Online Solutions Group GmbH)\, Philipp Schachinger (Salesbeat GmbH)\, Florian Bumm (Hanseranking GmbH) und Michael Schneider (Clip GmbH).
URL:https://www.performancemarketing.de/event/sales-marketing-messe-2019/
LOCATION:MOC München\, Lilienthalallee 40\, München\, 80939\, Deutschland
CATEGORIES:Messe
ORGANIZER;CN="Netcomm GmbH":MAILTO:info@netcomm-gmbh.de
END:VEVENT
END:VCALENDAR