BEGIN:VCALENDAR
VERSION:2.0
PRODID:-//PerformanceMarketing.de - ECPv6.15.20//NONSGML v1.0//EN
CALSCALE:GREGORIAN
METHOD:PUBLISH
X-WR-CALNAME:PerformanceMarketing.de
X-ORIGINAL-URL:https://www.performancemarketing.de
X-WR-CALDESC:Veranstaltungen für PerformanceMarketing.de
REFRESH-INTERVAL;VALUE=DURATION:PT1H
X-Robots-Tag:noindex
X-PUBLISHED-TTL:PT1H
BEGIN:VTIMEZONE
TZID:Europe/Berlin
BEGIN:DAYLIGHT
TZOFFSETFROM:+0100
TZOFFSETTO:+0200
TZNAME:CEST
DTSTART:20170326T010000
END:DAYLIGHT
BEGIN:STANDARD
TZOFFSETFROM:+0200
TZOFFSETTO:+0100
TZNAME:CET
DTSTART:20171029T010000
END:STANDARD
BEGIN:DAYLIGHT
TZOFFSETFROM:+0100
TZOFFSETTO:+0200
TZNAME:CEST
DTSTART:20180325T010000
END:DAYLIGHT
BEGIN:STANDARD
TZOFFSETFROM:+0200
TZOFFSETTO:+0100
TZNAME:CET
DTSTART:20181028T010000
END:STANDARD
BEGIN:DAYLIGHT
TZOFFSETFROM:+0100
TZOFFSETTO:+0200
TZNAME:CEST
DTSTART:20190331T010000
END:DAYLIGHT
BEGIN:STANDARD
TZOFFSETFROM:+0200
TZOFFSETTO:+0100
TZNAME:CET
DTSTART:20191027T010000
END:STANDARD
END:VTIMEZONE
BEGIN:VEVENT
DTSTART;TZID=Europe/Berlin:20180906T090000
DTEND;TZID=Europe/Berlin:20180906T183000
DTSTAMP:20260423T102900
CREATED:20180511T112857Z
LAST-MODIFIED:20180511T112857Z
UID:1691-1536224400-1536258600@www.performancemarketing.de
SUMMARY:growth marketing SUMMIT 2018
DESCRIPTION:Ein liebevoll von Hand ausgewähltes Line-Up der weltweit führenden Conversion-Optimierer mit 100 Prozent Knowledge und 0 Prozent Blabla – das ist der growth marketing SUMMIT. Ein nur einem Tag weihen die Experten Teilnehmer in die besten Geheimnisse effektiver Optimierung ein und geben ihre Erfahrungen und Tipps weiter. \nZwölf kompakte Vorträge mit den aktuellsten News aus der CRO-Welt fassen die geballte Ladung Conversion-Power zusammen. Handliche Praxistipps und Best Practices sind dabei garantiert! Natürlich kommt auch das Networking nicht zu kurz – die Kombination aus gewonnenem Know How und dem Austausch mit anderen Optimierern ebnet den Teilnehmern den Weg zu neuen Upliftspitzen! \nAls Speaker werden 2018 u.a. erwartet: Morgan Brown (Facebook)\, Erin Weigel (Booking.com)\, Oli Gardner (unbounce)\, Tim Herbig (iridion) und Dr. David Darmanin (hotjar).
URL:https://www.performancemarketing.de/event/growth-marketing-summit-2018/
LOCATION:Kap Europa\, Osloer Straße 5\, Frankfurt\, 60327\, Deutschland
CATEGORIES:Konferenz
ORGANIZER;CN="konversionsKRAFT":MAILTO:info@growthmarketingSUMMIT.com
END:VEVENT
BEGIN:VEVENT
DTSTART;VALUE=DATE:20180907
DTEND;VALUE=DATE:20180908
DTSTAMP:20260423T102900
CREATED:20180220T160739Z
LAST-MODIFIED:20180220T160739Z
UID:1620-1536278400-1536364799@www.performancemarketing.de
SUMMARY:OMT 2018
DESCRIPTION:Auf dem Online Marketing Tag (OMT) treffen sich Online Marketing-Verantwortliche aus kleinen\, mittelständischen und großen Unternehmen\, um die neuesten Inspirationen und Innovationen aus dem Online Marketing zu diskutieren\, Ideen auszutauschen und das eigene Netzwerk zu pflegen und auszubauen. Als jährliches Großevent hat der OMT eine hohe Bekanntheit bei Arbeitgebern\, Dienstleistern und Herstellern erreicht. Mehr als 20 führende Experten aus der Online Marketing-Branche referieren bei der einzigartigen Veranstaltung im Rhein-Main-Gebiet über SEO\, Content Marketing\, Affiliate und Tools. Eine Podiums-Diskussion und eine Networking-Party im Anschluss an die Veranstaltung runden das Programm ab.
URL:https://www.performancemarketing.de/event/omt-2018/
LOCATION:Pentahotel Wiesbaden\, Abraham-Lincoln-Straße 17\, Wiesbaden\, 65189\, Deutschland
CATEGORIES:Konferenz
ORGANIZER;CN="ReachX GmbH":MAILTO:info@reach-x.de
END:VEVENT
BEGIN:VEVENT
DTSTART;VALUE=DATE:20180912
DTEND;VALUE=DATE:20180914
DTSTAMP:20260423T102900
CREATED:20170918T131840Z
LAST-MODIFIED:20170918T131840Z
UID:1382-1536710400-1536883199@www.performancemarketing.de
SUMMARY:dmexco 2018
DESCRIPTION:Im Jahr 2018 feiert die Digital Marketing Exposition & Conference dmexco ihr zehnjähriges Bestehen. Mehr als 40.000 Fachbesucher\, über 1.000 Aussteller und rund 600 Speaker sind Hausnummern\, die ihresgleichen suchen. Auf der zweitägigen Messe treffen sich Vertreter aus Industrie\, Wirtschaft und Technik\, Branchen-Insider\, Marken\, Medien\, Agenturen und Influencer. Auf zahlreichen Bühnen stellen etablierte Unternehmen und aufstrebende Startups ihre Produkte sowie die Innovationen von morgen vor. Natürlich kommt auch das Netzwerken nicht zu kurz. Abgerundet wird das Programm durch Vorträge hochkarätiger Speaker. Diese werden zeitnah bekannt gegeben.
URL:https://www.performancemarketing.de/event/dmexco-2018/
LOCATION:Koelnmesse\, Messeplatz 1\, Köln\, 50679\, Deutschland
CATEGORIES:Messe
ORGANIZER;CN="Koelnmesse":MAILTO:info@dmexco.de
END:VEVENT
END:VCALENDAR