BEGIN:VCALENDAR
VERSION:2.0
PRODID:-//PerformanceMarketing.de - ECPv6.15.20//NONSGML v1.0//EN
CALSCALE:GREGORIAN
METHOD:PUBLISH
X-ORIGINAL-URL:https://www.performancemarketing.de
X-WR-CALDESC:Veranstaltungen für PerformanceMarketing.de
REFRESH-INTERVAL;VALUE=DURATION:PT1H
X-Robots-Tag:noindex
X-PUBLISHED-TTL:PT1H
BEGIN:VTIMEZONE
TZID:Europe/Berlin
BEGIN:DAYLIGHT
TZOFFSETFROM:+0100
TZOFFSETTO:+0200
TZNAME:CEST
DTSTART:20170326T010000
END:DAYLIGHT
BEGIN:STANDARD
TZOFFSETFROM:+0200
TZOFFSETTO:+0100
TZNAME:CET
DTSTART:20171029T010000
END:STANDARD
BEGIN:DAYLIGHT
TZOFFSETFROM:+0100
TZOFFSETTO:+0200
TZNAME:CEST
DTSTART:20180325T010000
END:DAYLIGHT
BEGIN:STANDARD
TZOFFSETFROM:+0200
TZOFFSETTO:+0100
TZNAME:CET
DTSTART:20181028T010000
END:STANDARD
BEGIN:DAYLIGHT
TZOFFSETFROM:+0100
TZOFFSETTO:+0200
TZNAME:CEST
DTSTART:20190331T010000
END:DAYLIGHT
BEGIN:STANDARD
TZOFFSETFROM:+0200
TZOFFSETTO:+0100
TZNAME:CET
DTSTART:20191027T010000
END:STANDARD
END:VTIMEZONE
BEGIN:VEVENT
DTSTART;VALUE=DATE:20180703
DTEND;VALUE=DATE:20180705
DTSTAMP:20260423T131540
CREATED:20180509T130657Z
LAST-MODIFIED:20180509T130657Z
UID:1689-1530576000-1530748799@www.performancemarketing.de
SUMMARY:K5 FUTURE RETAIL CONFERENCE 2018
DESCRIPTION:Unter dem Motto „David vs. Goliath – Märkte im Umbruch“ geht die K5 FUTURE RETAIL CONFERENCE 2018 in ihre 8. Runde. Die Leitveranstaltung im E-Commerce bietet am 3. und 4. Juli wieder zwei Tage lang ein hochkarätiges Programm mit erstklassigen Speakern und innovativem Networking. Wie können sich kleine Online-Händler zwischen den Big Playern im E-Commerce positionieren\, behaupten und erfolgreich durchstarten? Ob ein Plattform Update\, Wachstumsstrategien oder Investmentausblicke – auf der K5 FUTURE RETAIL CONFERENCE versorgen Experten aus allen E-Commerce-Branchen die Teilnehmer mit dem aktuellsten Know-How. \nAls Speaker auf der Bühne werden in diesem Jahr u.a. erwartet: Dr. Fabian Stich (Jochen Schweizer mydays Group)\, Joseph Godsey (adidas)\, Robert Gentz (Zalando)\, Dr. Markus Schöberl (Amazon) und Lea-Sophie Cramer (Amorelie).
URL:https://www.performancemarketing.de/event/k5-future-retail-conference-2018/
LOCATION:Estrel Congress Center\, Sonnenallee 225\, Berlin\, 12057\, Deutschland
CATEGORIES:Konferenz
ORGANIZER;CN="K5 GmbH":MAILTO:schluepmann@k5-gmbh.com
END:VEVENT
END:VCALENDAR