BEGIN:VCALENDAR
VERSION:2.0
PRODID:-//PerformanceMarketing.de - ECPv6.15.20//NONSGML v1.0//EN
CALSCALE:GREGORIAN
METHOD:PUBLISH
X-ORIGINAL-URL:https://www.performancemarketing.de
X-WR-CALDESC:Veranstaltungen für PerformanceMarketing.de
REFRESH-INTERVAL;VALUE=DURATION:PT1H
X-Robots-Tag:noindex
X-PUBLISHED-TTL:PT1H
BEGIN:VTIMEZONE
TZID:Europe/Berlin
BEGIN:DAYLIGHT
TZOFFSETFROM:+0100
TZOFFSETTO:+0200
TZNAME:CEST
DTSTART:20170326T010000
END:DAYLIGHT
BEGIN:STANDARD
TZOFFSETFROM:+0200
TZOFFSETTO:+0100
TZNAME:CET
DTSTART:20171029T010000
END:STANDARD
BEGIN:DAYLIGHT
TZOFFSETFROM:+0100
TZOFFSETTO:+0200
TZNAME:CEST
DTSTART:20180325T010000
END:DAYLIGHT
BEGIN:STANDARD
TZOFFSETFROM:+0200
TZOFFSETTO:+0100
TZNAME:CET
DTSTART:20181028T010000
END:STANDARD
BEGIN:DAYLIGHT
TZOFFSETFROM:+0100
TZOFFSETTO:+0200
TZNAME:CEST
DTSTART:20190331T010000
END:DAYLIGHT
BEGIN:STANDARD
TZOFFSETFROM:+0200
TZOFFSETTO:+0100
TZNAME:CET
DTSTART:20191027T010000
END:STANDARD
END:VTIMEZONE
BEGIN:VEVENT
DTSTART;VALUE=DATE:20180614
DTEND;VALUE=DATE:20180615
DTSTAMP:20260423T145129
CREATED:20180309T152306Z
LAST-MODIFIED:20180309T154720Z
UID:1644-1528934400-1529020799@www.performancemarketing.de
SUMMARY:Adtrader Conference 2018
DESCRIPTION:Als Fachkonferenz für Programmatic-Media\, Advertising und Marketing begleitet die Adtrader Conference bereits seit 2011 die aktuell tiefgreifenden Veränderungen in Marketing und Media durch vernetzte Plattformen und den zunehmenden Einsatz von Audience Data. Für 2018 stehen u.a. folgende Themenschwerpunkte auf der Agenda: „Die zentrale Bedeutung unabhängiger Adtech-Systeme“\, E-Privacy\, Digital Audio\, „Qualitätssicherung im Programmatic“\, „E-Commerce als Motor für Werbewachstum und Programmatic“ oder „Was kann „Blockchain“ für Advertising leisten?“. Führende Experten und Marktteilnehmer zeigen auch 2018 wieder aktuelle Entwicklungen und Trends auf und diskutieren die Auswirkungen für den Markt und die Beteiligten.
URL:https://www.performancemarketing.de/event/adtrader-conference-2018/
LOCATION:KOSMOS Berlin\, Karl-Marx-Allee 131A\, Berlin\, 10243\, Deutschland
CATEGORIES:Konferenz
ORGANIZER;CN="Electronic Publishing Corporation Ltd.":MAILTO:tickets@adzine.de
END:VEVENT
BEGIN:VEVENT
DTSTART;VALUE=DATE:20180614
DTEND;VALUE=DATE:20180616
DTSTAMP:20260423T145129
CREATED:20180305T173240Z
LAST-MODIFIED:20180305T173240Z
UID:1639-1528934400-1529107199@www.performancemarketing.de
SUMMARY:Contra 2018
DESCRIPTION:Reduziert man ein Business auf die wesentlichen Erfolgsfaktoren\, bleiben genau zwei Stellschrauben übrig: Traffic und Conversion. Genau diesen beiden Stellschrauben\, die der Schlüssel zu Umsatz und Gewinn sind\, widmet sich die Contra\, die in diesem Jahr bereits zum 6. Mal stattfindet. Die rund 2.000 Teilnehmer erwartet auf dem zweitägigen Event eine Fülle von spannenden Vorträgen mit hochkarätigen Referenten\, Workshops und Masterclasses sowie natürlich ausreichend Zeit zum Netzwerken. Die Contra eignet sich für Profis ebenso wie für Einsteiger\, denn unter dem Motto „Lernen von den Besten“ werden hier nicht nur die neuesten Ideen und Trends\, sondern auch richtungsweisende Strategien vermittelt\, die für den erfolgreichen Aufbau eines Business essentiell sind.
URL:https://www.performancemarketing.de/event/contra-2018/
LOCATION:ISS Dome Düsseldorf\, DEG-Platz 1\, Düsseldorf\, 40472\, Deutschland
CATEGORIES:Konferenz
ORGANIZER;CN="Digital Beat GmbH":MAILTO:team@digitalbeat.de
END:VEVENT
BEGIN:VEVENT
DTSTART;TZID=Europe/Berlin:20180614T090000
DTEND;TZID=Europe/Berlin:20180614T180000
DTSTAMP:20260423T145129
CREATED:20180309T160233Z
LAST-MODIFIED:20180309T160352Z
UID:1650-1528966800-1528999200@www.performancemarketing.de
SUMMARY:Social Conference 2018
DESCRIPTION:Die Social Conference findet in diesem Jahr unter dem Titel „Digital Challenge 2018“ statt. Als Schwerpunktthemen stehen Künstliche Intelligenz\, Blockchain\, Augmented Reality\, Influencer Marketing und die neue EU Datenschutz-Grundverordnung auf dem Programm. Als Speaker stehen 2018 namhafte Experten und Influencer auf der Bühne. Dies sind u.a.: Karl Kratz\, Michael Praetorius\, Andreas Türck\, Kristian Hillmann (DB Vertrieb)\, Nadine Neubauer\, Johannes Ceh und Nico Winkelhaus (Payback).
URL:https://www.performancemarketing.de/event/social-conference-2018/
LOCATION:Freiheizhalle München\, Rainer-Werner-Fassbinder-Platz 1\, München\, 80636\, Deutschland
CATEGORIES:Konferenz
ORGANIZER;CN="Hakan Han":MAILTO:info@socialconference.de
END:VEVENT
END:VCALENDAR