BEGIN:VCALENDAR
VERSION:2.0
PRODID:-//PerformanceMarketing.de - ECPv6.15.20//NONSGML v1.0//EN
CALSCALE:GREGORIAN
METHOD:PUBLISH
X-WR-CALNAME:PerformanceMarketing.de
X-ORIGINAL-URL:https://www.performancemarketing.de
X-WR-CALDESC:Veranstaltungen für PerformanceMarketing.de
REFRESH-INTERVAL;VALUE=DURATION:PT1H
X-Robots-Tag:noindex
X-PUBLISHED-TTL:PT1H
BEGIN:VTIMEZONE
TZID:Europe/Berlin
BEGIN:DAYLIGHT
TZOFFSETFROM:+0100
TZOFFSETTO:+0200
TZNAME:CEST
DTSTART:20170326T010000
END:DAYLIGHT
BEGIN:STANDARD
TZOFFSETFROM:+0200
TZOFFSETTO:+0100
TZNAME:CET
DTSTART:20171029T010000
END:STANDARD
BEGIN:DAYLIGHT
TZOFFSETFROM:+0100
TZOFFSETTO:+0200
TZNAME:CEST
DTSTART:20180325T010000
END:DAYLIGHT
BEGIN:STANDARD
TZOFFSETFROM:+0200
TZOFFSETTO:+0100
TZNAME:CET
DTSTART:20181028T010000
END:STANDARD
BEGIN:DAYLIGHT
TZOFFSETFROM:+0100
TZOFFSETTO:+0200
TZNAME:CEST
DTSTART:20190331T010000
END:DAYLIGHT
BEGIN:STANDARD
TZOFFSETFROM:+0200
TZOFFSETTO:+0100
TZNAME:CET
DTSTART:20191027T010000
END:STANDARD
END:VTIMEZONE
BEGIN:VEVENT
DTSTART;VALUE=DATE:20180226
DTEND;VALUE=DATE:20180302
DTSTAMP:20260423T191149
CREATED:20180123T134217Z
LAST-MODIFIED:20180123T134425Z
UID:1547-1519603200-1519948799@www.performancemarketing.de
SUMMARY:Mobile World Congress 2018
DESCRIPTION:Mit mehr als 108.000 Teilnehmern und über 2.300 Ausstellern aus 208 Ländern ist der Mobile World Congress in Barcelona der weltweit größte Kongress für die Mobile Industrie. In diesem Jahr steht das Event unter dem Motto „Creating a Better Future“. Führende Köpfe aus der Industrie präsentieren ihre neuesten Produkte und Innovationen\, tauschen Ideen aus und zeigen\, wie Entwicklungen und Visionen aus der mobilen Welt für eine bessere Zukunft sorgen können. Keynotes kommen u.a. von Cher Wang (HTC)\, Christopher Young (McAfee)\, Vittorio Colao (Vodafone)\, Ricardo Antonio Rosselló Navares (Gouverneur von Puerto Rico)\, Kathy Calvin (United Nations Foundation) und Dr. Jim Yong Kim (Präsident der Weltbank).
URL:https://www.performancemarketing.de/event/mobile-world-congress-2018/
LOCATION:Fira Gran Via\, Av. Joan Carles I\, 64\, L’Hospitalet de Llobregat\, Barcelona\, 08908\, Spanien
CATEGORIES:Kongress
ORGANIZER;CN="GSM Association":MAILTO:info@gsma.com
END:VEVENT
BEGIN:VEVENT
DTSTART;VALUE=DATE:20180301
DTEND;VALUE=DATE:20180303
DTSTAMP:20260423T191149
CREATED:20171107T150436Z
LAST-MODIFIED:20171107T150436Z
UID:1452-1519862400-1520035199@www.performancemarketing.de
SUMMARY:SEO CAMPIXX 2018
DESCRIPTION:„Die einzig wahre SEO-Konferenz“ – nicht mehr und nicht weniger ist die SEO CAMPIXX. Hier treffen sich Spitzenvertreter aus der SEO-Szene (Freelancer\, Inhouse Mitarbeiter\, Agenturen und Gründer) und diskutieren im Networking bzw. in über 120 Vorträgen und Workshops über die aktuellen Themen und Entwicklungen in der Branche. Angesprochen werden hier auch Themen\, die man auf anderen Konferenzen nicht findet\, beispielsweise „Wie finde ich geeignete Mitarbeiter?“ oder „Welche Workflows funktionieren in Agenturen?“. Mehr als 100 Speaker stehen schon auf der Teilnehmerliste der SEO CAMPIXX 2018\, u.a. sind dies Stefan Fischerländer (Gipfelstolz GmbH)\, Nils Kattau (nilskattau.de)\, Janna Lucka (Bonprix)\, Andy Kalies (welt.de)\, Anke Probst (Xing AG) und Malte Landwehr (Searchmetrics).
URL:https://www.performancemarketing.de/event/seo-campixx-2018/
LOCATION:Hotel am Müggelsee\, Müggelheimer Damm 145\, Berlin\, 12559\, Deutschland
CATEGORIES:Konferenz
ORGANIZER;CN="SUMAGO GmbH":MAILTO:team@campixx.de
END:VEVENT
BEGIN:VEVENT
DTSTART;TZID=Europe/Berlin:20180301T080000
DTEND;TZID=Europe/Berlin:20180301T180000
DTSTAMP:20260423T191149
CREATED:20180206T175354Z
LAST-MODIFIED:20180206T175354Z
UID:1573-1519891200-1519927200@www.performancemarketing.de
SUMMARY:DIGITAL FUTUREcongress 2018
DESCRIPTION:Auf dem 6. Großen DIGITAL FUTUREcongress haben Entscheider die Möglichkeit\, an einem Tag alle ihre Themen auf der eigenen Digitalisierungs-Agenda mit Experten zu besprechen und Lösungen mit nach Hause zu nehmen. Der Kongress bietet mit rund 150 Ausstellern und 35 Vorträgen auf vier Bühnen eine umfassende Informationsmöglichkeit rund um das Thema Digitalisierung im Mittelstand. Darüber hinaus bietet sich Teilnehmern die Möglichkeit\, an verschiedenen Workshops teilzunehmen. \nDer Kongress ist in vier Themenbereiche untergliedert: 1. Online Marketing und Vertrieb\, 2. Prozessoptimierung und IT-Infrastruktur\, 3. Arbeit 4.0 – Neue Arbeitswelten\, HR\, Future Thinking und 4. Cyber-Security und Datenschutz. Als Keynote-Speaker werden 2018 u.a. erwartet: Peter Knapp (Samson AG)\, Arne Schönbohm (Präsident Bundesamt für Sicherheit in der Informationstechnik BSI)\, Stefan Peukert (Masterplan com GmbH) und Stephan Teinert (Wortmann AG).
URL:https://www.performancemarketing.de/event/digital-futurecongress-2018/
LOCATION:Messe Frankfurt\, Ludwig-Erhard-Anlage 1\, Frankfurt/Main\, 60327\, Deutschland
CATEGORIES:Kongress
ORGANIZER;CN="AMC Media Network GmbH & Co. KG":MAILTO:office@amc-media-network.de
END:VEVENT
BEGIN:VEVENT
DTSTART;TZID=Europe/Berlin:20180301T090000
DTEND;TZID=Europe/Berlin:20180301T170000
DTSTAMP:20260423T191149
CREATED:20180122T152100Z
LAST-MODIFIED:20180122T152100Z
UID:1542-1519894800-1519923600@www.performancemarketing.de
SUMMARY:AI Summit 2018
DESCRIPTION:Mit dem AI Summit findet in diesem Jahr zum ersten Mal direkt im Anschluss an den Big Data Summit eine Plattform für den Erfahrungsaustausch zwischen den Entscheidern für die strategische Orientierung im Bereich der Künstlichen Intelligenz statt. \nZahlreiche Herausforderungen lassen sich mittels AI effizient bewältigen und werden die digitale Zukunft maßgeblich mitbestimmen. Viele Unternehmen zögern heute jedoch noch\, AI-Prozesse in ihren Unternehmensalltag einzubinden\, da ihnen das Verhältnis von Aufwand und Nutzen nicht klar genug erscheint. Hier will der AI Summit aufklären\, informieren und Projekte voranbringen. \nAls Speaker werden u.a. erwartet: Hilmar Buchta (Oraylis)\, Thomas Dapp (KfW Bankengruppe)\, Dr. Arnab Dutta (mobile.de)\, Wolfgang Füssel (Consorsbank) und Marcel Kling (Lufthansa). Am Tag vor dem AI Summit findet am selben Veranstaltungsort der Big Data Summit statt. Für beide Events sind Kombitickets erhältlich.
URL:https://www.performancemarketing.de/event/ai-summit-2018/
LOCATION:Congress Park Hanau\, Schlossplatz 1\, Hanau\, 63450\, Deutschland
CATEGORIES:Konferenz
ORGANIZER;CN="Bitkom e.V / Bitkom Servicegesellschaft mbH":MAILTO:f.klaska@bitkom-service.de
END:VEVENT
BEGIN:VEVENT
DTSTART;VALUE=DATE:20180306
DTEND;VALUE=DATE:20180307
DTSTAMP:20260423T191149
CREATED:20180129T143000Z
LAST-MODIFIED:20180129T144200Z
UID:1564-1520294400-1520380799@www.performancemarketing.de
SUMMARY:New Work Experience 2018
DESCRIPTION:Nach der erfolgreichen Premiere im vergangenen Jahr findet am 6. März 2018 die zweite Runde der größten deutschsprachigen Konferenz zur Zukunft der Arbeit statt. Die New Work Experience bietet in Zeiten zunehmender Digitalisierung nicht nur eine große Bühne\, sondern auch eine intensive Austauschplattform zu bevorstehenden und bereits begonnenen Transformationen in der Arbeitswelt. Erleben Sie spannende Vordenker und Gewinner des New Work Awards auf der Bühne der spektakulären Hamburger Elbphilharmonie und begegnen Sie inspirierenden Menschen\, die Ihr persönliches Netzwerk bereichern. Als Speaker sind in diesem Jahr u.a. dabei: Thomas Sattelberger (Publizist\, Bundestagsabgeordneter)\, Janina Kugel (Siemens AG)\, Richard David Precht (Publizist\, Philosoph)\, Götz Werner (dm-Gründer)\, Dr. Sarah Müller (kununu) und Günter Pecht-Seibert (SAP).
URL:https://www.performancemarketing.de/event/new-work-experience-2018/
LOCATION:Elbphilharmonie Hamburg\, Platz der Deutschen Einheit 1\, Hamburg\, 20457\, Deutschland
CATEGORIES:Konferenz
ORGANIZER;CN="Xing New Work Experience Team":MAILTO:newwork@xing.com
END:VEVENT
BEGIN:VEVENT
DTSTART;VALUE=DATE:20180306
DTEND;VALUE=DATE:20180308
DTSTAMP:20260423T191149
CREATED:20180124T130026Z
LAST-MODIFIED:20180124T130026Z
UID:1552-1520294400-1520467199@www.performancemarketing.de
SUMMARY:CMCX 2018
DESCRIPTION:Seit 2011 ist die CMCX die Leitveranstaltung für alle Marketer\, die ihr Content-Marketing verbessern wollen. Die CMCX ist nicht nur die einzig echte Content-Marketing-Messe im deutschsprachigen Raum\, sie bietet auch eine einzigartige Bandbreite und Qualität. Hier trifft sich alles\, was in der Branche Rang und Namen hat\, diskutiert über aktuelle Trends und Entwicklungen und zeigt nachhaltige Content-Strategien auf. Mit mehr als 4.000 Teilnehmern kommen auch das Networking und der Erfahrungsaustusch mit den Schrittmachern der Szene nicht zu kurz. 2018 werden u.a. diese Speaker auf der Bühne erwartet: Dr. Nils Daecke (Henkel)\, Norman Nielsen (Zalando)\, Dr. Michael Schmidtke (Bosch)\, Dieter Lutz (Bahlsen)\, Thorsten Eder (Saturn) und Micky Beisenherz (Autor/Moderator).
URL:https://www.performancemarketing.de/event/cmcx-2018/
LOCATION:Messe München\, Messegelände\, München\, 81823\, Deutschland
CATEGORIES:Konferenz
ORGANIZER;CN="Contilla GmbH - Interaktives Content-Marketing":MAILTO:cmcx@contilla.de
END:VEVENT
BEGIN:VEVENT
DTSTART;VALUE=DATE:20180314
DTEND;VALUE=DATE:20180315
DTSTAMP:20260423T191149
CREATED:20180112T143236Z
LAST-MODIFIED:20180112T143236Z
UID:1528-1520985600-1521071999@www.performancemarketing.de
SUMMARY:Sales Marketing Messe 2018
DESCRIPTION:Die Sales Marketing Messe München ist die Top-Adresse für innovative Marktstrategien. Unter dem Motto „Kunden finden\, Kunden binden – Impulse für den Vertrieb“ treffen sich auf der eintägigen Messe Geschäftsführer\, Marketing- und Vertriebsleiter von großen Konzernen und mittelständischen Unternehmen\, um sich über aktuelle Trends und die derzeit angesagtesten Marketing- und Vertriebsstrategien zu informieren. Auf der Themenliste für 2018 stehen u.a. Dialog-Marketing\, Social Media\, Marketing Automation\, POS-Design und CRM.
URL:https://www.performancemarketing.de/event/sales-marketing-messe-2018/
LOCATION:MOC München\, Lilienthalallee 40\, München\, 80939\, Deutschland
CATEGORIES:Messe
ORGANIZER;CN="Netcomm GmbH":MAILTO:info@netcomm-gmbh.de
END:VEVENT
BEGIN:VEVENT
DTSTART;TZID=Europe/Berlin:20180315T090000
DTEND;TZID=Europe/Berlin:20180315T180000
DTSTAMP:20260423T191149
CREATED:20180205T145202Z
LAST-MODIFIED:20180205T145202Z
UID:1568-1521104400-1521136800@www.performancemarketing.de
SUMMARY:WebSuccess 2018
DESCRIPTION:2018 findet die zweite Auflage der WebSuccess in Köln statt. Die Marketing-Messe für den Mittelstand bietet eine umfassende Bandbreite an Vorträgen und Workshops aus den unterschiedlichsten Bereichen des Online-Marketings. Flankiert wird die Konferenz von einer Fachausstellung. \nTeilnehmer erfahren hier z.B.\, wie sie ihr Unternehmen in Zeiten der Digitalisierung mit Hilfe von SEA und SEO fit für die Zukunft machen\, über den eigenen Internetauftritt mehr potenzielle Kunden generieren und wie sie soziale Medien sowie E-Mail oder Video-Marketing erfolgreich für Werbung oder die Unternehmens- und Kundenkommunikation einsetzen können. Daneben bietet die WebSuccess ausreichend Gelegenheit\, mit Experten\, Entscheidern und Unternehmern ins Gespräch zu kommen und das eigene Netzwerk auszubauen.
URL:https://www.performancemarketing.de/event/websuccess-2018/
LOCATION:Barthonia Showroom\, Vogelsanger Straße 66\, Köln\, 50823\, Deutschland
CATEGORIES:Konferenz
ORGANIZER;CN="FAIRRANK GmbH":MAILTO:kontakt@fairrank.de
END:VEVENT
BEGIN:VEVENT
DTSTART;VALUE=DATE:20180320
DTEND;VALUE=DATE:20180321
DTSTAMP:20260423T191149
CREATED:20180119T143339Z
LAST-MODIFIED:20180119T143339Z
UID:1537-1521504000-1521590399@www.performancemarketing.de
SUMMARY:AllFacebook Marketing Conference 2018
DESCRIPTION:Die AllFacebook Marketing Conference 2018 findet parallel zur SMX statt. Für einen Tag wird München so zu dem Ort für Social Media Marketing. Ob Facebook\, Instagram\, WhatsApp\, Pinterest\, Twitter oder Youtube – hier erfahren Sie\, wie Sie diese Dienste optimal für ihren Unternehmensalltag einsetzen können. Tauschen Sie sich mit Mitstreitern aus der Branche über aktuelle News und Trends aus und kommen Sie mit neuen Ideen\, Strategien und Konzepten nach Hause. Die AllFacebook Marketing Conference findet auf vier Bühnen gleichzeitig statt. Die Besucher dürfen sich auf spannende Vorträge von mehr als 40 Speakern freuen – dazu gehören in diesem Jahr u.a. Xochilt Balzola-Widmann (Facebook)\, Christoph Assmann (Sixt)\, Magdalena Rogl (Microsoft Deutschland)\, Sascha Pallenberg (Daimler) und Torben Einicke (F9).
URL:https://www.performancemarketing.de/event/allfacebook-marketing-conference-2018/
LOCATION:ICM Internationales Congress Centrum München\, Messegelände\, München\, 81823\, Deutschland
CATEGORIES:Konferenz
ORGANIZER;CN="Rising Media Ltd":MAILTO:info@risingmedia.com
END:VEVENT
BEGIN:VEVENT
DTSTART;VALUE=DATE:20180320
DTEND;VALUE=DATE:20180322
DTSTAMP:20260423T191149
CREATED:20180119T141728Z
LAST-MODIFIED:20180119T141728Z
UID:1534-1521504000-1521676799@www.performancemarketing.de
SUMMARY:SMX München 2018
DESCRIPTION:SEO+SEA=SMX. Am 20. und 21. März 2018 ist es wieder soweit: Die SMX München öffnet ihre Pforten und steht in diesem Jahr unter dem Motto „Mobile\, Customer Centricity and the Dawn of Artificial Intelligence“. Mehr als 1.600 Besucher werden zu 10 Thementracks\, 7 Workshops und mehr als 60 Sessions erwartet. Über 80 Referenten stellen Neuheiten\, Trends und spannende Entwicklungen aus ihren Themenbereichen vor. Was bedeuten SEO und SEA in einer Customer Centric-Welt\, was ist heute bereits mit Artificial Intelligence umsetzbar\, was erwartet uns? Die Keynotes kommen 2018 von Greg Gifford (DealerOn)\, Larry Kim (MobileMonkey)\, Lisa Myers (verve search) und Johannes Schaback (LadenZeile.de).
URL:https://www.performancemarketing.de/event/smx-muenchen-2018/
LOCATION:ICM Internationales Congress Centrum München\, Messegelände\, München\, 81823\, Deutschland
CATEGORIES:Konferenz
ORGANIZER;CN="Rising Media Ltd":MAILTO:info@risingmedia.com
END:VEVENT
BEGIN:VEVENT
DTSTART;VALUE=DATE:20180322
DTEND;VALUE=DATE:20180324
DTSTAMP:20260423T191149
CREATED:20180124T124340Z
LAST-MODIFIED:20180124T124340Z
UID:1550-1521676800-1521849599@www.performancemarketing.de
SUMMARY:Online Marketing Rockstars Festival 2018
DESCRIPTION:Das Online Marketing Rockstars Festival bietet auch in diesem Jahr die neuesten Marketing-Insights und die großen Stars der Szene hautnah. Auf zwei Expo-Stages erwarten die mehr als 40.000 Besucher mehr als 300 Top-Speaker\, die die Zuhörer mit konkreten Tipps\, Ideen und News aus der Praxis versorgen\, das anschließend in mehr als 120 exklusiven Masterclasses in 90-minütigen Sessions vertieft werden kann. Die angeschlossene Expo beherbergt mehr als 300 Aussteller. Als Highlight-Speaker sind u.a. bereits angekündigt: Sophia Amoruso (Girlboss Media)\, Kayla Itsines (Fitness-Star)\, Nate Silver (FiveThirtyEight)\, Tim Urban (Wait But Why) und Lars Ulrich (Metallica). Abends bleibt auf drei großen Party-Events ausreichend Zeit\, Ideen auszutauschen und das eigene Netzwerk zu erweitern.
URL:https://www.performancemarketing.de/event/online-marketing-rockstars-festival-2018/
LOCATION:Messe Hamburg\, Messeplatz 1\, Hamburg\, 20357\, Deutschland
CATEGORIES:Konferenz
ORGANIZER;CN="ramp106 GmbH":MAILTO:info@onlinemarketingrockstars.de
END:VEVENT
END:VCALENDAR