BEGIN:VCALENDAR
VERSION:2.0
PRODID:-//PerformanceMarketing.de - ECPv6.15.20//NONSGML v1.0//EN
CALSCALE:GREGORIAN
METHOD:PUBLISH
X-WR-CALNAME:PerformanceMarketing.de
X-ORIGINAL-URL:https://www.performancemarketing.de
X-WR-CALDESC:Veranstaltungen für PerformanceMarketing.de
REFRESH-INTERVAL;VALUE=DURATION:PT1H
X-Robots-Tag:noindex
X-PUBLISHED-TTL:PT1H
BEGIN:VTIMEZONE
TZID:Europe/Berlin
BEGIN:DAYLIGHT
TZOFFSETFROM:+0100
TZOFFSETTO:+0200
TZNAME:CEST
DTSTART:20160327T010000
END:DAYLIGHT
BEGIN:STANDARD
TZOFFSETFROM:+0200
TZOFFSETTO:+0100
TZNAME:CET
DTSTART:20161030T010000
END:STANDARD
BEGIN:DAYLIGHT
TZOFFSETFROM:+0100
TZOFFSETTO:+0200
TZNAME:CEST
DTSTART:20170326T010000
END:DAYLIGHT
BEGIN:STANDARD
TZOFFSETFROM:+0200
TZOFFSETTO:+0100
TZNAME:CET
DTSTART:20171029T010000
END:STANDARD
BEGIN:DAYLIGHT
TZOFFSETFROM:+0100
TZOFFSETTO:+0200
TZNAME:CEST
DTSTART:20180325T010000
END:DAYLIGHT
BEGIN:STANDARD
TZOFFSETFROM:+0200
TZOFFSETTO:+0100
TZNAME:CET
DTSTART:20181028T010000
END:STANDARD
END:VTIMEZONE
BEGIN:VEVENT
DTSTART;VALUE=DATE:20171204
DTEND;VALUE=DATE:20171206
DTSTAMP:20260423T232313
CREATED:20170912T133810Z
LAST-MODIFIED:20170912T133810Z
UID:1364-1512345600-1512518399@www.performancemarketing.de
SUMMARY:TechCrunch Disrupt Berlin
DESCRIPTION:Im Dezember heißt es wieder „Vorhang auf“ für die TechCrunch Disrupt in Berlin! Hier können sich neue Startups mit ihren innovativen Ideen und Lösungen vorstellen und mit Investoren und hochrangigen Entscheidungsträgern aus bekannten Unternehmen zusammentreffen. Auf der TechCrunch Disrupt werden nicht nur die neuesten Trends und Entwicklungen diskutiert\, auch das Netzwerken darf nicht zu kurz kommen. Die Top-Startups können sich im „Startup Battlefield“ messen und einen Preis im Wert von 50.000 Euro gewinnen. Auf der „Startup Alley“ können Startups ihre Produkte und Ideen präsentieren und miteinander ins Gespräch kommen. Im „Hackathon“ kreieren Entwickler-Teams ein neues Produkt innerhalb von 24 Stunden. Abgerundet wird die Veranstaltung durch spannende Vorträge\, zu denen u.a. Tania Boler (Chiaro)\, Jan Hammer (Index)\, Christian Nagel (Earlybird) und Avid Larizadeh (Google Ventures) auf der Bühne erwartet werden.
URL:https://www.performancemarketing.de/event/techcrunch-disrupt-berlin/
LOCATION:ARENA Berlin\, Eichenstraße 4\, Berlin\, 12435\, Deutschland
CATEGORIES:Konferenz
ORGANIZER;CN="TechCrunch":MAILTO:events@techcrunch.com
END:VEVENT
BEGIN:VEVENT
DTSTART;VALUE=DATE:20171206
DTEND;VALUE=DATE:20171207
DTSTAMP:20260423T232313
CREATED:20171103T141247Z
LAST-MODIFIED:20171103T142039Z
UID:1446-1512518400-1512604799@www.performancemarketing.de
SUMMARY:Google Cloud Summit Munich 2017
DESCRIPTION:Was leistet die Google Cloud\, in welchen Bereichen kann sie strategisch und effizient eingesetzt werden\, welche neuen Ideen und Konzepte lassen sich mit der Google Cloud umsetzen? Diesen und vielen weiteren spannenden Fragen widmet sich der Google Cloud Summit in München. \nIn mehr als 20 Sessions erfahren Einsteiger wie Experten alles zu Themenkomplexen wie „Big Data & Machine Learning“\, „Application Development“\, Infrastructure & Operations“ und „Google Cloud for Startups“. Daneben darf natürlich der Gedankenaustausch sowie das beliebte Netzwerken nicht zu kurz kommen. \nAls Speaker werden zahlreiche Google-Experten der Sparten Cloud\, Apps und Maps wie Thomas Lichtenstein\, Tom Grey\, Jens Kuehlers\, Gustav Maskowitz\, Vincent Reveilhac oder Kim Gaddy sowie von Partnerunternehmen wie Intel\, ABN Amro oder Delivery Hero erwartet.
URL:https://www.performancemarketing.de/event/google-cloud-summit-munich-2017/
LOCATION:ICM Internationales Congress Centrum München\, Messegelände\, München\, 81823\, Deutschland
CATEGORIES:Konferenz
ORGANIZER;CN="Google LLC":MAILTO:support-de@google.com
END:VEVENT
END:VCALENDAR