BEGIN:VCALENDAR
VERSION:2.0
PRODID:-//PerformanceMarketing.de - ECPv6.15.20//NONSGML v1.0//EN
CALSCALE:GREGORIAN
METHOD:PUBLISH
X-ORIGINAL-URL:https://www.performancemarketing.de
X-WR-CALDESC:Veranstaltungen für PerformanceMarketing.de
REFRESH-INTERVAL;VALUE=DURATION:PT1H
X-Robots-Tag:noindex
X-PUBLISHED-TTL:PT1H
BEGIN:VTIMEZONE
TZID:Europe/Berlin
BEGIN:DAYLIGHT
TZOFFSETFROM:+0100
TZOFFSETTO:+0200
TZNAME:CEST
DTSTART:20160327T010000
END:DAYLIGHT
BEGIN:STANDARD
TZOFFSETFROM:+0200
TZOFFSETTO:+0100
TZNAME:CET
DTSTART:20161030T010000
END:STANDARD
BEGIN:DAYLIGHT
TZOFFSETFROM:+0100
TZOFFSETTO:+0200
TZNAME:CEST
DTSTART:20170326T010000
END:DAYLIGHT
BEGIN:STANDARD
TZOFFSETFROM:+0200
TZOFFSETTO:+0100
TZNAME:CET
DTSTART:20171029T010000
END:STANDARD
BEGIN:DAYLIGHT
TZOFFSETFROM:+0100
TZOFFSETTO:+0200
TZNAME:CEST
DTSTART:20180325T010000
END:DAYLIGHT
BEGIN:STANDARD
TZOFFSETFROM:+0200
TZOFFSETTO:+0100
TZNAME:CET
DTSTART:20181028T010000
END:STANDARD
END:VTIMEZONE
BEGIN:VEVENT
DTSTART;VALUE=DATE:20171102
DTEND;VALUE=DATE:20171104
DTSTAMP:20260424T004255
CREATED:20170907T130926Z
LAST-MODIFIED:20170907T130926Z
UID:1352-1509580800-1509753599@www.performancemarketing.de
SUMMARY:Silicon Pauli Patrons Program 2017
DESCRIPTION:Das  „Silicon Pauli Patrons Program“ geht 2017 in seine zweite Runde. Bei dem zweitägigen Workshop helfen erfahrene Kreative und Unternehmer ambitionierten Gründern bei der Entwicklung ihres Produkts. Insgesamt sechs innovative Startups werden dazu in die Hamburger Speicherstadt eingeladen und von erfolgreichen Patrons wie Ann-Kathrin Rahe\, Malte Tietjen\, Till Hinrichs und den Gründern des „Silicon Pauli Patrons Program“ Nicolas Kittner und Stefan Kolle gecoacht. Erfolgreiche Jungunternehmer präsentieren abschließend ihre eigene Gründungs- und Erfolgsgeschichte. Dies sind 2017 Samia Haimura (Securella)\, Tarek Müller (ABOUT YOU) und Henning Weiss (25hours Hotels).
URL:https://www.performancemarketing.de/event/silicon-pauli-patrons-program-2017/
LOCATION:Wasserschloss Speicherstadt Hamburg\, Dienerreihe 4\, Hamburg\, 20457\, Deutschland
CATEGORIES:Workshop
ORGANIZER;CN="Nicolas Kittner":MAILTO:nk@siliconpauli.com
END:VEVENT
BEGIN:VEVENT
DTSTART;TZID=Europe/Berlin:20171109T111500
DTEND;TZID=Europe/Berlin:20171109T111500
DTSTAMP:20260424T004255
CREATED:20170825T123925Z
LAST-MODIFIED:20170825T123925Z
UID:1306-1510226100-1510226100@www.performancemarketing.de
SUMMARY:Affiliate Conference 2017
DESCRIPTION:Die Affiliate Conference bietet Einblicke in aktuelle Themen und Trends in der Affiliate-Branche. Angesprochen werden Affiliates\, Advertiser\, Affiliate-Manager\, Online Marketing-Leiter und Geschäftsführer aus allen Branchen. In insgesamt 13 kompakten 20-Minuten-Vorträgen erhalten die Teilnehmer die neuesten Informationen von führenden Speakern aus der Affiliate-Szene. 2017 sind die Schwerpunktthemen Partnerprogramme\, Customer-Journey-Tracking\, Mobile Marketing und Programmatic Advertising. Als Speaker werden u.a. Markus Kellermann (xpose360)\, Martin Riess (Awin)\, Adam Opuchlik (Traffective) und Hakan Özal (financeAds) auf der Bühne stehen. Abgerundet wird die Veranstaltung am Abend mit der traditionellen Affiliate Networkxx.
URL:https://www.performancemarketing.de/event/affiliate-conference-2017/
LOCATION:municon\, Flughafen München\, Terminalstraße Mitte 18\, München\, 85356\, Deutschland
CATEGORIES:Konferenz
ORGANIZER;CN="xpose360 GmbH":MAILTO:kontakt@affiliate-conference.de
END:VEVENT
BEGIN:VEVENT
DTSTART;TZID=Europe/Berlin:20171109T190000
DTEND;TZID=Europe/Berlin:20171109T190000
DTSTAMP:20260424T004255
CREATED:20170825T131154Z
LAST-MODIFIED:20170825T131314Z
UID:1308-1510254000-1510254000@www.performancemarketing.de
SUMMARY:Affiliate NetworkxX November 2017
DESCRIPTION:Die Affiliate NetworxX findet zwei Mal jährlich statt\, im Herbst traditionell als Ausklang der vorab abgehaltenen Affiliate Conference. Das Networking-Event wurde 2005 von Markus Kellermann (xpose360) ins Leben gerufen und ist heute mit mehr als 800 Teilnehmern (Agenturen\, Affiliates\, Affiliate-Netzwerke\, Merchants) die größte Veranstaltung ihrer Art im deutschsprachigen Raum. In gemütlicher Atmosphäre können die Teilnehmer hier Themen\, Trends und Branchen-News diskutieren oder einfach das eigene Netzwerk pflegen. Beim „Speed-Networking“ bietet sich zudem die Gelegenheit\, in vier Runden jeweils bis zu sieben neue Kontakte zu knüpfen.
URL:https://www.performancemarketing.de/event/affiliate-networkxx-november-2017/
LOCATION:Airbräu-Tenne\, Flughafen München\, Terminalstraße Mitte 18\, München\, 85356\, Deutschland
CATEGORIES:Event
ORGANIZER;CN="Oliro GmbH":MAILTO:team@oliro.com
END:VEVENT
BEGIN:VEVENT
DTSTART;VALUE=DATE:20171113
DTEND;VALUE=DATE:20171115
DTSTAMP:20260424T004255
CREATED:20170907T134705Z
LAST-MODIFIED:20170911T141253Z
UID:1356-1510531200-1510703999@www.performancemarketing.de
SUMMARY:EXECinsurtech
DESCRIPTION:Die EXECinsurtech verbindet all jene\, die die Versicherungswelt von morgen gestalten. Ob innovatives Startup\, Unternehmer aus der Versicherungsbranche oder Investoren – die EXECinsurtech bietet für alle die richtige Plattform. Mehr als 500 Teilnehmer\, 50 Startups\, die ihre Ideen und Produkte präsentieren\, spannende Networking-Sessions mit Speed-Dating\, Workshops und Masterclasses\, Expertentische und natürlich informative Keynotes – das alles und noch viel mehr erwartet die Attendees auf der EXECinsurtech\, die in diesem Jahr zum zweiten Mal in Köln stattfindet. Als Speaker werden u.a. Eran Davidson (Davidson Technology Growth Debt)\, Florian Graillot (AXA)\, Timo Dreger (Helvitia Germany) und Lars Markull (figo) erwartet.
URL:https://www.performancemarketing.de/event/execinsurtech/
LOCATION:Koelnmesse\, Messeplatz 1\, Köln\, 50679\, Deutschland
CATEGORIES:Konferenz
ORGANIZER;CN="Jolly Roger UG":MAILTO:info@pirate.global
END:VEVENT
BEGIN:VEVENT
DTSTART;VALUE=DATE:20171115
DTEND;VALUE=DATE:20171117
DTSTAMP:20260424T004255
CREATED:20171107T155231Z
LAST-MODIFIED:20171107T155231Z
UID:1456-1510704000-1510876799@www.performancemarketing.de
SUMMARY:LAWC Latin America Wholesale Congress 2017
DESCRIPTION:Der Latin America Wholesale Congress (LAWC) ist eines der wichtigsten Ereignisse in der Region. Über 400 Teilnehmer sowie mehr als 150 Firmen aus allen Bereichen der Großhandelsbranche (u.a. Carrierer\, Mobilfunkbetreiber\, ISPs\, VoIP-Provider und Technologiepartner aus den Branchen Sprache\, Daten\, Satellit oder Festnetz) nehmen an der Tagung mit umfangreichem Programm teil. Neben Vorträgen und Meetings kommt natürlich auch das Netzwerken nicht zu kurz. Hierfür stehen u.a. ein eigenes Messaging-System sowie Meeting-Suiten zur Verfügung.
URL:https://www.performancemarketing.de/event/lawc-latin-america-wholesale-congress-2017/
LOCATION:Sheraton Libertador Hotel\, Córdoba Avenue 690\, Buenos Aires\, 1054\, Argentinien
CATEGORIES:Kongress
ORGANIZER;CN="Wholesale Congress Series":MAILTO:info@wholesalecongress.com
END:VEVENT
BEGIN:VEVENT
DTSTART;VALUE=DATE:20171118
DTEND;VALUE=DATE:20171120
DTSTAMP:20260424T004255
CREATED:20171103T133858Z
LAST-MODIFIED:20171103T134156Z
UID:1439-1510963200-1511135999@www.performancemarketing.de
SUMMARY:WordCamp Cologne 2017
DESCRIPTION:Über 75 Millionen Webseiten werden mittlerweile mit WordPress\, dem weltweit führenden Content-Management-System\, betrieben. Von WordPress-Nutzern werden regelmäßig sogenannte WordCamps\, informelle Community-Veranstaltungen\, bei denen sich Einsteiger wie Core-Entwickler treffen\, Neues lernen oder Ideen austauschen können\, veranstaltet. \nAm 18. und 19. November findet das WordCamp Cologne 2017 in der HMKW Hochschule für Medien\, Kommunikation und Wirtschaft in Köln statt. Das WordCamp wird als BarCamp stattfinden\, alle Session-Themen werden somit nach einer Vorstellungsrunde erst am ersten Veranstaltungstag festgelegt. \nAm Tag vor dem Start des WordCamp Cologne 2017 gibt es am 17. November den „Contributor Day“ in der Kölner Microsoft-Niederlassung im Rheinauhafen. Hier soll in verschiedenen Bereichen ein Beitrag zum WordPress Open Source-Projekt geleistet werden\, z.B. durch Theme-Reviews\, Übersetzungen oder Support für WordPress-User.
URL:https://www.performancemarketing.de/event/wordcamp-cologne-2017/
LOCATION:HMKW Hochschule für Medien\, Kommunikation und Wirtschaft\, Höninger Weg 139\, Köln\, 50969\, Deutschland
CATEGORIES:Konferenz
ORGANIZER;CN="WordPress Community Support%2C PBC":MAILTO:cologne@wordcamp.org
END:VEVENT
BEGIN:VEVENT
DTSTART;VALUE=DATE:20171122
DTEND;VALUE=DATE:20171124
DTSTAMP:20260424T004255
CREATED:20170911T144429Z
LAST-MODIFIED:20170911T144733Z
UID:1359-1511308800-1511481599@www.performancemarketing.de
SUMMARY:Start-up Kooperation Automotive & Mobility
DESCRIPTION:Sprachsteuerung\, Batteriemanagement oder Gesten-Erkennung: Die Automobilhersteller und ihre Zulieferer werden mehr und mehr zu elektrisch-autonomen Dienstleistern. Eine entscheidende Rolle in diesem Prozess spielen Startups mit immer neuen Innovationen und Technologien. Auf der von der „Süddeutscher Verlag Veranstaltungen GmbH“ organisierten 2. Fachkonferenz unter dem Titel „Start-up Kooperation Automotive & Mobility“ kommen Gründer und Entscheider zusammen. Wie können beide Seiten von einer Kooperation profitieren? Welche Anforderungen stellen Startups an Corporates? Diesen und vielen weiteren Fragen soll bei der Fachkonferenz nachgegangen werden. Hochkarätige Entscheider von BWM\, Daimler\, Porsche sowie bereits etablierte Startups berichten über ihre Erfahrungen. Ebenso können sich Aussteller vor Ort präsentieren und natürlich kommt auch das beliebte Netzwerken nicht zu kurz.
URL:https://www.performancemarketing.de/event/start-up-kooperation-automotive-mobility/
LOCATION:nestor Hotel Ludwigsburg\, Stuttgarter Strasse 35/2\, Ludwigsburg\, 71638\, Deutschland
CATEGORIES:Konferenz
ORGANIZER;CN="S%C3%BCddeutscher Verlag Veranstaltungen GmbH":MAILTO:info@sv-veranstaltungen.de
END:VEVENT
END:VCALENDAR