BEGIN:VCALENDAR
VERSION:2.0
PRODID:-//PerformanceMarketing.de - ECPv6.15.20//NONSGML v1.0//EN
CALSCALE:GREGORIAN
METHOD:PUBLISH
X-WR-CALNAME:PerformanceMarketing.de
X-ORIGINAL-URL:https://www.performancemarketing.de
X-WR-CALDESC:Veranstaltungen für PerformanceMarketing.de
REFRESH-INTERVAL;VALUE=DURATION:PT1H
X-Robots-Tag:noindex
X-PUBLISHED-TTL:PT1H
BEGIN:VTIMEZONE
TZID:Europe/Berlin
BEGIN:DAYLIGHT
TZOFFSETFROM:+0100
TZOFFSETTO:+0200
TZNAME:CEST
DTSTART:20160327T010000
END:DAYLIGHT
BEGIN:STANDARD
TZOFFSETFROM:+0200
TZOFFSETTO:+0100
TZNAME:CET
DTSTART:20161030T010000
END:STANDARD
BEGIN:DAYLIGHT
TZOFFSETFROM:+0100
TZOFFSETTO:+0200
TZNAME:CEST
DTSTART:20170326T010000
END:DAYLIGHT
BEGIN:STANDARD
TZOFFSETFROM:+0200
TZOFFSETTO:+0100
TZNAME:CET
DTSTART:20171029T010000
END:STANDARD
BEGIN:DAYLIGHT
TZOFFSETFROM:+0100
TZOFFSETTO:+0200
TZNAME:CEST
DTSTART:20180325T010000
END:DAYLIGHT
BEGIN:STANDARD
TZOFFSETFROM:+0200
TZOFFSETTO:+0100
TZNAME:CET
DTSTART:20181028T010000
END:STANDARD
END:VTIMEZONE
BEGIN:VEVENT
DTSTART;VALUE=DATE:20170622
DTEND;VALUE=DATE:20170624
DTSTAMP:20260424T074459
CREATED:20170126T132902Z
LAST-MODIFIED:20170126T132902Z
UID:1007-1498089600-1498262399@www.performancemarketing.de
SUMMARY:K5 - The Future Retail Conference
DESCRIPTION:Die K5 – The Future Retail Conference steht 2017 unter dem Motto „Thriving in a World of Platforms“. Im Kern der zweitägigen Konferenz soll die Frage stehen „Wie\, Was und vor allem Wer gestaltet den Handel von morgen?“. Die Strategie- und Wachstumskonferenz mit den Schwerpunkten Marktplatz und Mobile-Strategien bietet neben Top-Vorträgen mit Speakern wie Dr. Johannes Steegmann (REWE Digital)\, Dr. Cornelius Patt (Zooplus)\, Max Wittrock (MyMuesli) oder Dr. Florian Heinemann (Project A Ventures) eine begleitende Ausstellung mit mehr als 100 Ausstellern auf 10.000 m² Fläche. Bei über 5.000 Teilnehmern bieten sich ebenso zahlreiche Gelegenheiten\, sich über neueste Trends\, Innovationen oder maßgeschneiderte Businesslösungen auszutauschen. Für Hersteller\, Retailer und Dienstleister in der deutschen Handelsbranche ist die K5 daher ebenso ein Must-Event wie für alle\, die die Zukunft des Handels entscheidend mitgestalten wollen.
URL:https://www.performancemarketing.de/event/k5-the-future-retail-conference/
LOCATION:Estrel Congress Center\, Sonnenallee 225\, Berlin\, 12057\, Deutschland
CATEGORIES:Konferenz
ORGANIZER;CN="K5 GmbH":MAILTO:schluepmann@k5-gmbh.com
END:VEVENT
BEGIN:VEVENT
DTSTART;VALUE=DATE:20170623
DTEND;VALUE=DATE:20170624
DTSTAMP:20260424T074459
CREATED:20170207T132943Z
LAST-MODIFIED:20170207T132943Z
UID:1029-1498176000-1498262399@www.performancemarketing.de
SUMMARY:OMLIVE
DESCRIPTION:100 Prozent Online Marketing Know-How – nicht mehr und nicht weniger erwartet die Teilnehmer auch in diesem Jahr wieder bei der OMLIVE in Berlin. Die Crème de la Crème der Online Marketing Branche versammelt sich in diesem Jahr an einem ganz besonderen Ort: In „Huxleys Neue Welt“ geht es um Trends und Innovationen aus den Bereichen SEO\, SEA\, E-Mail-Marketing\, Social Media Marketing\, Machine Learning und Marketing Automation. Auch in diesem Jahr sind wieder Top-Speaker am Start\, so stehen u.a. Karl Kratz (karlsCORE)\, Andreas Bruckschlögl (OnPage.org)\, Alexander Staats van Rahden (comdirect) und Anke Probst (Xing) auf der Bühne. Natürlich bleibt zwischen den Vorträgen sowie auf der anschließenden Aftershow-Party auch noch genügend Zeit zum netzwerken. Bevor die Party richtig startet\, werden außerdem die legendären OMLIVE Best Speaker Awards vergeben.
URL:https://www.performancemarketing.de/event/omlive/
LOCATION:Huxleys Neue Welt Berlin\, Hasenheide 107\, Berlin\, 10967\, Deutschland
CATEGORIES:Konferenz
ORGANIZER;CN="Nils Kattau":MAILTO:info@om.live
END:VEVENT
BEGIN:VEVENT
DTSTART;VALUE=DATE:20170623
DTEND;VALUE=DATE:20170624
DTSTAMP:20260424T074459
CREATED:20170407T134623Z
LAST-MODIFIED:20170407T134623Z
UID:1073-1498176000-1498262399@www.performancemarketing.de
SUMMARY:affiliate Marketing Expo
DESCRIPTION:Bei der affiliate Marketing Expo geht es vorranging um das Thema Netzwerken: Stellen Sie ihre Produkte und Ideen vor\, lernen Sie neue Partner kennen oder tauschen Sie sich über die neuesten Trends und Innovationen mit Partnern\, Freunden und Kollegen in entspannter Atmosphäre aus. Mit mehr als 400 Teilnehmern gehört die affiliate Marketing Expo zu den Big Playern unter den Affiliate-Konferenzen. Natürlich gibt es auch wieder zahlreiche Workshops und spannende Themen auf der Bühne. Als Speaker stehen u.a. Helen Southgate (Affilinet)\, Graham Jenner (TopCashBack) oder Andrew Turner (NMPi) fest. Neu in diesem Jahr ist die im Anschluss an die eigentliche Konferenz stattfindende Blogger-Party\, wo Content Publisher mit Advertisern zusammengeführt werden sollen. Lernen Sie neue Leute kennen\, lassen Sie sich von spannenden Ideen inspirieren und bringen Sie so ihr Produkt weiter nach vorne!
URL:https://www.performancemarketing.de/event/affiliate-marketing-expo/
LOCATION:Hilton London Metropole\, 225 Edgware Rd\, London\, W2 1JU\, Großbritannien (Vereinigtes Königreich)
CATEGORIES:Konferenz
ORGANIZER;CN="":MAILTO:enquires@affiliateexpo.co.uk
END:VEVENT
END:VCALENDAR