BEGIN:VCALENDAR
VERSION:2.0
PRODID:-//PerformanceMarketing.de - ECPv6.15.20//NONSGML v1.0//EN
CALSCALE:GREGORIAN
METHOD:PUBLISH
X-ORIGINAL-URL:https://www.performancemarketing.de
X-WR-CALDESC:Veranstaltungen für PerformanceMarketing.de
REFRESH-INTERVAL;VALUE=DURATION:PT1H
X-Robots-Tag:noindex
X-PUBLISHED-TTL:PT1H
BEGIN:VTIMEZONE
TZID:Europe/Berlin
BEGIN:DAYLIGHT
TZOFFSETFROM:+0100
TZOFFSETTO:+0200
TZNAME:CEST
DTSTART:20160327T010000
END:DAYLIGHT
BEGIN:STANDARD
TZOFFSETFROM:+0200
TZOFFSETTO:+0100
TZNAME:CET
DTSTART:20161030T010000
END:STANDARD
BEGIN:DAYLIGHT
TZOFFSETFROM:+0100
TZOFFSETTO:+0200
TZNAME:CEST
DTSTART:20170326T010000
END:DAYLIGHT
BEGIN:STANDARD
TZOFFSETFROM:+0200
TZOFFSETTO:+0100
TZNAME:CET
DTSTART:20171029T010000
END:STANDARD
BEGIN:DAYLIGHT
TZOFFSETFROM:+0100
TZOFFSETTO:+0200
TZNAME:CEST
DTSTART:20180325T010000
END:DAYLIGHT
BEGIN:STANDARD
TZOFFSETFROM:+0200
TZOFFSETTO:+0100
TZNAME:CET
DTSTART:20181028T010000
END:STANDARD
END:VTIMEZONE
BEGIN:VEVENT
DTSTART;VALUE=DATE:20170201
DTEND;VALUE=DATE:20170203
DTSTAMP:20260424T131048
CREATED:20170112T141213Z
LAST-MODIFIED:20170112T141213Z
UID:1000-1485907200-1486079999@www.performancemarketing.de
SUMMARY:Rakuten Marketing Symposium Scottsdale
DESCRIPTION:Beim Rakuten Marketing Symposium Scottsdale treffen sich mehr als 500 Teilnehmer aus dem Rakuten Affiliate Network\, um sich über Marktanalysen\, die neuesten Trends oder Businessstrategien auszutauschen oder einfach\, um das eigene Netzwerk zu vergrößern und neue Ideen zu sammeln. Die zweitägige Konferenz beinhaltet am ersten Tag u.a. den ganztägigen Workshop „University for Advertisers“\, bei dem Teilnehmer von Rakuten Affiliate Network Programm-Managern den effizienten Umgang mit einem Affiliate Marketing Programm lernen und trainieren\, ihr Wissen bei Panel-Diskussionen erweitern und auf das eigene Unternehmen zugeschnittene Lösungen erarbeiten können. Am zweiten Konferenztag stehen in verschiedenen Sessions aktuelle Marketing-Strategien (z.B. Online\, Influencer) und E-Commerce-Trends im Fokus. Natürlich darf das Netzwerken nicht zu kurz kommen\, dafür bieten u.a. die Rakuten Marketing DealMaker-Session sowie die After Party optimale Gelegenheiten.
URL:https://www.performancemarketing.de/event/rakuten-marketing-symposium-scottsdale/
LOCATION:JW Marriott Scottsdale Camelback Inn Resort & Spa\, 5402 East Lincoln Drive\, Scottsdale\, Arizona\, 85253\, Vereinigte Staaten
CATEGORIES:Konferenz
ORGANIZER;CN="Rakuten Marketing LLC.":MAILTO:events@mail.rakuten.com
END:VEVENT
BEGIN:VEVENT
DTSTART;VALUE=DATE:20170209
DTEND;VALUE=DATE:20170213
DTSTAMP:20260424T131048
CREATED:20170127T161259Z
LAST-MODIFIED:20170127T161555Z
UID:1014-1486598400-1486943999@www.performancemarketing.de
SUMMARY:London Affiliate Conference
DESCRIPTION:Die London Affiliate Conference findet 2017 vom 9. bis zum 12. Februar im Exhibition Centre  London (ExCeL) statt. Über 5.000 Teilnehmer werden zu der Konferenz erwartet\, deren Hauptprogramm aus Vorträgen\, Panels und Präsentationen an den Tagen 2 und 3 angeboten wird. Als Speaker werden hierzu u.a. Adam Wilson (Bookee)\, Harry Lang (Pinnacle)\, Ian Sims (iGaming) und Gavin Flood (AdRoll) erwartet. Zwischen den Veranstaltungen sowie auf Partys am Eröffnungs- und Schlusstag bleibt ausreichend Zeit für die Erweiterung des eigenen Netzwerks und zum Austausch über aktuelle Entwicklungen\, Themen und Trends mit anderen Affiliates. Auf der gleichzeitig stattfindenden Financial Partners Expo (der größten Ausstellung im Retail-Finance-Bereich) präsentieren Aussteller ihre Produkte und können Geschäfte und Kontakte vertiefen. An die erfolgreichsten Affiliates des vergangenen Jahres werden zudem die IGB Affiliate Awards verliehen.
URL:https://www.performancemarketing.de/event/london-affiliate-conference/
LOCATION:Exhibition Centre London\, Royal Victoria Dock\, 1 Western Gateway\, London\, E16 1XL\, Großbritannien (Vereinigtes Königreich)
CATEGORIES:Konferenz
ORGANIZER;CN="iGaming Business":MAILTO:Alana@iGamingBusiness.com
END:VEVENT
BEGIN:VEVENT
DTSTART;VALUE=DATE:20170213
DTEND;VALUE=DATE:20170215
DTSTAMP:20260424T131048
CREATED:20170203T151304Z
LAST-MODIFIED:20170203T151304Z
UID:1023-1486944000-1487116799@www.performancemarketing.de
SUMMARY:CPX - Performance Marketing Gipfel
DESCRIPTION:Der CPX – Performance Marketing Gipfel wird von der Fachzeitschrift INTERNET WORLD Business veranstaltet und bietet Einblicke in die aktuellsten Entwicklungen und Trends im Bereich SEM und SEA. Am ersten Konferenztag liegt der inhaltliche Schwerpunkt der Veranstaltung auf der Suchmaschinen-Werbung. Hochkarätige Referenten wie Marc Rüsing (Performics)\, Bülent Inci (DB Vertrieb GmbH)\, Dr. Alexander Korth (Publicis Media) oder Dominik Wöber (Google Deutschland) berichten aus der eigenen Praxis und stellen dar\, wie sie die eigenen Maßnahmen optimiert haben. Am zweiten Tag werden verschiedene Workshops angeboten\, bei denen sich die Teilnehmer Tipps und Tricks abholen können\, wie sie ihre Performance auf Social Media Kanälen oder bei Amazon und Google verbessern können. Zwischen den Veranstaltungen bleibt natürlich auch ausreichend Zeit für Fachgespräche und zur Erweiterung des eigenen Netzwerks.
URL:https://www.performancemarketing.de/event/cpx-performance-marketing-gipfel/
LOCATION:Hotel Novotel München City\, Hochstraße 11\, München\, 81669\, Deutschland
CATEGORIES:Konferenz
ORGANIZER;CN="Neue Mediengesellschaft Ulm mbH":MAILTO:anmeldung@nmg.de
END:VEVENT
BEGIN:VEVENT
DTSTART;VALUE=DATE:20170216
DTEND;VALUE=DATE:20170217
DTSTAMP:20260424T131048
CREATED:20160921T135726Z
LAST-MODIFIED:20160921T135726Z
UID:698-1487203200-1487289599@www.performancemarketing.de
SUMMARY:Big Data Summit
DESCRIPTION:Der Big Data Summit bringt seit 2013 jährlich mehr als 650 führende Entscheider\, Wissenschaftler\, Technologieanbieter sowie Vertreter aus der Politik zusammen\, um über aktuelle Trends\, Innovationen und den Einsatz von Big-Data-Lösungen in der Praxis zu diskutieren. Dabei können sich die Teilnehmer u.a. über Praxiserfahrungen und neueste Ergebnisse der anwendungsnahen Forschung und Entwicklung austauschen\, Kooperationen im Big-Data-Ökosystem aufbauen\, Projekte planen und voranbringen sowie innovative Lösungen live vor Ort diskutieren. Schwerpunkte 2017 sind beispielsweise Connected Car und Enduser Mobility\, Impulse für Industrie 4.0\, Smart Energy- und Smart City-Lösungen sowie Big Data und Customer Experience Management.
URL:https://www.performancemarketing.de/event/big-data-summit/
LOCATION:Congress Park Hanau\, Schlossplatz 1\, Hanau\, 63450\, Deutschland
CATEGORIES:Konferenz
ORGANIZER;CN="Bitkom e.V / Bitkom Servicegesellschaft mbH":MAILTO:f.klaska@bitkom-service.de
END:VEVENT
BEGIN:VEVENT
DTSTART;VALUE=DATE:20170216
DTEND;VALUE=DATE:20170218
DTSTAMP:20260424T131048
CREATED:20161028T134144Z
LAST-MODIFIED:20161028T140158Z
UID:947-1487203200-1487375999@www.performancemarketing.de
SUMMARY:Domain pulse
DESCRIPTION:Die Domain pulse beschäftigt sich mit aktuellen Fragen und Trends rund um das Thema Domains sowie der Weiterentwicklung des Internets. Schwerpunkte 2016 waren die digitale Sicherheit\, die Steigerung der Domain-Relevanz\, neue Top-Level-Domains sowie die zunehmenden Probleme von Registraren\, immer neue und komplexere Forderungen von Registries erfüllen zu müssen. Die Themen für die Domain pulse 2017 werden voraussichtlich Ende November 2016 bekannt gegeben.
URL:https://www.performancemarketing.de/event/domain-pulse/
LOCATION:Palais Niederösterreich\, Herrengasse 13\, Wien\, 1010\, Österreich
CATEGORIES:Konferenz
ORGANIZER;CN="nic.at GmbH":MAILTO:info@nic.at
END:VEVENT
BEGIN:VEVENT
DTSTART;TZID=Europe/Berlin:20170216T090000
DTEND;TZID=Europe/Berlin:20170216T183000
DTSTAMP:20260424T131048
CREATED:20161202T124208Z
LAST-MODIFIED:20161202T124444Z
UID:980-1487235600-1487269800@www.performancemarketing.de
SUMMARY:PPC Masters
DESCRIPTION:Die PPC Masters ist DIE Konferenz für alle\, die tagtäglich mit Klicks handeln und sich mit dem Einkauf großer Klick-Volumen auf Plattformen wie Facebook oder Google beschäftigen. Die PPC Masters holt dabei alle ab: Experten\, die ihr Wissen in Themen wie SEA\, AdWords oder PPC-Traffic vertiefen und neue Tools und Trends kennenlernen wollen sowie weniger erfahrene Online Marketer\, die sich hilfreiche Tipps für ihren Arbeitsalltag abholen und ihr Netzwerk erweitern können. In vier Intensiv-Seminaren haben Konferenz-Teilnehmer 2017 zudem erstmalig die Möglichkeit\, sich zu den Themen SEA für Einsteiger und Fortgeschrittene\, Google Shopping und Excel Tipps für den PPC-Alltag weiterzubilden. In 16 Sessions geben internationale Top-Speaker ihr geballtes Expertenwissen weiter. Dabei sind 2017 u.a. Maik Metzen (Performics)\, Melanie Schlegel (Otto)\, Guido Pelzer (guido pelzer consult)\, Bjorn Espenes (Finch) und Johannes Stabel (internetwarriors).
URL:https://www.performancemarketing.de/event/ppc-masters/
LOCATION:Spreegalerie\, Am Krögel 2\, Berlin\, 10179\, Deutschland
CATEGORIES:Konferenz
ORGANIZER;CN="AKM3 GmbH":MAILTO:marketing@ppcmasters.de
END:VEVENT
BEGIN:VEVENT
DTSTART;VALUE=DATE:20170227
DTEND;VALUE=DATE:20170303
DTSTAMP:20260424T131048
CREATED:20161020T151845Z
LAST-MODIFIED:20161020T151845Z
UID:889-1488153600-1488499199@www.performancemarketing.de
SUMMARY:Mobile World Congress
DESCRIPTION:Mit rund 100.000 Besuchern und über 2.000 Ausstellern ist der seit 1987 jährlich stattfindende Mobile World Congress die größte Mobilfunk-Messe Europas. Regelmäßig werden auf der Messe technische Neuerungen präsentiert\, so stellt beispielsweise Samsung seit Jahren seine aktuellen Smartphone-Flaggschiff-Modelle auf dem Mobile World Congress vor. Ein Themenschwerpunkt des Mobile World Congress 2017 wird ein umfassender Blick auf aktuellen Entwicklungen sowie zukünftige Wachstumsmöglichkeiten und die sich daraus ergebenden Chancen des Mobilfunkmarktes sein. In über 50 Konferenzen\, Events und Partner-Veranstaltungen werden Innovationen und Trends vorgestellt\, Informationen ausgetauscht und Kontakte geknüpft. Als Keynote-Speaker werden 2017 u.a. John Stankey (AT&T)\, Eugene Kaspersky (Kaspersky Lab)\, José María Álvarez-Pallete López (Telefonica)\, John Hanke (Niantic) und Rajeev Suri (Nokia) auf der Bühne stehen.
URL:https://www.performancemarketing.de/event/mobile-world-congress/
LOCATION:Fira Gran Via\, Av. Joan Carles I\, 64\, L’Hospitalet de Llobregat\, Barcelona\, 08908\, Spanien
CATEGORIES:Konferenz
ORGANIZER;CN="GSM Association":MAILTO:info@gsma.com
END:VEVENT
END:VCALENDAR