BEGIN:VCALENDAR
VERSION:2.0
PRODID:-//PerformanceMarketing.de - ECPv6.15.20//NONSGML v1.0//EN
CALSCALE:GREGORIAN
METHOD:PUBLISH
X-WR-CALNAME:PerformanceMarketing.de
X-ORIGINAL-URL:https://www.performancemarketing.de
X-WR-CALDESC:Veranstaltungen für PerformanceMarketing.de
REFRESH-INTERVAL;VALUE=DURATION:PT1H
X-Robots-Tag:noindex
X-PUBLISHED-TTL:PT1H
BEGIN:VTIMEZONE
TZID:Europe/Berlin
BEGIN:DAYLIGHT
TZOFFSETFROM:+0100
TZOFFSETTO:+0200
TZNAME:CEST
DTSTART:20150329T010000
END:DAYLIGHT
BEGIN:STANDARD
TZOFFSETFROM:+0200
TZOFFSETTO:+0100
TZNAME:CET
DTSTART:20151025T010000
END:STANDARD
BEGIN:DAYLIGHT
TZOFFSETFROM:+0100
TZOFFSETTO:+0200
TZNAME:CEST
DTSTART:20160327T010000
END:DAYLIGHT
BEGIN:STANDARD
TZOFFSETFROM:+0200
TZOFFSETTO:+0100
TZNAME:CET
DTSTART:20161030T010000
END:STANDARD
BEGIN:DAYLIGHT
TZOFFSETFROM:+0100
TZOFFSETTO:+0200
TZNAME:CEST
DTSTART:20170326T010000
END:DAYLIGHT
BEGIN:STANDARD
TZOFFSETFROM:+0200
TZOFFSETTO:+0100
TZNAME:CET
DTSTART:20171029T010000
END:STANDARD
END:VTIMEZONE
BEGIN:VEVENT
DTSTART;VALUE=DATE:20161005
DTEND;VALUE=DATE:20161007
DTSTAMP:20260424T183849
CREATED:20160902T155121Z
LAST-MODIFIED:20160906T102455Z
UID:68-1475625600-1475798399@www.performancemarketing.de
SUMMARY:OMCap
DESCRIPTION:Berlins größte Fachkonferenz für Online Marketing. Die 7. Ausgabe mit mehr als 30 Speakern\, 20 Sessions und zahlreichen Fachdiskussionen steht unter dem Motto „Was kommt\, was bleibt und wie lassen sich aktuelle Entwicklungen im Online Marketing praktisch umsetzen“.
URL:https://www.performancemarketing.de/event/omcap/
LOCATION:Palais & Kesselhaus in der KulturBrauerei\, Schönhauser Allee 36\, Berlin\, 10435\, Deutschland
CATEGORIES:Konferenz
END:VEVENT
BEGIN:VEVENT
DTSTART;VALUE=DATE:20161005
DTEND;VALUE=DATE:20161007
DTSTAMP:20260424T183850
CREATED:20160927T160141Z
LAST-MODIFIED:20160927T160141Z
UID:809-1475625600-1475798399@www.performancemarketing.de
SUMMARY:M2M Summit
DESCRIPTION:Der M2M Summit ist das Top-Branchenevent für Entwickler\, Hersteller und Anwender rund um M2M und Internet of Things (IoT). In mehr als 40 Präsentationen\, Vorträgen und Podiumsdiskussionen erhalten die Teilnehmer Einblicke in Trends und innovative Lösungsansätze auf den Feldern Data Management\, Security\, Standardisierung\, Automotive und Industrie 4.0. Neben der Möglichkeit\, potentielle Geschäftspartner und Kunden\, Start-Ups und Global Player sowie Vertreter aus Wirtschaft und Wissenschaft an einen Tisch zu bringen\, bietet der M2M Summit eine große Ausstellung mit Guided Tours\, Elevator Pitches für Start-Ups und Investoren sowie einen Akademischen Tag der M2M Alliance.
URL:https://www.performancemarketing.de/event/m2m-summit/
LOCATION:Congress Center Düsseldorf\, Rotterdammer Straße 141\, Düsseldorf\, 40474\, Deutschland
CATEGORIES:Konferenz
ORGANIZER;CN="M2M Alliance e.V.%2C Dennis Breuer":MAILTO:office@m2m-alliance.de
END:VEVENT
BEGIN:VEVENT
DTSTART;VALUE=DATE:20161006
DTEND;VALUE=DATE:20161008
DTSTAMP:20260424T183850
CREATED:20160923T103112Z
LAST-MODIFIED:20160923T103251Z
UID:745-1475712000-1475884799@www.performancemarketing.de
SUMMARY:Enterprise Mobility Summit
DESCRIPTION:In der Digitalisierung der Geschäftsprozesse ist die Enterprise Mobility eine erfolgskritische Schlüsselkompetenz. Die Enterprise Mobility muss medien- und bereichsübergreifend alle Bereiche des Unternehmens erfassen und dabei mit Kompetenz\, Effizienz und Serviceorientierung punkten\, um im Wettbewerb bestehen zu können. Der Enterprise Mobility Summit gibt Aufschluss\, worauf bei der Konzeption\, Einführung\, Erweiterung oder dem Betrieb einer erfolgreichen Enterprise Mobility zu achten ist. Neben Thinktanks\, Diskussionsforen\, One-on-One-Meetings und Best Practices erwarten die Teilnehmer hochkarätige Speaker wie Matthias Feldmann (Carl Zeiss AG)\, Christian Handt (DB Systel)\, Prof. Dr. med. Tobias D. Gantner (HealthCare Futurists GmbH) oder Dr. Carlo Velten (Crisp Research).
URL:https://www.performancemarketing.de/event/enterprise-mobility-summit/
LOCATION:Villa Kennedy\, Kennedyallee 70\, Frankfurt\, 60596\, Deutschland
CATEGORIES:Konferenz
ORGANIZER;CN="Vogel IT-Medien GmbH":MAILTO:daniela.schilling@vogel-it.de
END:VEVENT
BEGIN:VEVENT
DTSTART;VALUE=DATE:20161020
DTEND;VALUE=DATE:20161023
DTSTAMP:20260424T183850
CREATED:20161025T154616Z
LAST-MODIFIED:20161025T154616Z
UID:941-1476921600-1477180799@www.performancemarketing.de
SUMMARY:Marketing Festival
DESCRIPTION:Das Marketing Festival in Ostrava ist ein internationales Event für Spezialisten aus allen Bereichen des digitalen Marketings sowie Marketing-Strategen. In zahlreichen Vorträgen und Diskussionen werden Innovationen und Trends vorgestellt und erörtert\, die anschließend in Workshops vertieft werden können. Natürlich kommt auch das Netzwerken bei insgesamt vier Themen-Parties nicht zu kurz. Als Speaker werden in diesem Jahr u.a. erwartet: Colin Woon (o2)\, Marcus Tober (Searchmetrics)\, Frederick Vallaeys (Optmyzr)\, Kevin Hillstrom (Minethatdata) und Michael Lykke Aagaard (Unbounce).
URL:https://www.performancemarketing.de/event/marketing-festival/
LOCATION:Gong\, Ruská 2993\, Ostrava-Vítkovice\, 703 00\, Tschechische Republik
CATEGORIES:Konferenz
ORGANIZER;CN="Marketing Festival s.r.o.":MAILTO:info@marketingfestival.cz
END:VEVENT
BEGIN:VEVENT
DTSTART;TZID=Europe/Berlin:20161021T090000
DTEND;TZID=Europe/Berlin:20161021T173000
DTSTAMP:20260424T183850
CREATED:20161021T141359Z
LAST-MODIFIED:20161021T141359Z
UID:906-1477040400-1477071000@www.performancemarketing.de
SUMMARY:AllThingsPerformance
DESCRIPTION:Zu den Schwerpunkten bei der diesjährigen AllThingsPerformance im Athener Vorort Marousi gehören neben der Zuordnung und Optimierung von Performance Marketing-Kampagnen der Austausch über den vielversprechendsten Mix von Marken- und Performance-Kampagnen. Die Konferenz konzentriert sich außerdem auf unterschiedliche Kategorien des Performance Marketing\, so bilden beispielsweise E-Commerce\, Data Driven-Marketing\, Affiliate Marketing oder Marketing Automation wichtige Eckpunkte der Veranstaltung. Auf die über 200 Teilnehmer warten spannende Vorträge mit hochkarätigen Speakern wie Niel Bornman (iProspect)\, Malte Landwehr (Searchmetrics)\, Stanislaw Magiersky (Google Analytics) und Roos van der Zee (Facebook).
URL:https://www.performancemarketing.de/event/allthingsperformance/
LOCATION:Marousi Plaza\, Fragoklissias 3a & Grannikou \, Marousi\, 15125\, Griechenland
CATEGORIES:Konferenz
ORGANIZER;CN="Boussias Communications":MAILTO:info@boussias.com
END:VEVENT
BEGIN:VEVENT
DTSTART;TZID=Europe/Berlin:20161024T083000
DTEND;TZID=Europe/Berlin:20161025T173000
DTSTAMP:20260424T183850
CREATED:20161018T111500Z
LAST-MODIFIED:20161018T111634Z
UID:877-1477297800-1477416600@www.performancemarketing.de
SUMMARY:PERFORMIX.Wien
DESCRIPTION:Die PERFORMIX.Wien ist eine neue\, zweitägige Fachkonferenz\, bei der sich alles um den erfolgreichen Einsatz digitaler Werbung dreht. Der erste Konferenz-Tag dient dabei als „Training-Day“ zu Google AdWords\, bei dem Experten in Intensiv-Workshops zeigen\, wie Werbetreibende diesen Performance-Kanal noch erfolgreicher nutzen können. Der zweite Konferenztag wendet sich dann an Fortgeschrittene und Entscheider. Zahlreiche hochkarätige Speaker wie Alexander Beck (traffic3)\, Matthias Cada (Google) oder Stefan Bruckmaier (netzeffekt) erläutern anhand zahlreicher Praxisbeispiele\, wie die Leistungen von Onlinemarketing-Kampagnen verbessert und neue Werbepotentiale erschlossen werden können. Das thematische Spektrum reicht dabei von SEM\, Social und Programmatic bis hin zu Mobile und Website-Optimierung.
URL:https://www.performancemarketing.de/event/performix-wien/
LOCATION:Austria Trend Hotel Park Royal Palace Vienna\, Schloßallee 8\, Wien\, 1140\, Österreich
CATEGORIES:Konferenz
ORGANIZER;CN="Werbeplanung.at%2C Bernd Platzer":MAILTO:bernd.platzer@werbeplanung.at
END:VEVENT
BEGIN:VEVENT
DTSTART;VALUE=DATE:20161027
DTEND;VALUE=DATE:20161028
DTSTAMP:20260424T183850
CREATED:20160906T113039Z
LAST-MODIFIED:20160906T132718Z
UID:89-1477526400-1477612799@www.performancemarketing.de
SUMMARY:SEO-DAY Cologne
DESCRIPTION:Eine der größten SEO-Konferenzen im deutschsprachigen Raum. Über 45 Speaker vermitteln in mehr als 40 Vorträgen intensives Wissen im Bereich Suchmaschinenoptimierung. Mit über 800 Besuchern sowie rund 250 Partnern können sich Gäste über die neuesten Tipps und Tricks aus dem SEO-Bereich austauschen.
URL:https://www.performancemarketing.de/event/seo-day-cologne/
LOCATION:Koelnmesse\, Messeplatz 1\, Köln\, 50679\, Deutschland
CATEGORIES:Konferenz
END:VEVENT
END:VCALENDAR