BEGIN:VCALENDAR
VERSION:2.0
PRODID:-//PerformanceMarketing.de - ECPv6.15.20//NONSGML v1.0//EN
CALSCALE:GREGORIAN
METHOD:PUBLISH
X-ORIGINAL-URL:https://www.performancemarketing.de
X-WR-CALDESC:Veranstaltungen für PerformanceMarketing.de
REFRESH-INTERVAL;VALUE=DURATION:PT1H
X-Robots-Tag:noindex
X-PUBLISHED-TTL:PT1H
BEGIN:VTIMEZONE
TZID:Europe/Berlin
BEGIN:DAYLIGHT
TZOFFSETFROM:+0100
TZOFFSETTO:+0200
TZNAME:CEST
DTSTART:20200329T010000
END:DAYLIGHT
BEGIN:STANDARD
TZOFFSETFROM:+0200
TZOFFSETTO:+0100
TZNAME:CET
DTSTART:20201025T010000
END:STANDARD
BEGIN:DAYLIGHT
TZOFFSETFROM:+0100
TZOFFSETTO:+0200
TZNAME:CEST
DTSTART:20210328T010000
END:DAYLIGHT
BEGIN:STANDARD
TZOFFSETFROM:+0200
TZOFFSETTO:+0100
TZNAME:CET
DTSTART:20211031T010000
END:STANDARD
BEGIN:DAYLIGHT
TZOFFSETFROM:+0100
TZOFFSETTO:+0200
TZNAME:CEST
DTSTART:20220327T010000
END:DAYLIGHT
BEGIN:STANDARD
TZOFFSETFROM:+0200
TZOFFSETTO:+0100
TZNAME:CET
DTSTART:20221030T010000
END:STANDARD
END:VTIMEZONE
BEGIN:VEVENT
DTSTART;VALUE=DATE:20210317
DTEND;VALUE=DATE:20210319
DTSTAMP:20260421T162534
CREATED:20210204T123852Z
LAST-MODIFIED:20210204T123852Z
UID:2257-1615939200-1616111999@www.performancemarketing.de
SUMMARY:SMX München 2021
DESCRIPTION:SEO + SEA = SMX. Die SMX ist Deutschlands größte Konferenz für Suchmarketing. Hier gibt es kein generisches Marketing-Blabla\, sondern Cutting Edge-Taktiken und Strategien von Top-Experten aus aller Welt! Es warten die neuesten Trends und Lösungen von führenden Marketingexperten auch euch\, die ihr in tollen Workshops mit internationalen Fachleuten vertiefen könnt. \nFreut euch 2021 auf Input unter anderem von folgenden Top-Speakern: John Mueller (Google)\, Will Reynolds (seer)\, Tom Anthony (SearchPilot)\, Samantha Noble (Biddable Moments) und Brad Geddes (Adalysis). \nAufgrund der Corona-Pandemie findet die Veranstaltung online statt!
URL:https://www.performancemarketing.de/event/smx-muenchen-2021/
LOCATION:Online-Event
CATEGORIES:Konferenz
ORGANIZER;CN="Rising Media Ltd":MAILTO:info@risingmedia.com
END:VEVENT
END:VCALENDAR