BEGIN:VCALENDAR
VERSION:2.0
PRODID:-//PerformanceMarketing.de - ECPv6.15.20//NONSGML v1.0//EN
CALSCALE:GREGORIAN
METHOD:PUBLISH
X-ORIGINAL-URL:https://www.performancemarketing.de
X-WR-CALDESC:Veranstaltungen für PerformanceMarketing.de
REFRESH-INTERVAL;VALUE=DURATION:PT1H
X-Robots-Tag:noindex
X-PUBLISHED-TTL:PT1H
BEGIN:VTIMEZONE
TZID:Europe/Berlin
BEGIN:DAYLIGHT
TZOFFSETFROM:+0100
TZOFFSETTO:+0200
TZNAME:CEST
DTSTART:20200329T010000
END:DAYLIGHT
BEGIN:STANDARD
TZOFFSETFROM:+0200
TZOFFSETTO:+0100
TZNAME:CET
DTSTART:20201025T010000
END:STANDARD
BEGIN:DAYLIGHT
TZOFFSETFROM:+0100
TZOFFSETTO:+0200
TZNAME:CEST
DTSTART:20210328T010000
END:DAYLIGHT
BEGIN:STANDARD
TZOFFSETFROM:+0200
TZOFFSETTO:+0100
TZNAME:CET
DTSTART:20211031T010000
END:STANDARD
BEGIN:DAYLIGHT
TZOFFSETFROM:+0100
TZOFFSETTO:+0200
TZNAME:CEST
DTSTART:20220327T010000
END:DAYLIGHT
BEGIN:STANDARD
TZOFFSETFROM:+0200
TZOFFSETTO:+0100
TZNAME:CET
DTSTART:20221030T010000
END:STANDARD
END:VTIMEZONE
BEGIN:VEVENT
DTSTART;VALUE=DATE:20210308
DTEND;VALUE=DATE:20210313
DTSTAMP:20260421T162701
CREATED:20210204T125230Z
LAST-MODIFIED:20210204T125302Z
UID:2259-1615161600-1615593599@www.performancemarketing.de
SUMMARY:Internet World Expo 2021
DESCRIPTION:Die Internet World Expo ist in diesem Jahr Teil der Commerce Week. Diese vereint alle Themen\, die Händler und Hersteller jetzt und in Zukunft bewegen. Von der IT-Infrastruktur über die Produktentwicklung\, das Social Media Marketing bis hin zu Bereichen Transaktion und Distribution. Die Commerce Week ist damit die Schnittstelle zwischen Produkten\, Lösungen und Expertenwissen. \nTauschen Sie sich mit Händlern und Herstellern aus dem Mittelstand\, Experten der digitalen Kommunikationsbranche und Online-Service-Anbietern aus. Denn ob Brancheneinsteiger\, Professional oder Entscheider\, alle verbindet ein Ziel: den Commerce noch besser zu machen. \nAufgrund der Corona-Pandemie findet die Veranstaltung online statt!
URL:https://www.performancemarketing.de/event/internet-world-expo-2021/
LOCATION:Online-Event
CATEGORIES:Konferenz,Online
ORGANIZER;CN="Ebner Media Group GmbH & Co. KG":MAILTO:dunja.koelwel@ebnermedia.de
END:VEVENT
END:VCALENDAR