BEGIN:VCALENDAR
VERSION:2.0
PRODID:-//PerformanceMarketing.de - ECPv6.15.20//NONSGML v1.0//EN
CALSCALE:GREGORIAN
METHOD:PUBLISH
X-ORIGINAL-URL:https://www.performancemarketing.de
X-WR-CALDESC:Veranstaltungen für PerformanceMarketing.de
REFRESH-INTERVAL;VALUE=DURATION:PT1H
X-Robots-Tag:noindex
X-PUBLISHED-TTL:PT1H
BEGIN:VTIMEZONE
TZID:Europe/Berlin
BEGIN:DAYLIGHT
TZOFFSETFROM:+0100
TZOFFSETTO:+0200
TZNAME:CEST
DTSTART:20200329T010000
END:DAYLIGHT
BEGIN:STANDARD
TZOFFSETFROM:+0200
TZOFFSETTO:+0100
TZNAME:CET
DTSTART:20201025T010000
END:STANDARD
BEGIN:DAYLIGHT
TZOFFSETFROM:+0100
TZOFFSETTO:+0200
TZNAME:CEST
DTSTART:20210328T010000
END:DAYLIGHT
BEGIN:STANDARD
TZOFFSETFROM:+0200
TZOFFSETTO:+0100
TZNAME:CET
DTSTART:20211031T010000
END:STANDARD
BEGIN:DAYLIGHT
TZOFFSETFROM:+0100
TZOFFSETTO:+0200
TZNAME:CEST
DTSTART:20220327T010000
END:DAYLIGHT
BEGIN:STANDARD
TZOFFSETFROM:+0200
TZOFFSETTO:+0100
TZNAME:CET
DTSTART:20221030T010000
END:STANDARD
END:VTIMEZONE
BEGIN:VEVENT
DTSTART;TZID=Europe/Berlin:20210303T085000
DTEND;TZID=Europe/Berlin:20210303T150000
DTSTAMP:20260421T162611
CREATED:20210212T132429Z
LAST-MODIFIED:20210212T132454Z
UID:2267-1614761400-1614783600@www.performancemarketing.de
SUMMARY:Influencer Marketing Forum 2021
DESCRIPTION:Das Influencer Marketing Forum bietet einen digitalen Erfahrungsaustausch zum Einsatz und zur Arbeit mit Influencern und Multiplikatoren in Marketing und Kommunikation. Als Teil des D2M Summit stehen beim Influencer Marketing Forum auch in diesem Jahr Diskussionen über aktuelle Entwicklungen im Influencer Marketing\, Erfahrungsberichte aus erster Hand und digitales Networking auf dem Plan. \nAls Speaker sind in diesem Jahr unter anderem am Start: Jaisha Laduch (construktiv)\, Marcel Heinrich (foodspring)\, Janni Deitenbach (Douglas)\, Andreas Kohn (Ricola) und Jana Lukaszewitz (Perrigo Nordic). \nAufgrund der Corona-Pandemie findet die Veranstaltung online statt!
URL:https://www.performancemarketing.de/event/influencer-marketing-forum-2021/
LOCATION:Online-Event
CATEGORIES:Konferenz
ORGANIZER;CN="Kongress Media GmbH":MAILTO:contact@kongressmedia.de
END:VEVENT
END:VCALENDAR