BEGIN:VCALENDAR
VERSION:2.0
PRODID:-//PerformanceMarketing.de - ECPv6.15.20//NONSGML v1.0//EN
CALSCALE:GREGORIAN
METHOD:PUBLISH
X-WR-CALNAME:PerformanceMarketing.de
X-ORIGINAL-URL:https://www.performancemarketing.de
X-WR-CALDESC:Veranstaltungen für PerformanceMarketing.de
REFRESH-INTERVAL;VALUE=DURATION:PT1H
X-Robots-Tag:noindex
X-PUBLISHED-TTL:PT1H
BEGIN:VTIMEZONE
TZID:Europe/Berlin
BEGIN:DAYLIGHT
TZOFFSETFROM:+0100
TZOFFSETTO:+0200
TZNAME:CEST
DTSTART:20200329T010000
END:DAYLIGHT
BEGIN:STANDARD
TZOFFSETFROM:+0200
TZOFFSETTO:+0100
TZNAME:CET
DTSTART:20201025T010000
END:STANDARD
BEGIN:DAYLIGHT
TZOFFSETFROM:+0100
TZOFFSETTO:+0200
TZNAME:CEST
DTSTART:20210328T010000
END:DAYLIGHT
BEGIN:STANDARD
TZOFFSETFROM:+0200
TZOFFSETTO:+0100
TZNAME:CET
DTSTART:20211031T010000
END:STANDARD
BEGIN:DAYLIGHT
TZOFFSETFROM:+0100
TZOFFSETTO:+0200
TZNAME:CEST
DTSTART:20220327T010000
END:DAYLIGHT
BEGIN:STANDARD
TZOFFSETFROM:+0200
TZOFFSETTO:+0100
TZNAME:CET
DTSTART:20221030T010000
END:STANDARD
END:VTIMEZONE
BEGIN:VEVENT
DTSTART;VALUE=DATE:20210224
DTEND;VALUE=DATE:20210227
DTSTAMP:20260421T182102
CREATED:20210204T121939Z
LAST-MODIFIED:20210204T122018Z
UID:2251-1614124800-1614383999@www.performancemarketing.de
SUMMARY:Sales Marketing Messe 2021
DESCRIPTION:Die Sales Marketing Messe ist die Messe für innovative Marketingstrategien. Unter dem Motto: „Kunden finden\, Kunden binden – Impulse für den Vertrieb“ treffen sich hier Marketing- und Vertriebsleiter aus Konzernen und mittelständischen Unternehmen. Auf dem Programm stehen neueste Trends und Innovationen aus den Bereichen Dialog Marketing\, Online Marketing\, Marketing Automation\, E-Commerce\, Social Media\, CRM\, POS-Design und vieles mehr. \nFreuen Sie sich u.a. auf diese hochkarätigen Speaker: Matthias Garten (smavicon)\, Ralph Hauck (ARAMIS GmbH)\, Christian Hinreiner (Studio 9 GmbH)\, Frederik Böhle (XING ProBusiness) und Michael Reck (CAS Software AG). \nAufgrund der Corona-Pandemie findet die Veranstaltung online statt!
URL:https://www.performancemarketing.de/event/sales-marketing-messe-2021/
LOCATION:Online-Event
CATEGORIES:Messe,Online
ORGANIZER;CN="Netcomm GmbH":MAILTO:info@netcomm-gmbh.de
END:VEVENT
END:VCALENDAR