BEGIN:VCALENDAR
VERSION:2.0
PRODID:-//PerformanceMarketing.de - ECPv6.15.20//NONSGML v1.0//EN
CALSCALE:GREGORIAN
METHOD:PUBLISH
X-WR-CALNAME:PerformanceMarketing.de
X-ORIGINAL-URL:https://www.performancemarketing.de
X-WR-CALDESC:Veranstaltungen für PerformanceMarketing.de
REFRESH-INTERVAL;VALUE=DURATION:PT1H
X-Robots-Tag:noindex
X-PUBLISHED-TTL:PT1H
BEGIN:VTIMEZONE
TZID:Europe/Berlin
BEGIN:DAYLIGHT
TZOFFSETFROM:+0100
TZOFFSETTO:+0200
TZNAME:CEST
DTSTART:20200329T010000
END:DAYLIGHT
BEGIN:STANDARD
TZOFFSETFROM:+0200
TZOFFSETTO:+0100
TZNAME:CET
DTSTART:20201025T010000
END:STANDARD
BEGIN:DAYLIGHT
TZOFFSETFROM:+0100
TZOFFSETTO:+0200
TZNAME:CEST
DTSTART:20210328T010000
END:DAYLIGHT
BEGIN:STANDARD
TZOFFSETFROM:+0200
TZOFFSETTO:+0100
TZNAME:CET
DTSTART:20211031T010000
END:STANDARD
BEGIN:DAYLIGHT
TZOFFSETFROM:+0100
TZOFFSETTO:+0200
TZNAME:CEST
DTSTART:20220327T010000
END:DAYLIGHT
BEGIN:STANDARD
TZOFFSETFROM:+0200
TZOFFSETTO:+0100
TZNAME:CET
DTSTART:20221030T010000
END:STANDARD
END:VTIMEZONE
BEGIN:VEVENT
DTSTART;VALUE=DATE:20210204
DTEND;VALUE=DATE:20210205
DTSTAMP:20260421T182057
CREATED:20210129T143634Z
LAST-MODIFIED:20210204T122405Z
UID:2245-1612396800-1612483199@www.performancemarketing.de
SUMMARY:The Digital Bash – Social & Influencer
DESCRIPTION:Hier kommt dein Social Media-Update 2021! Egal ob Facebook\, Twitter\, Instagram\, Twitch oder TikTok – Social Media-Plattformen haben 2020 einen enormen User-Zuwachs verzeichnet. Zudem verbrachten Menschen aufgrund der Corona-Pandemie und Social Distancing mehr Zeit in den sozialen Netzwerken. \nWas bedeutet die aktuelle Situation für Marketer? Wie können Unternehmen ihre Influencer- und Social Media-Strategie an diesen Umstand anpassen? Antworten auf diese und viele weitere Fragen gibt The Digital Bash – Social Media & Influencer! \nSichere Dir jetzt deinen Zugang zu diesem gratis Online-Event und freue dich auf exklusive Insights von TikTok-Star Chris Krömer und weiteren Experten wie Moritz Wasserek (IROIN)\, Jason Modemann (Mawave Marketing GmbH) und Jakob Cuber (Meltwater). \nAufgrund der Corona-Pandemie findet die Veranstaltung online statt!
URL:https://www.performancemarketing.de/event/the-digital-bash-social-influencer/
LOCATION:Online-Event
CATEGORIES:Online
ORGANIZER;CN="OnlineMarketing.de GmbH":MAILTO:Marc.Stahlmann@onlinemarketing.de
END:VEVENT
END:VCALENDAR