BEGIN:VCALENDAR
VERSION:2.0
PRODID:-//PerformanceMarketing.de - ECPv6.15.20//NONSGML v1.0//EN
CALSCALE:GREGORIAN
METHOD:PUBLISH
X-ORIGINAL-URL:https://www.performancemarketing.de
X-WR-CALDESC:Veranstaltungen für PerformanceMarketing.de
REFRESH-INTERVAL;VALUE=DURATION:PT1H
X-Robots-Tag:noindex
X-PUBLISHED-TTL:PT1H
BEGIN:VTIMEZONE
TZID:Europe/Berlin
BEGIN:DAYLIGHT
TZOFFSETFROM:+0100
TZOFFSETTO:+0200
TZNAME:CEST
DTSTART:20190331T010000
END:DAYLIGHT
BEGIN:STANDARD
TZOFFSETFROM:+0200
TZOFFSETTO:+0100
TZNAME:CET
DTSTART:20191027T010000
END:STANDARD
BEGIN:DAYLIGHT
TZOFFSETFROM:+0100
TZOFFSETTO:+0200
TZNAME:CEST
DTSTART:20200329T010000
END:DAYLIGHT
BEGIN:STANDARD
TZOFFSETFROM:+0200
TZOFFSETTO:+0100
TZNAME:CET
DTSTART:20201025T010000
END:STANDARD
BEGIN:DAYLIGHT
TZOFFSETFROM:+0100
TZOFFSETTO:+0200
TZNAME:CEST
DTSTART:20210328T010000
END:DAYLIGHT
BEGIN:STANDARD
TZOFFSETFROM:+0200
TZOFFSETTO:+0100
TZNAME:CET
DTSTART:20211031T010000
END:STANDARD
END:VTIMEZONE
BEGIN:VEVENT
DTSTART;VALUE=DATE:20200629
DTEND;VALUE=DATE:20200702
DTSTAMP:20260422T042913
CREATED:20200429T123647Z
LAST-MODIFIED:20200429T123647Z
UID:2136-1593388800-1593647999@www.performancemarketing.de
SUMMARY:Munich Marketing Week 2020
DESCRIPTION:Die Munich Marketing Week bringt an drei Tagen die Themen und wichtigsten Trends auf die Bühne\, die heute in keiner Marketing-Kampagne fehlen dürfen. Jeder Tag der Konferenz hat dabei seinen eigenen Schwerpunkt. \nDer erste Tag bietet Inspiration und Expertenwissen zu den Feldern Customer Centricity und Customer Experience. Am zweiten geht es um neue Technologien im Marketing und die Frage\, welche Hypes und Trends wirklich nachhaltig sind. Am Abschlusstag widmet sich die Munich Marketing Week Social Media in all seinen Facetten. \nAls Speaker haben sich in diesem Jahr u.a. angesagt: Paul Niemeyer (Strava)\, Johannes Skrivanek (GlobeAir)\, Andreas Wunderlich (Siemens)\, Julie Desmet (TUI)\, Oliver Hoffmann (Porsche) und Iva R. Zaharieva (Facebook).
URL:https://www.performancemarketing.de/event/munich-marketing-week-2020/
LOCATION:Paulaner am Nockherberg\, Hochstrasse 77\, München\, 81541\, Deutschland
CATEGORIES:Konferenz
ORGANIZER;CN="Verlag Werben & Verkaufen":MAILTO:events@wuv.de
END:VEVENT
BEGIN:VEVENT
DTSTART;VALUE=DATE:20200630
DTEND;VALUE=DATE:20200701
DTSTAMP:20260422T042913
CREATED:20200430T154832Z
LAST-MODIFIED:20200430T161126Z
UID:2141-1593475200-1593561599@www.performancemarketing.de
SUMMARY:Worldwide Developers Conference (WWDC) 2020
DESCRIPTION:Die Apple Worldwide Developer Conference (WWDC) findet in diesem Jahr bereits zum 31. Mal statt. Aufgrund der Corona-Pandemie wird sie allerdings 2020 zum ersten Mal nur als Online-Stream abgehalten. So will das Unternehmen Millionen von Anwendern\, Entwicklern und Pressevertretern auch in diesem Jahr die neuesten Innovationen von iOS\, iPadOS\, macOS\, watchOS und tvOS aufzeigen und diese in zahlreichen Sessions vermitteln. Zudem wird es eine Online-Keynote geben. Zusätzliche Informationen zum Programm werden bis Juni u.a. über die Apple Developer App sowie die Apple Developer Webseite zur Verfügung gestellt.
URL:https://www.performancemarketing.de/event/worldwide-developers-conference-wwdc-2020/
LOCATION:Online-Veranstaltung\, Die Veranstaltung findet ausschließlich online statt.
CATEGORIES:Konferenz
END:VEVENT
END:VCALENDAR