BEGIN:VCALENDAR
VERSION:2.0
PRODID:-//PerformanceMarketing.de - ECPv6.15.20//NONSGML v1.0//EN
CALSCALE:GREGORIAN
METHOD:PUBLISH
X-ORIGINAL-URL:https://www.performancemarketing.de
X-WR-CALDESC:Veranstaltungen für PerformanceMarketing.de
REFRESH-INTERVAL;VALUE=DURATION:PT1H
X-Robots-Tag:noindex
X-PUBLISHED-TTL:PT1H
BEGIN:VTIMEZONE
TZID:Europe/Berlin
BEGIN:DAYLIGHT
TZOFFSETFROM:+0100
TZOFFSETTO:+0200
TZNAME:CEST
DTSTART:20190331T010000
END:DAYLIGHT
BEGIN:STANDARD
TZOFFSETFROM:+0200
TZOFFSETTO:+0100
TZNAME:CET
DTSTART:20191027T010000
END:STANDARD
BEGIN:DAYLIGHT
TZOFFSETFROM:+0100
TZOFFSETTO:+0200
TZNAME:CEST
DTSTART:20200329T010000
END:DAYLIGHT
BEGIN:STANDARD
TZOFFSETFROM:+0200
TZOFFSETTO:+0100
TZNAME:CET
DTSTART:20201025T010000
END:STANDARD
BEGIN:DAYLIGHT
TZOFFSETFROM:+0100
TZOFFSETTO:+0200
TZNAME:CEST
DTSTART:20210328T010000
END:DAYLIGHT
BEGIN:STANDARD
TZOFFSETFROM:+0200
TZOFFSETTO:+0100
TZNAME:CET
DTSTART:20211031T010000
END:STANDARD
END:VTIMEZONE
BEGIN:VEVENT
DTSTART;VALUE=DATE:20200420
DTEND;VALUE=DATE:20200428
DTSTAMP:20260422T081401
CREATED:20200224T142137Z
LAST-MODIFIED:20200224T142137Z
UID:2069-1587340800-1588031999@www.performancemarketing.de
SUMMARY:Würzburg Web Week 2020
DESCRIPTION:In diesem Jahr findet die dritte Auflage der Würzburg Web Week statt. Das einwöchige „Digitalfestival“ will Unternehmer und Selbstständige\, Arbeitnehmer\, Schüler\, Studierende und Bürger zusammenbringen – denn Digitalisierung betrifft uns alle! Anders als bei anderen Veranstaltungsreihen geben die Organisatoren hier weder Ort\, Format oder Zeitrahmen vor. Jeder Interessierte kann so an den (in der Regel kostenlosen) Veranstaltungen teilnehmen oder selbst das Programm aktiv mitgestalten. \n2020 werden so beispielsweise ein Social Media Profilcheck\, ein Instagram-Workshop\, Veranstaltungen zum Thema Datenschutz und Urheberrecht sowie VR-Games für Senioren angeboten.
URL:https://www.performancemarketing.de/event/wuerzburg-web-week-2020/
CATEGORIES:Event
ORGANIZER;CN="W%C3%BCrzburg AG":MAILTO:mail@wuerzburg-ag.de
END:VEVENT
BEGIN:VEVENT
DTSTART;VALUE=DATE:20200422
DTEND;VALUE=DATE:20200424
DTSTAMP:20260422T081401
CREATED:20200311T154819Z
LAST-MODIFIED:20200311T154819Z
UID:2113-1587513600-1587686399@www.performancemarketing.de
SUMMARY:D2M Summit 2020
DESCRIPTION:Einfach nur Content\, Influencer- oder Paid-Promotion sind heute nicht mehr genug. Um eine nachhaltige Wirkung in der Markenkommunikation zu erzielen\, benötigt es einen intelligenten Mix der Social Media- und Content Marketing-Aktivitäten\, um sich in der Kommunikationswelt Gehör zu verschaffen. \nHier setzt der D2M Summit an. Auf der Konferenz diskutieren Projektverantwortliche und Experten über aktuelle Trends\, Themen und Erfahrungen und geben Empfehlungen für eine moderne Marken- und Kundenkommunikation. Interaktive Workshops und zusätzliche Seminare zur Vertiefung der Grundlagen runden die Veranstaltung ab. \nAls Speaker werden 2020 u.a. auf der Bühne stehen: Lennart Crossley (Swiss Life Deutschland)\, Peter Eisele (congstar)\, Nicola Lörz (Flughafen Stuttgart)\, Diana Riemer (GLS) und Nils Scholz (Generali).
URL:https://www.performancemarketing.de/event/d2m-summit-2020/
LOCATION:Hotel East Hamburg\, Simon-von-Utrecht-Straße 31\, Hamburg\, 20359\, Deutschland
CATEGORIES:Konferenz
ORGANIZER;CN="Kongress Media GmbH":MAILTO:contact@kongressmedia.de
END:VEVENT
BEGIN:VEVENT
DTSTART;VALUE=DATE:20200422
DTEND;VALUE=DATE:20200425
DTSTAMP:20260422T081401
CREATED:20200318T142610Z
LAST-MODIFIED:20200318T142610Z
UID:2115-1587513600-1587772799@www.performancemarketing.de
SUMMARY:CSA Email Summmit 2020
DESCRIPTION:Beim CSA Email Summit geben auch in diesem Jahr wieder internationale Email-Experten in Vorträgen und Workshops wertvolle Tipps. Unter dem Motto „Bridging the Gap – Reality vs. Expectations geht es 2020 um folgende Schwerpunkte: \nWie wichtig ist es\, Kundenerwartungen zu erfüllen? Was kostet es ein Unternehmen\, wenn das nicht gelingt? Wie lassen sich starke und vertrauensvolle Kundenbeziehungen aufbauen? Welche konkreten Projekte und Ideen verfolgen Mailbox-Anbieter aktuell\, um Kundenerwartungen noch besser zu erfüllen? Und: Wie sieht die Realität aus in einer Welt\, in der Datenschutz einen hohen Stellenwert hat? \nZu diesen und vielen weiteren Fragen werden u.a. folgende Speaker Stellung nehmen: Arne Allisat (1&1 Mail & Media Applications SE)\, Marcel Becker (Verizon Media)\, Alice Cornell (Change.org)\, Patrick Ben Koetter (sys4 AG)\, Naina Raisinghani (Google) und Lacy Surber (Salesforce).
URL:https://www.performancemarketing.de/event/csa-email-summmit-2020/
LOCATION:Design Offices Köln Mediapark\, Erftstraße 15-17\, Köln\, 50672\, Deutschland
CATEGORIES:Konferenz
ORGANIZER;CN="eco - Association of the Internet Industry":MAILTO:maike.marx@eco.de
END:VEVENT
END:VCALENDAR