BEGIN:VCALENDAR
VERSION:2.0
PRODID:-//PerformanceMarketing.de - ECPv6.15.20//NONSGML v1.0//EN
CALSCALE:GREGORIAN
METHOD:PUBLISH
X-WR-CALNAME:PerformanceMarketing.de
X-ORIGINAL-URL:https://www.performancemarketing.de
X-WR-CALDESC:Veranstaltungen für PerformanceMarketing.de
REFRESH-INTERVAL;VALUE=DURATION:PT1H
X-Robots-Tag:noindex
X-PUBLISHED-TTL:PT1H
BEGIN:VTIMEZONE
TZID:Europe/Berlin
BEGIN:DAYLIGHT
TZOFFSETFROM:+0100
TZOFFSETTO:+0200
TZNAME:CEST
DTSTART:20190331T010000
END:DAYLIGHT
BEGIN:STANDARD
TZOFFSETFROM:+0200
TZOFFSETTO:+0100
TZNAME:CET
DTSTART:20191027T010000
END:STANDARD
BEGIN:DAYLIGHT
TZOFFSETFROM:+0100
TZOFFSETTO:+0200
TZNAME:CEST
DTSTART:20200329T010000
END:DAYLIGHT
BEGIN:STANDARD
TZOFFSETFROM:+0200
TZOFFSETTO:+0100
TZNAME:CET
DTSTART:20201025T010000
END:STANDARD
BEGIN:DAYLIGHT
TZOFFSETFROM:+0100
TZOFFSETTO:+0200
TZNAME:CEST
DTSTART:20210328T010000
END:DAYLIGHT
BEGIN:STANDARD
TZOFFSETFROM:+0200
TZOFFSETTO:+0100
TZNAME:CET
DTSTART:20211031T010000
END:STANDARD
END:VTIMEZONE
BEGIN:VEVENT
DTSTART;VALUE=DATE:20200220
DTEND;VALUE=DATE:20200221
DTSTAMP:20260422T104903
CREATED:20200219T132236Z
LAST-MODIFIED:20200219T132322Z
UID:2057-1582156800-1582243199@www.performancemarketing.de
SUMMARY:Sales Marketing Messe 2020
DESCRIPTION:Auf der Sales Marketing Messe treffen sich in München Marketing- und Vertriebsleiter aus Konzernen und mittelständischen Unternehmen. Die Messe für innovative Marketingstrategien steht unter dem Motto „Kunden finden\, Kunden binden – Impulse für den Vertrieb“. \nDie Sales Marketing Messe bietet Lösungen für ein systemisches Vertriebsmanagement\, professionelle Marketingmaßnahmen und zielorientierte Verkaufsstrategien. Auf der Agenda stehen in diesem Jahr u.a. die Schwerpunkte CRM\, Database Marketing\, Online Marketing\, Social Media\, Marketing Automation\, Augmented Reality und Mobile Marketing. Natürlich bleibt überdies auch ausreichend Zeit\, das eigene Netzwerk zu erweitern.
URL:https://www.performancemarketing.de/event/sales-marketing-messe-2020/
LOCATION:MOC München\, Lilienthalallee 40\, München\, 80939\, Deutschland
CATEGORIES:Messe
ORGANIZER;CN="Netcomm GmbH":MAILTO:info@netcomm-gmbh.de
END:VEVENT
END:VCALENDAR