BEGIN:VCALENDAR
VERSION:2.0
PRODID:-//PerformanceMarketing.de - ECPv6.15.20//NONSGML v1.0//EN
CALSCALE:GREGORIAN
METHOD:PUBLISH
X-ORIGINAL-URL:https://www.performancemarketing.de
X-WR-CALDESC:Veranstaltungen für PerformanceMarketing.de
REFRESH-INTERVAL;VALUE=DURATION:PT1H
X-Robots-Tag:noindex
X-PUBLISHED-TTL:PT1H
BEGIN:VTIMEZONE
TZID:Europe/Berlin
BEGIN:DAYLIGHT
TZOFFSETFROM:+0100
TZOFFSETTO:+0200
TZNAME:CEST
DTSTART:20180325T010000
END:DAYLIGHT
BEGIN:STANDARD
TZOFFSETFROM:+0200
TZOFFSETTO:+0100
TZNAME:CET
DTSTART:20181028T010000
END:STANDARD
BEGIN:DAYLIGHT
TZOFFSETFROM:+0100
TZOFFSETTO:+0200
TZNAME:CEST
DTSTART:20190331T010000
END:DAYLIGHT
BEGIN:STANDARD
TZOFFSETFROM:+0200
TZOFFSETTO:+0100
TZNAME:CET
DTSTART:20191027T010000
END:STANDARD
BEGIN:DAYLIGHT
TZOFFSETFROM:+0100
TZOFFSETTO:+0200
TZNAME:CEST
DTSTART:20200329T010000
END:DAYLIGHT
BEGIN:STANDARD
TZOFFSETFROM:+0200
TZOFFSETTO:+0100
TZNAME:CET
DTSTART:20201025T010000
END:STANDARD
END:VTIMEZONE
BEGIN:VEVENT
DTSTART;VALUE=DATE:20191010
DTEND;VALUE=DATE:20191011
DTSTAMP:20260422T170545
CREATED:20190924T153211Z
LAST-MODIFIED:20190924T153307Z
UID:2028-1570665600-1570751999@www.performancemarketing.de
SUMMARY:A-COMMERCE Day 2019
DESCRIPTION:Seit fünf Jahren trifft sich jährlich die E-Commerce-Branche in der österreichischen Hauptstadt Wien zum Erfahrungsaustausch\, um neue Ideen zu diskutieren oder spannende Innovationen und Technologien auszuprobieren. \nMehr als 700 Entscheider aus der D-A-CH-Region vernetzen sich im Zuge der eintägigen Konferenz und können ihr Wissen in Vorträgen auf drei Stages vertiefen. Hinzu kommen Lösungsanbieter aus allen Bereichen des E-Commerce\, die ihre Produkte als Aussteller vor Ort präsentieren. \nAls Speaker werden in diesem Jahr u.a. auf den Stages erwartet: Katja Felke (Butlers)\, Christian Renner (XXXLutz)\, Thomas Gruhle (LEAP Digital Marketing)\, Christian Binder (SPOTWORX)\, Tim Rymarczyk (Shopware) und Cigdem Bagci (inRiver).
URL:https://www.performancemarketing.de/event/a-commerce-day-2019/
LOCATION:METAStadt Wien\, Dr. Otto-Neurath-Gasse 3\, Wien\, 1220\, Österreich
CATEGORIES:Konferenz
ORGANIZER;CN="plusgrad GmbH":MAILTO:office@a-commerce.at
END:VEVENT
END:VCALENDAR