BEGIN:VCALENDAR
VERSION:2.0
PRODID:-//PerformanceMarketing.de - ECPv6.15.20//NONSGML v1.0//EN
CALSCALE:GREGORIAN
METHOD:PUBLISH
X-ORIGINAL-URL:https://www.performancemarketing.de
X-WR-CALDESC:Veranstaltungen für PerformanceMarketing.de
REFRESH-INTERVAL;VALUE=DURATION:PT1H
X-Robots-Tag:noindex
X-PUBLISHED-TTL:PT1H
BEGIN:VTIMEZONE
TZID:Europe/Berlin
BEGIN:DAYLIGHT
TZOFFSETFROM:+0100
TZOFFSETTO:+0200
TZNAME:CEST
DTSTART:20180325T010000
END:DAYLIGHT
BEGIN:STANDARD
TZOFFSETFROM:+0200
TZOFFSETTO:+0100
TZNAME:CET
DTSTART:20181028T010000
END:STANDARD
BEGIN:DAYLIGHT
TZOFFSETFROM:+0100
TZOFFSETTO:+0200
TZNAME:CEST
DTSTART:20190331T010000
END:DAYLIGHT
BEGIN:STANDARD
TZOFFSETFROM:+0200
TZOFFSETTO:+0100
TZNAME:CET
DTSTART:20191027T010000
END:STANDARD
BEGIN:DAYLIGHT
TZOFFSETFROM:+0100
TZOFFSETTO:+0200
TZNAME:CEST
DTSTART:20200329T010000
END:DAYLIGHT
BEGIN:STANDARD
TZOFFSETFROM:+0200
TZOFFSETTO:+0100
TZNAME:CET
DTSTART:20201025T010000
END:STANDARD
END:VTIMEZONE
BEGIN:VEVENT
DTSTART;VALUE=DATE:20190929
DTEND;VALUE=DATE:20191002
DTSTAMP:20260422T170514
CREATED:20190723T133149Z
LAST-MODIFIED:20190723T133516Z
UID:1983-1569715200-1569974399@www.performancemarketing.de
SUMMARY:Bits & Pretzels 2019
DESCRIPTION:In ihre 7. Runde startet in diesem Jahr die „Bits & Pretzels“ in München\, wie gewohnt zur Oktoberfestzeit. Das dreitägige Gründer-Festival mit 5.000 Teilnehmern bringt Start-Ups mit CEOs\, Investoren und spannenden Persönlichkeiten aus Wirtschaft und Gesellschaft zusammen. \nDer letzte Tag der Konferenz findet traditionell auf dem Oktoberfest statt\, wo sich das eigene Netzwerk im Gespräch mit mehr als 150 Experten optimal erweitern lässt. Zuvor stehen in zahlreichen Vorträgen und Workshops spannende Neuerungen\, aktuelle Trends und Zukunftsvisionen im Vordergrund. \nAls Speaker stehen 2019 u.a. auf der Bühne: Hannes Ametsreiter (Vodafone Deutschland)\, Frank Thelen (Freigeist)\, Donna Carpenter (Burton Snowboards)\, Lars Jankowfsky (NFQ Asia) und Patrick Campbell (ProfitWell). Die Opening Keynote hält der frühere US-Präsident Barack Obama.
URL:https://www.performancemarketing.de/event/bits-pretzels-2019/
LOCATION:ICM Internationales Congress Centrum München\, Messegelände\, München\, 81823\, Deutschland
CATEGORIES:Konferenz
ORGANIZER;CN="Startup Events UG":MAILTO:hello@bitsandpretzels.com
END:VEVENT
END:VCALENDAR