BEGIN:VCALENDAR
VERSION:2.0
PRODID:-//PerformanceMarketing.de - ECPv6.15.20//NONSGML v1.0//EN
CALSCALE:GREGORIAN
METHOD:PUBLISH
X-ORIGINAL-URL:https://www.performancemarketing.de
X-WR-CALDESC:Veranstaltungen für PerformanceMarketing.de
REFRESH-INTERVAL;VALUE=DURATION:PT1H
X-Robots-Tag:noindex
X-PUBLISHED-TTL:PT1H
BEGIN:VTIMEZONE
TZID:Europe/Berlin
BEGIN:DAYLIGHT
TZOFFSETFROM:+0100
TZOFFSETTO:+0200
TZNAME:CEST
DTSTART:20180325T010000
END:DAYLIGHT
BEGIN:STANDARD
TZOFFSETFROM:+0200
TZOFFSETTO:+0100
TZNAME:CET
DTSTART:20181028T010000
END:STANDARD
BEGIN:DAYLIGHT
TZOFFSETFROM:+0100
TZOFFSETTO:+0200
TZNAME:CEST
DTSTART:20190331T010000
END:DAYLIGHT
BEGIN:STANDARD
TZOFFSETFROM:+0200
TZOFFSETTO:+0100
TZNAME:CET
DTSTART:20191027T010000
END:STANDARD
BEGIN:DAYLIGHT
TZOFFSETFROM:+0100
TZOFFSETTO:+0200
TZNAME:CEST
DTSTART:20200329T010000
END:DAYLIGHT
BEGIN:STANDARD
TZOFFSETFROM:+0200
TZOFFSETTO:+0100
TZNAME:CET
DTSTART:20201025T010000
END:STANDARD
END:VTIMEZONE
BEGIN:VEVENT
DTSTART;VALUE=DATE:20190924
DTEND;VALUE=DATE:20190927
DTSTAMP:20260422T182217
CREATED:20190405T134258Z
LAST-MODIFIED:20190405T134258Z
UID:1929-1569283200-1569542399@www.performancemarketing.de
SUMMARY:Online Marketing Festival München 2019
DESCRIPTION:Das Online Marketing Festival findet in München während des Oktoberfestes statt. Am dritten Festival-Tag findet daher wie gewohnt die traditionelle Oktoberfest-Party als Krönung der Veranstaltung statt. Zuvor geht es zwei Tage lang um alle Neuigkeiten und Insights aus der Marketing-Szene: In ausgewählten Workshops verraten Top-Profis aus der Szene ihr Know-How und ihre Taktiken aus den Bereichen E-Commerce\, Content Marketing\, Growth-Hacking und vielem mehr. \nAuf der zugehörigen Expo zeigen zahlreiche bekannte Unternehmen ihre neuesten Highlights\, hier können Teilnehmer ebenfalls mit Entscheidern ins Gespräch kommen. Als erste Top-Speaker 2019 stehen u.a. bereits fest: Neil Patel (US-Marketing-Guru)\, Malte Landwehr (Searchmetrix)\, Christoph Keese (Bestsellerautor und CEO HY)\, Julian David (techUK)\, Michael Ecker (Futurecom) sowie Cody & Sarah Jensen (YouTuber & Influencer).
URL:https://www.performancemarketing.de/event/online-marketing-festival-muenchen-2019/
LOCATION:Zenith München\, Lilienthalallee 29\, München\, 80939\, Deutschland
CATEGORIES:Konferenz
ORGANIZER;CN="Trufflepig Online Marketing UG":MAILTO:d.muchow@gmx.com
END:VEVENT
END:VCALENDAR