BEGIN:VCALENDAR
VERSION:2.0
PRODID:-//PerformanceMarketing.de - ECPv6.15.20//NONSGML v1.0//EN
CALSCALE:GREGORIAN
METHOD:PUBLISH
X-ORIGINAL-URL:https://www.performancemarketing.de
X-WR-CALDESC:Veranstaltungen für PerformanceMarketing.de
REFRESH-INTERVAL;VALUE=DURATION:PT1H
X-Robots-Tag:noindex
X-PUBLISHED-TTL:PT1H
BEGIN:VTIMEZONE
TZID:Europe/Berlin
BEGIN:DAYLIGHT
TZOFFSETFROM:+0100
TZOFFSETTO:+0200
TZNAME:CEST
DTSTART:20180325T010000
END:DAYLIGHT
BEGIN:STANDARD
TZOFFSETFROM:+0200
TZOFFSETTO:+0100
TZNAME:CET
DTSTART:20181028T010000
END:STANDARD
BEGIN:DAYLIGHT
TZOFFSETFROM:+0100
TZOFFSETTO:+0200
TZNAME:CEST
DTSTART:20190331T010000
END:DAYLIGHT
BEGIN:STANDARD
TZOFFSETFROM:+0200
TZOFFSETTO:+0100
TZNAME:CET
DTSTART:20191027T010000
END:STANDARD
BEGIN:DAYLIGHT
TZOFFSETFROM:+0100
TZOFFSETTO:+0200
TZNAME:CEST
DTSTART:20200329T010000
END:DAYLIGHT
BEGIN:STANDARD
TZOFFSETFROM:+0200
TZOFFSETTO:+0100
TZNAME:CET
DTSTART:20201025T010000
END:STANDARD
END:VTIMEZONE
BEGIN:VEVENT
DTSTART;VALUE=DATE:20190911
DTEND;VALUE=DATE:20190913
DTSTAMP:20260422T182216
CREATED:20190903T125552Z
LAST-MODIFIED:20190903T125751Z
UID:2011-1568160000-1568332799@www.performancemarketing.de
SUMMARY:DMEXCO 2019
DESCRIPTION:Bereits zum elften Mal ist die DMEXCO 2019 zentraler Treffpunkt aller wichtigen Entscheidungsträger aus digitaler Wirtschaft\, Marketing und Innovationsbranchen. \nDie zweitägige Konferenz bietet Teilnehmern flankiert von einer riesigen Expo einen unvergleichlichen Hot Spot für zukunftsweisende Entwicklungen und Trends rund um Digitales Marketing\, neue Technologien und innovatives Business. Hinzu kommt die einzigartige Möglichkeit\, sich mit Führungskräften aus der ganzen Welt zu vernetzen – nicht zuletzt auf der legendären DMEXCO Party\, die immer am ersten Veranstaltungsabend stattfindet. \nAuf der Bühne werden 2019 u.a. erwartet: Jimmy Wales (Wikipedia)\, Mark D’arcy (Facebook)\, Prof. Dr. Sabina Jeschke (Deutsche Bahn)\, Max Conze (ProSiebenSat.1)\, Ashley Yuki (Instagram) und Cecile Frot-Coutaz (YouTube).
URL:https://www.performancemarketing.de/event/dmexco-2019/
LOCATION:Koelnmesse\, Messeplatz 1\, Köln\, 50679\, Deutschland
CATEGORIES:Konferenz,Messe
ORGANIZER;CN="Koelnmesse":MAILTO:info@dmexco.de
END:VEVENT
END:VCALENDAR