BEGIN:VCALENDAR
VERSION:2.0
PRODID:-//PerformanceMarketing.de - ECPv6.15.20//NONSGML v1.0//EN
CALSCALE:GREGORIAN
METHOD:PUBLISH
X-WR-CALNAME:PerformanceMarketing.de
X-ORIGINAL-URL:https://www.performancemarketing.de
X-WR-CALDESC:Veranstaltungen für PerformanceMarketing.de
REFRESH-INTERVAL;VALUE=DURATION:PT1H
X-Robots-Tag:noindex
X-PUBLISHED-TTL:PT1H
BEGIN:VTIMEZONE
TZID:Europe/Berlin
BEGIN:DAYLIGHT
TZOFFSETFROM:+0100
TZOFFSETTO:+0200
TZNAME:CEST
DTSTART:20180325T010000
END:DAYLIGHT
BEGIN:STANDARD
TZOFFSETFROM:+0200
TZOFFSETTO:+0100
TZNAME:CET
DTSTART:20181028T010000
END:STANDARD
BEGIN:DAYLIGHT
TZOFFSETFROM:+0100
TZOFFSETTO:+0200
TZNAME:CEST
DTSTART:20190331T010000
END:DAYLIGHT
BEGIN:STANDARD
TZOFFSETFROM:+0200
TZOFFSETTO:+0100
TZNAME:CET
DTSTART:20191027T010000
END:STANDARD
BEGIN:DAYLIGHT
TZOFFSETFROM:+0100
TZOFFSETTO:+0200
TZNAME:CEST
DTSTART:20200329T010000
END:DAYLIGHT
BEGIN:STANDARD
TZOFFSETFROM:+0200
TZOFFSETTO:+0100
TZNAME:CET
DTSTART:20201025T010000
END:STANDARD
END:VTIMEZONE
BEGIN:VEVENT
DTSTART;TZID=Europe/Berlin:20190903T090000
DTEND;TZID=Europe/Berlin:20190903T183000
DTSTAMP:20260422T182703
CREATED:20190425T115302Z
LAST-MODIFIED:20190425T115302Z
UID:1942-1567501200-1567535400@www.performancemarketing.de
SUMMARY:growth marketing SUMMIT 2019
DESCRIPTION:Der growth marketing SUMMIT ist Europas wichtigste Konferenz für digitales Wachstum. Ein liebevoll von Hand ausgewähltes Line-Up an weltweit führenden Experten weiht die Teilnehmer an nur einem Tag in die Geheimnisse effektiver Optimierung ein – das ist 100% Knowledge und 0% Blabla! \nHandliche Praxistipps\, Best Practices und natürlich viel Zeit zum ausgiebigen Netzwerken runden die Veranstaltung ab. Macht euch auf den Weg zu neuen Upliftspitzen! Als Speaker werden in diesem Jahr u.a. erwartet: Dr. Nicole Lipkin (Equilibria)\, Lukas Vermeer (Booking.com)\, Lars Giere (mobile.de)\, Ruppert Bodmeier (Disrooptive) und Eric Ries (Bestseller-Autor).
URL:https://www.performancemarketing.de/event/growth-marketing-summit-2019/
LOCATION:Alte Oper Frankfurt\, Opernplatz 1\, Frankfurt\, 60313\, Deutschland
CATEGORIES:Konferenz
ORGANIZER;CN="konversionsKRAFT":MAILTO:info@growthmarketingSUMMIT.com
END:VEVENT
END:VCALENDAR