BEGIN:VCALENDAR
VERSION:2.0
PRODID:-//PerformanceMarketing.de - ECPv6.15.20//NONSGML v1.0//EN
CALSCALE:GREGORIAN
METHOD:PUBLISH
X-ORIGINAL-URL:https://www.performancemarketing.de
X-WR-CALDESC:Veranstaltungen für PerformanceMarketing.de
REFRESH-INTERVAL;VALUE=DURATION:PT1H
X-Robots-Tag:noindex
X-PUBLISHED-TTL:PT1H
BEGIN:VTIMEZONE
TZID:Europe/Berlin
BEGIN:DAYLIGHT
TZOFFSETFROM:+0100
TZOFFSETTO:+0200
TZNAME:CEST
DTSTART:20180325T010000
END:DAYLIGHT
BEGIN:STANDARD
TZOFFSETFROM:+0200
TZOFFSETTO:+0100
TZNAME:CET
DTSTART:20181028T010000
END:STANDARD
BEGIN:DAYLIGHT
TZOFFSETFROM:+0100
TZOFFSETTO:+0200
TZNAME:CEST
DTSTART:20190331T010000
END:DAYLIGHT
BEGIN:STANDARD
TZOFFSETFROM:+0200
TZOFFSETTO:+0100
TZNAME:CET
DTSTART:20191027T010000
END:STANDARD
BEGIN:DAYLIGHT
TZOFFSETFROM:+0100
TZOFFSETTO:+0200
TZNAME:CEST
DTSTART:20200329T010000
END:DAYLIGHT
BEGIN:STANDARD
TZOFFSETFROM:+0200
TZOFFSETTO:+0100
TZNAME:CET
DTSTART:20201025T010000
END:STANDARD
END:VTIMEZONE
BEGIN:VEVENT
DTSTART;VALUE=DATE:20190626
DTEND;VALUE=DATE:20190628
DTSTAMP:20260422T225350
CREATED:20190612T112118Z
LAST-MODIFIED:20190612T112734Z
UID:1970-1561507200-1561679999@www.performancemarketing.de
SUMMARY:GMP Con 2019
DESCRIPTION:Die GMP Con ist die erste Fachkonferenz zur Google Marketing Platform in Deutschland. Hier dreht sich alles rund um Google Analytics\, den Google Tag-Manager\, Google Optimize\, Google Data Studio und Display & Video 360. \nIn zahlreichen Hands-On-Trainings und Vorträgen erfahren die Teilnehmer\, wie sie ihre Kampagnen und Webseiten aufsetzen\, steuern\, analysieren und optimieren können. Neben intensiven Praxis-Sessions bietet die Konferenz einen regen Wissensaustusch mit Experten und Branchenkollegen\, das Knüpfen wertvoller Kontakte sowie neuen Input für die eigenen Strategien und Konzepte. \nDie GMP Con eignet sich für Marketer\, Online-Marketing-Experten\, Analysten\, Campaign-Manager und Web Developer. Am ersten Tag fokussieren sich die Trainings eher auf Einsteiger\, am zweiten Tag warten intensive Sessions für fortgeschrittene Anwender.
URL:https://www.performancemarketing.de/event/gmp-con-2019/
LOCATION:Komed Im Mediapark\, Im Mediapark 7\, Köln\, 50670\, Deutschland
CATEGORIES:Konferenz
ORGANIZER;CN="e-dialog GmbH":MAILTO:gauc@e-dialog.at
END:VEVENT
END:VCALENDAR