BEGIN:VCALENDAR
VERSION:2.0
PRODID:-//PerformanceMarketing.de - ECPv6.15.20//NONSGML v1.0//EN
CALSCALE:GREGORIAN
METHOD:PUBLISH
X-ORIGINAL-URL:https://www.performancemarketing.de
X-WR-CALDESC:Veranstaltungen für PerformanceMarketing.de
REFRESH-INTERVAL;VALUE=DURATION:PT1H
X-Robots-Tag:noindex
X-PUBLISHED-TTL:PT1H
BEGIN:VTIMEZONE
TZID:Europe/Berlin
BEGIN:DAYLIGHT
TZOFFSETFROM:+0100
TZOFFSETTO:+0200
TZNAME:CEST
DTSTART:20180325T010000
END:DAYLIGHT
BEGIN:STANDARD
TZOFFSETFROM:+0200
TZOFFSETTO:+0100
TZNAME:CET
DTSTART:20181028T010000
END:STANDARD
BEGIN:DAYLIGHT
TZOFFSETFROM:+0100
TZOFFSETTO:+0200
TZNAME:CEST
DTSTART:20190331T010000
END:DAYLIGHT
BEGIN:STANDARD
TZOFFSETFROM:+0200
TZOFFSETTO:+0100
TZNAME:CET
DTSTART:20191027T010000
END:STANDARD
BEGIN:DAYLIGHT
TZOFFSETFROM:+0100
TZOFFSETTO:+0200
TZNAME:CEST
DTSTART:20200329T010000
END:DAYLIGHT
BEGIN:STANDARD
TZOFFSETFROM:+0200
TZOFFSETTO:+0100
TZNAME:CET
DTSTART:20201025T010000
END:STANDARD
END:VTIMEZONE
BEGIN:VEVENT
DTSTART;VALUE=DATE:20190604
DTEND;VALUE=DATE:20190606
DTSTAMP:20260422T225344
CREATED:20190307T130652Z
LAST-MODIFIED:20190307T130812Z
UID:1902-1559606400-1559779199@www.performancemarketing.de
SUMMARY:K5 - The Future Retail Conference 2019
DESCRIPTION:„Wohin führt uns die digitale Transformation?“ Diese Frage steht über der diesjährigen K5 Future Retail Conference\, die 2019 zum neunten Mal stattfindet und die sich inzwischen als Leitveranstaltung des E-Commerce im deutschsprachigen Raum etabliert hat. \nDie Möglichkeiten für den Handel durch die digitale Transformation sind nahezu grenzenlos – man muss sie nur entdecken und herausfinden\, wie sie einem im eigenen Unternehmen am besten nützen können. Wer also den Handel von morgen gestalten möchte\, bekommt auf der K5 Future Retail Conference die besten Tipps\, Insights und Strategien von einigen der herausragendsten Experten des E-Commerce! \nFreuen Sie sich u.a. auf diese Speaker: Stefan Smalla (Westwing)\, Dr. Malte Dous (Wayfair)\, Christoph Gerber (Takeaway.com)\, Dr. Sven Bernhardt (Breuninger) und Joana Heinen (odernichtoderdoch).
URL:https://www.performancemarketing.de/event/k5-the-future-retail-conference-2019/
LOCATION:Estrel Congress Center\, Sonnenallee 225\, Berlin\, 12057\, Deutschland
CATEGORIES:Konferenz
ORGANIZER;CN="K5 GmbH":MAILTO:schluepmann@k5-gmbh.com
END:VEVENT
BEGIN:VEVENT
DTSTART;VALUE=DATE:20190604
DTEND;VALUE=DATE:20190607
DTSTAMP:20260422T225344
CREATED:20190527T123904Z
LAST-MODIFIED:20190527T123904Z
UID:1958-1559606400-1559865599@www.performancemarketing.de
SUMMARY:Munich Marketing Week 2019
DESCRIPTION:Die Munich Marketing Week holt die ganze Welt des Marketings nach München. An drei Tagen erhalten die Teilnehmer spannende und inspirierende Einblicke in Technologien\, die sich nach Zukunft anhören\, aber jetzt schon Realität sind. Hier treffen internationale Top-Speaker auf Best Cases von nebenan. \nJeder der drei Kongresstage hat einen eigenen Schwerpunkt. An Tag 1 lautet das Motto „7 Secrets“. BEEF4BRANDS V geht dabei der Frage nach: Was macht den Kunden glücklich? Die Reise führt von der Informationsphase vor dem Kauf bis zum Kundenservice bei Problemen\, vom Markenauftritt bis zum automatisierten Service. Am zweiten Tag heißt es „Clash oft he Titans“. Hier gehen Facebook\, Google\, Amazon und Apple an den Start. Wie gehen Marketingverantwortliche mit der Vormachtstellung dieser Riesen um? Wie holen Sie das Beste für ihr Unternehmen heraus? Welche Alternativen gibt es? \nDer letzte Tag der Munich Marketing Days steht schließlich unter dem Motto „Voice kills Display“. Werden Sprachassistenten Display-Marketing ablösen? Hier geht es um Alexa\, Siri\, Cortana & Co. Die User gewöhnen sich schnell an neue\, digitale Familienmitglieder. Aber können Sprachassistenten und KI das Bewegtbild komplett verdrängen? Neben den Tagesveranstaltungen runden die W&V Meetnight sowie das BEEF BBQ die Munich Marketing Week perfekt ab und bieten ausreichend Gelegenheit\, das eigene Netzwerk effektiv zu erweitern.
URL:https://www.performancemarketing.de/event/munich-marketing-week-2019/
LOCATION:ziegelei101\, Münchener Str. 101\, Ismaning\, 85737\, Deutschland
CATEGORIES:Kongress
ORGANIZER;CN="Verlag Werben & Verkaufen":MAILTO:events@wuv.de
END:VEVENT
END:VCALENDAR