BEGIN:VCALENDAR
VERSION:2.0
PRODID:-//PerformanceMarketing.de - ECPv6.15.20//NONSGML v1.0//EN
CALSCALE:GREGORIAN
METHOD:PUBLISH
X-ORIGINAL-URL:https://www.performancemarketing.de
X-WR-CALDESC:Veranstaltungen für PerformanceMarketing.de
REFRESH-INTERVAL;VALUE=DURATION:PT1H
X-Robots-Tag:noindex
X-PUBLISHED-TTL:PT1H
BEGIN:VTIMEZONE
TZID:Europe/Berlin
BEGIN:DAYLIGHT
TZOFFSETFROM:+0100
TZOFFSETTO:+0200
TZNAME:CEST
DTSTART:20180325T010000
END:DAYLIGHT
BEGIN:STANDARD
TZOFFSETFROM:+0200
TZOFFSETTO:+0100
TZNAME:CET
DTSTART:20181028T010000
END:STANDARD
BEGIN:DAYLIGHT
TZOFFSETFROM:+0100
TZOFFSETTO:+0200
TZNAME:CEST
DTSTART:20190331T010000
END:DAYLIGHT
BEGIN:STANDARD
TZOFFSETFROM:+0200
TZOFFSETTO:+0100
TZNAME:CET
DTSTART:20191027T010000
END:STANDARD
BEGIN:DAYLIGHT
TZOFFSETFROM:+0100
TZOFFSETTO:+0200
TZNAME:CEST
DTSTART:20200329T010000
END:DAYLIGHT
BEGIN:STANDARD
TZOFFSETFROM:+0200
TZOFFSETTO:+0100
TZNAME:CET
DTSTART:20201025T010000
END:STANDARD
END:VTIMEZONE
BEGIN:VEVENT
DTSTART;VALUE=DATE:20190521
DTEND;VALUE=DATE:20190524
DTSTAMP:20260423T003351
CREATED:20190412T115353Z
LAST-MODIFIED:20190412T115353Z
UID:1933-1558396800-1558655999@www.performancemarketing.de
SUMMARY:D2M Summit 2019
DESCRIPTION:Der D2M Summit ist eine Fachkonferenz zu Trends\, Herausforderungen und Erfahrungswerten bei der Neugestaltung der Kundenkommunikation im digitalen Zeitalter. Im Mittelpunkt stehen bei der dreitägigen Konferenz Projekterfahrungen von Content und Influencer-Marketing über Social Media Marketing bis hin zu digitaler Service- und Echtzeit-Erlebniskommunikation (via Conversational Interfaces\, Chatbots etc.). \nDer Schwerpunkt 2019 liegt dabei im Content und Social Media-Bereich sowie im Customer Engagement Management. Neben zahlreichen Vorträgen und interaktive Workshops bleibt ausreichend Zeit\, das eigene Netzwerk zu erweitern. Als Referenten haben sich 2019 u.a. angekündigt: Jenni Juvonen (Zalando)\, Nicoleta Anton (TomTom)\, Anne Marschner (Sparwelt)\, Carsta Maria Müller (ProSiebenSat.1)\, Michael Nenninger (Voycer) und Christoph Weltmann (innogy).
URL:https://www.performancemarketing.de/event/d2m-summit-2019/
LOCATION:Hotel East Hamburg\, Simon-von-Utrecht-Straße 31\, Hamburg\, 20359\, Deutschland
CATEGORIES:Konferenz
ORGANIZER;CN="Kongress Media GmbH":MAILTO:contact@kongressmedia.de
END:VEVENT
BEGIN:VEVENT
DTSTART;VALUE=DATE:20190523
DTEND;VALUE=DATE:20190525
DTSTAMP:20260423T003351
CREATED:20190425T113437Z
LAST-MODIFIED:20190425T113437Z
UID:1939-1558569600-1558742399@www.performancemarketing.de
SUMMARY:Contra 2019
DESCRIPTION:Contra steht für Conversion und Traffic – an diesen beiden Stellschrauben setzt exzellentes Marketing an. Und genau das erwartet die Besucher auf der zweitägigen Konferenz: Maximieren Sie Ihren Umsatz\, steigern Sie Ihre Kaufraten und erhalten Sie mehr Besucher mit Marketing\, das wirklich funktioniert. \nAuf der Contra werden zahlreiche Marketing-Felder abgedeckt: Conversion Optimierung\, E-Mail-Marketing\, Storytelling\, Branding\, SEO\, Social Media Marketing\, Influencer Marketing und noch vieles mehr. Natürlich bleibt zwischen den zahlreichen Veranstaltungen aus ausreichend Zeit\, sein eigenes Netzwerk zu erweitern. \nAls Speaker stehen in diesem Jahr u.a. auf den Stages: Adis Pezerovic (Thema: Facebook Ads)\, Alexander Krunic (Amazon FBA)\, Ann-Katrin Schmitz und Dagi Bee (Influencer Marketing)\, Dirk Kreuter (Conversion)\, Marcel Knopf (PPC Marketing) und Oliver Wermeling (Automatisierung).
URL:https://www.performancemarketing.de/event/contra-2019/
LOCATION:Mitsubishi Electric Halle\, Siegburger Strasse 15\, Düsseldorf\, 40591\, Deutschland
CATEGORIES:Konferenz
ORGANIZER;CN="Digital Beat GmbH":MAILTO:team@digitalbeat.de
END:VEVENT
BEGIN:VEVENT
DTSTART;TZID=Europe/Berlin:20190523T090000
DTEND;TZID=Europe/Berlin:20190523T173000
DTSTAMP:20260423T003351
CREATED:20190206T150300Z
LAST-MODIFIED:20190206T150300Z
UID:1850-1558602000-1558632600@www.performancemarketing.de
SUMMARY:PPC Masters 2019
DESCRIPTION:Die PPC Masters ist das Event für alle\, die mit Klicks handeln. Die einzigartige SEA-Konferenz ist der ideale Treffpunkt für Online Marketer mit einem Advanced und Expert Level\, die sich täglich mit dem Einkauf großer Klick-Volumen auf Plattformen wie Facebook oder Google beschäftigen. Auf der Agenda stehen neben SEA\, AdWords und PPC-Traffic wie in jedem Jahr aktuelle Trends\, Tools und Ansätze. Auch weniger erfahrene Marketer kommen bei der PPC Masters auf ihre Kosten und erhalten beim ausgiebigen Netzwerken hilfreiche Tipps und Kniffe für ihren Arbeitsalltag.
URL:https://www.performancemarketing.de/event/ppc-masters-2019/
LOCATION:Spreegalerie\, Am Krögel 2\, Berlin\, 10179\, Deutschland
CATEGORIES:Konferenz
ORGANIZER;CN="AKM3 GmbH":MAILTO:marketing@ppcmasters.de
END:VEVENT
BEGIN:VEVENT
DTSTART;TZID=Europe/Berlin:20190523T093000
DTEND;TZID=Europe/Berlin:20190523T180000
DTSTAMP:20260423T003351
CREATED:20190412T121804Z
LAST-MODIFIED:20190412T121804Z
UID:1935-1558603800-1558634400@www.performancemarketing.de
SUMMARY:Social Conference 2019
DESCRIPTION:Bereits zum sechsten Mal findet in diesem Jahr die Social Conference\, eine der wichtigsten Digital-Konferenzen im deutschsprachigen Raum\, statt. Die rasante Entwicklung der marketinggetriebenen Digitalwelt fordert bestehende Geschäftsmodelle heraus – Zeit\, sich mit den Entwicklungen\, Trends und Usecases der Digital-Marketing-Welt zu befassen\, um das eigene Unternehmen für das digitale Marketing zu rüsten. \nDer Fokus 2019 liegt auf den Themen Omni-Channel-Strategien\, Influencer-Marketing\, Podcasting\, Facebook-Ads\, Instagram\, Messenger- und Content-Marketing sowie Uploadfilter und ePrivacy. Zu einer Premium-Konferenz gehören selbstverständlich auch Spitzen-Speaker. In diesem Jahr stehen u.a. auf der Bühne: Christoph Assmann (Sixt)\, Jenny Wiethölter (Dropbox)\, Bianca Bauer (Microsoft Deutschland)\, Ron Engelbert (Facebook) und Martin Wild (Media Markt Saturn Retail Group).
URL:https://www.performancemarketing.de/event/social-conference-2019/
LOCATION:Backstage München\, Reitknechtstraße 6\, München\, 80639\, Deutschland
CATEGORIES:Konferenz
ORGANIZER;CN="Hakan Han":MAILTO:info@socialconference.de
END:VEVENT
END:VCALENDAR