BEGIN:VCALENDAR
VERSION:2.0
PRODID:-//PerformanceMarketing.de - ECPv6.15.20//NONSGML v1.0//EN
CALSCALE:GREGORIAN
METHOD:PUBLISH
X-ORIGINAL-URL:https://www.performancemarketing.de
X-WR-CALDESC:Veranstaltungen für PerformanceMarketing.de
REFRESH-INTERVAL;VALUE=DURATION:PT1H
X-Robots-Tag:noindex
X-PUBLISHED-TTL:PT1H
BEGIN:VTIMEZONE
TZID:Europe/Berlin
BEGIN:DAYLIGHT
TZOFFSETFROM:+0100
TZOFFSETTO:+0200
TZNAME:CEST
DTSTART:20180325T010000
END:DAYLIGHT
BEGIN:STANDARD
TZOFFSETFROM:+0200
TZOFFSETTO:+0100
TZNAME:CET
DTSTART:20181028T010000
END:STANDARD
BEGIN:DAYLIGHT
TZOFFSETFROM:+0100
TZOFFSETTO:+0200
TZNAME:CEST
DTSTART:20190331T010000
END:DAYLIGHT
BEGIN:STANDARD
TZOFFSETFROM:+0200
TZOFFSETTO:+0100
TZNAME:CET
DTSTART:20191027T010000
END:STANDARD
BEGIN:DAYLIGHT
TZOFFSETFROM:+0100
TZOFFSETTO:+0200
TZNAME:CEST
DTSTART:20200329T010000
END:DAYLIGHT
BEGIN:STANDARD
TZOFFSETFROM:+0200
TZOFFSETTO:+0100
TZNAME:CET
DTSTART:20201025T010000
END:STANDARD
END:VTIMEZONE
BEGIN:VEVENT
DTSTART;TZID=Europe/Berlin:20190516T080000
DTEND;TZID=Europe/Berlin:20190516T203000
DTSTAMP:20260423T003243
CREATED:20190207T130400Z
LAST-MODIFIED:20190207T130603Z
UID:1860-1557993600-1558038600@www.performancemarketing.de
SUMMARY:Rheinwerk Online Marketing Konferenz 2019
DESCRIPTION:Wie erzeuge ich Traffic\, der mich weiterbringt? Wie führe ich mein Content Marketing zum Erfolg? Wir richte ich Ads-Kampagnen richtig aus? Diesen und vielen weiteren Fragen geht die Rheinwerk Online Marketing Konferenz auf den Grund. Finden Sie heraus\, wo Ihr Marketing-Spielfeld liegt\, lernen Sie in der Webanalyse die richtigen KPI messen und erzeugen Sie nachhaltigen Traffic mit SEO und Google Ads. Erstellen Sie zündende Kampagnen mit Storytelling oder entdecken Sie neue\, effektive Werbemethoden im Social Web mit Instagram und Pinterest. \n17 namhafte Branchenprofis geben Einblicke in ihre Arbeit und versorgen Sie mit Tipps\, Tricks und Insights. Dazu gehören: André Morys (konversionsKRAFT)\, Sebastian Erlhofer (mindshape)\, Prof. Dr. Mario Fischer (Website Boosting) und Christian Solmecke (Kanzlei Wilde Beuger Solmecke).
URL:https://www.performancemarketing.de/event/rheinwerk-online-marketing-konferenz-2019/
LOCATION:DOCK.ONE\, Hafenstraße 1\, Köln\, 51063\, Deutschland
CATEGORIES:Konferenz
ORGANIZER;CN="Rheinwerk Verlag":MAILTO:carmen.weiss@rheinwerk-verlag.de
END:VEVENT
BEGIN:VEVENT
DTSTART;TZID=Europe/Berlin:20190516T100000
DTEND;TZID=Europe/Berlin:20190516T220000
DTSTAMP:20260423T003243
CREATED:20190430T140343Z
LAST-MODIFIED:20190430T140448Z
UID:1945-1558000800-1558044000@www.performancemarketing.de
SUMMARY:OMfinCon 2019
DESCRIPTION:Die OMfinCon wurde 2015 ins Leben gerufen und geht in diesem Jahr daher schon in die 5. Runde! Mehr als 300 Teilnehmer aus dem Bereich Financial Advertising diskutieren auf der Konferenz in zukunftsweisenden Fachvorträgen und Workshops über News und Herausforderungen des Financial Advertising in der Finanz- und FinTech-Branche. \nWas sind die angesagtesten Entwicklungen auf dem Markt? Wie kann ich im Financial Advertising erfolgreich sein? Wenn Sie in der Online Marketing-Branche verankert sind und mit Kunden der Finanzindustrie zusammenarbeiten oder arbeiten wollen\, dann ist die OMfinCon ein Pflichttermin für Sie! Natürlich bleibt neben dem Programm auch noch genügend Zeit\, das eigene Netzwerk zu erweitern. Als Speaker werden 2019 u.a. erwartet: Dr. Andreas K. Gruber (Deutsche Kreditbank)\, Christian Sauer (Webtrekk)\, Lisa Purrucker (xpose360)\, Benedict Gorka (Barclays) und Alexis Eisenhofer (financial.com). \nBitte beachten Sie: Das limitierte Ticketkontingent steht nur bestehenden financeAds-Partnern zur Verfügung. Sie wollen financeAds-Partner werden? Dann können Sie sich unter folgendem Link registrieren: https://www.financeads.net/publisher/registrierung/
URL:https://www.performancemarketing.de/event/omfincon-2019/
LOCATION:Festsaal Kreuzberg\, Am Flutgraben 2\, Berlin\, 12435\, Deutschland
CATEGORIES:Konferenz
ORGANIZER;CN="financeAds GmbH & Co. KG":MAILTO:marketing@financeads.net
END:VEVENT
END:VCALENDAR