BEGIN:VCALENDAR
VERSION:2.0
PRODID:-//PerformanceMarketing.de - ECPv6.15.20//NONSGML v1.0//EN
CALSCALE:GREGORIAN
METHOD:PUBLISH
X-ORIGINAL-URL:https://www.performancemarketing.de
X-WR-CALDESC:Veranstaltungen für PerformanceMarketing.de
REFRESH-INTERVAL;VALUE=DURATION:PT1H
X-Robots-Tag:noindex
X-PUBLISHED-TTL:PT1H
BEGIN:VTIMEZONE
TZID:Europe/Berlin
BEGIN:DAYLIGHT
TZOFFSETFROM:+0100
TZOFFSETTO:+0200
TZNAME:CEST
DTSTART:20180325T010000
END:DAYLIGHT
BEGIN:STANDARD
TZOFFSETFROM:+0200
TZOFFSETTO:+0100
TZNAME:CET
DTSTART:20181028T010000
END:STANDARD
BEGIN:DAYLIGHT
TZOFFSETFROM:+0100
TZOFFSETTO:+0200
TZNAME:CEST
DTSTART:20190331T010000
END:DAYLIGHT
BEGIN:STANDARD
TZOFFSETFROM:+0200
TZOFFSETTO:+0100
TZNAME:CET
DTSTART:20191027T010000
END:STANDARD
BEGIN:DAYLIGHT
TZOFFSETFROM:+0100
TZOFFSETTO:+0200
TZNAME:CEST
DTSTART:20200329T010000
END:DAYLIGHT
BEGIN:STANDARD
TZOFFSETFROM:+0200
TZOFFSETTO:+0100
TZNAME:CET
DTSTART:20201025T010000
END:STANDARD
END:VTIMEZONE
BEGIN:VEVENT
DTSTART;VALUE=DATE:20190409
DTEND;VALUE=DATE:20190411
DTSTAMP:20260423T032917
CREATED:20190219T141338Z
LAST-MODIFIED:20190219T141338Z
UID:1871-1554768000-1554940799@www.performancemarketing.de
SUMMARY:hallo.digital 2019
DESCRIPTION:Die hallo.digital ist eine zweitägige Konferenz\, bei der namhafte Online-Experten am ersten Tag spannendes Wissen aus der Praxis zur digitalen Transformation präsentieren. Am zweiten Tag werden die Impulsvorträge dann durch praxisnahe Workshops ergänzt\, wo in kleinen Gruppen direkt mit dem jeweiligen Trainer gearbeitet wird. Geplant sind Vorträge und Workshops zu Themen wie E-Mail-Marketing\, SEO\, Google Ads\, Tracking & Google Analytics\, UX-Design\, E-Commerce und Social Media. Die anschließende After-Show-Party bietet ausreichend Gelegenheit für gemütliches Networking.
URL:https://www.performancemarketing.de/event/hallo-digital-2019/
LOCATION:Tollhaus Karlsruhe\, Alter Schlachthof 35\, Karlsruhe\, 76131\, Deutschland
CATEGORIES:Konferenz
ORGANIZER;CN="netzstrategen GmbH":MAILTO:info@netzstrategen.com
END:VEVENT
BEGIN:VEVENT
DTSTART;TZID=Europe/Berlin:20190409T090000
DTEND;TZID=Europe/Berlin:20190409T130000
DTSTAMP:20260423T032917
CREATED:20190328T150508Z
LAST-MODIFIED:20190328T150508Z
UID:1921-1554800400-1554814800@www.performancemarketing.de
SUMMARY:The Digital Bash 2019
DESCRIPTION:Zum allersten Mal findet in diesem Jahr „The Digital Bash“ statt. Die reine Web-Konferenz steht im Zeichen moderner Marketing-Lösungen\, aktueller Entwicklungen und Trends. Sie bringt an einem Vormittag interessierte Teilnehmer und Speaker von renommierten Unternehmen und ihr jeweiliges Fachwissen zusammen. Für die maximal 2.500 Teilnehmer steht ein kostenloser Live-Zugang sowie eine ebenfalls kostenlos Aufzeichnung der Vorträge zur Verfügung. \nFreuen Sie sich u.a. auf folgende Speaker: Ben Prause (Yext)\, Artur Wagner (FACT-Finder)\, Britta Kristin Böhle (Trusted Shops)\, Hakan Özal (financeAds)\, Hanna Weyer (Meltwater) und Sven Knierim (Reputation.com).
URL:https://www.performancemarketing.de/event/the-digital-bash-2019/
CATEGORIES:Konferenz
ORGANIZER;CN="OnlineMarketing.de GmbH":MAILTO:Marc.Stahlmann@onlinemarketing.de
END:VEVENT
END:VCALENDAR