BEGIN:VCALENDAR
VERSION:2.0
PRODID:-//PerformanceMarketing.de - ECPv6.15.20//NONSGML v1.0//EN
CALSCALE:GREGORIAN
METHOD:PUBLISH
X-WR-CALNAME:PerformanceMarketing.de
X-ORIGINAL-URL:https://www.performancemarketing.de
X-WR-CALDESC:Veranstaltungen für PerformanceMarketing.de
REFRESH-INTERVAL;VALUE=DURATION:PT1H
X-Robots-Tag:noindex
X-PUBLISHED-TTL:PT1H
BEGIN:VTIMEZONE
TZID:Europe/Berlin
BEGIN:DAYLIGHT
TZOFFSETFROM:+0100
TZOFFSETTO:+0200
TZNAME:CEST
DTSTART:20180325T010000
END:DAYLIGHT
BEGIN:STANDARD
TZOFFSETFROM:+0200
TZOFFSETTO:+0100
TZNAME:CET
DTSTART:20181028T010000
END:STANDARD
BEGIN:DAYLIGHT
TZOFFSETFROM:+0100
TZOFFSETTO:+0200
TZNAME:CEST
DTSTART:20190331T010000
END:DAYLIGHT
BEGIN:STANDARD
TZOFFSETFROM:+0200
TZOFFSETTO:+0100
TZNAME:CET
DTSTART:20191027T010000
END:STANDARD
BEGIN:DAYLIGHT
TZOFFSETFROM:+0100
TZOFFSETTO:+0200
TZNAME:CEST
DTSTART:20200329T010000
END:DAYLIGHT
BEGIN:STANDARD
TZOFFSETFROM:+0200
TZOFFSETTO:+0100
TZNAME:CET
DTSTART:20201025T010000
END:STANDARD
END:VTIMEZONE
BEGIN:VEVENT
DTSTART;VALUE=DATE:20190402
DTEND;VALUE=DATE:20190404
DTSTAMP:20260423T015200
CREATED:20190220T131920Z
LAST-MODIFIED:20190220T131950Z
UID:1881-1554163200-1554335999@www.performancemarketing.de
SUMMARY:SMX München 2019
DESCRIPTION:SEO+SEA=SMX. Am 2. und 3. April steigt wieder Deutschlands größte Konferenz für Suchmarketing in München. Hier gibt es kein generisches Marken-Blabla\, sondern Cutting Edge-Taktiken und Strategien von den angesagtesten Top-Experten der Branche aus aller Welt. Hier gibt es alle relevanten Lösungen für eure Marketingherausforderungen und natürliche die brandheißesten Trends und Innovationen. In bis zu sieben parallel laufenden Themen-Tracks erfahren die Teilnehmer alle News zu SEO\, SEA\, Content\, Analytics & Data\, AI@Work und vieles mehr! \nAls Speaker stehen für euch in diesem Jahr u.a. auf der Bühne: Florian Eckert (McDonalds)\, John Müller (Google)\, Purna Virji (Microsoft)\, Nick Wilsdon (Vodafone)\, Patrick Stock (IBM) und Luis Navarrete Gómez (Lego).
URL:https://www.performancemarketing.de/event/smx-muenchen-2019/
LOCATION:ICM Internationales Congress Centrum München\, Messegelände\, München\, 81823\, Deutschland
CATEGORIES:Konferenz
ORGANIZER;CN="Rising Media Ltd":MAILTO:info@risingmedia.com
END:VEVENT
BEGIN:VEVENT
DTSTART;VALUE=DATE:20190402
DTEND;VALUE=DATE:20190404
DTSTAMP:20260423T015200
CREATED:20190328T142715Z
LAST-MODIFIED:20190328T142756Z
UID:1919-1554163200-1554335999@www.performancemarketing.de
SUMMARY:d3con 2019
DESCRIPTION:Die d3con ist die größte Fachkonferenz über die Zukunft der digitalen Werbung. Programmatic Advertising ist heute das Betriebssystem\, das moderne digitale Marketingstrategien ermöglicht und die Steuerung und Messung aller Marketingkanäle vereinheitlicht. Marketing AI und Marketing Automation sind somit die Trends\, die zukünftig die Komplexität der neuen Marketingwelt beherrschbar machen sollen. \nAuf der 3don treffen sich führende Experten und Dienstleister mit Werbetreibenden\, Agenturen und Publishern zum Erfahrungsaustausch sowie zum ausgiebigen Netzwerken. Rund 140 Speaker werden mit Vorträgen und Präsentationen die Teilnehmer der zweitägigen Konferenz begeistern – dazu gehören 2019 u.a. Bernd Fauser (Google)\, Renata Dadic (Deutsche Bank)\, Arist von Harpe (XING)\, Lena Hofschröer (OTTO)\, Andreas Neef (L’Oréal) und Craig Silverman (Buzzfeed).
URL:https://www.performancemarketing.de/event/d3con-2019/
LOCATION:CinemaxX Dammtor\, Dammtordamm 1\, Hamburg\, 20354\, Deutschland
CATEGORIES:Konferenz
ORGANIZER;CN="d3con GmbH":MAILTO:info@d3con.de
END:VEVENT
BEGIN:VEVENT
DTSTART;TZID=Europe/Berlin:20190402T090000
DTEND;TZID=Europe/Berlin:20190402T180000
DTSTAMP:20260423T015200
CREATED:20190306T133514Z
LAST-MODIFIED:20190306T133816Z
UID:1892-1554195600-1554228000@www.performancemarketing.de
SUMMARY:AllFacebook Marketing Conference AFBMC 2019
DESCRIPTION:Bei der AFBMC wird München zu dem Ort für Social Marketing. Was bringen Facebook\, Instagram\, WhatsApp\, Pinterest\, YouTube oder Twitter für mein Unternehmen? Holen Sie sich die neuesten Strategien\, Trends und Konzepte auf fünf Bühnen mit mehr als 50 Speakern und vertiefen Sie ihre Ideen mit den mehr als 1.000 Teilnehmern bei großzügigen Networking-Pausen. Egal ob Einzelkämpfer\, kleines Unternehmen\, Mittelstand oder Großkonzern – wir spielen alle mit den gleichen Netzwerken! \nAls Speaker werden in diesem Jahr unter anderem auf den Bühnen stehen: Carmelo Russo (Social DNA)\, Verena Hensler (John Deere)\, Marie-Louise Petersen (ZDF Digital)\, Nadja Griehl (Swiss) und Karl Kratz.
URL:https://www.performancemarketing.de/event/allfacebook-marketing-conference-afbmc-2019/
LOCATION:ICM Internationales Congress Centrum München\, Messegelände\, München\, 81823\, Deutschland
CATEGORIES:Konferenz
ORGANIZER;CN="Rising Media Ltd":MAILTO:info@risingmedia.com
END:VEVENT
END:VCALENDAR