BEGIN:VCALENDAR
VERSION:2.0
PRODID:-//PerformanceMarketing.de - ECPv6.15.20//NONSGML v1.0//EN
CALSCALE:GREGORIAN
METHOD:PUBLISH
X-WR-CALNAME:PerformanceMarketing.de
X-ORIGINAL-URL:https://www.performancemarketing.de
X-WR-CALDESC:Veranstaltungen für PerformanceMarketing.de
REFRESH-INTERVAL;VALUE=DURATION:PT1H
X-Robots-Tag:noindex
X-PUBLISHED-TTL:PT1H
BEGIN:VTIMEZONE
TZID:Europe/Berlin
BEGIN:DAYLIGHT
TZOFFSETFROM:+0100
TZOFFSETTO:+0200
TZNAME:CEST
DTSTART:20180325T010000
END:DAYLIGHT
BEGIN:STANDARD
TZOFFSETFROM:+0200
TZOFFSETTO:+0100
TZNAME:CET
DTSTART:20181028T010000
END:STANDARD
BEGIN:DAYLIGHT
TZOFFSETFROM:+0100
TZOFFSETTO:+0200
TZNAME:CEST
DTSTART:20190331T010000
END:DAYLIGHT
BEGIN:STANDARD
TZOFFSETFROM:+0200
TZOFFSETTO:+0100
TZNAME:CET
DTSTART:20191027T010000
END:STANDARD
BEGIN:DAYLIGHT
TZOFFSETFROM:+0100
TZOFFSETTO:+0200
TZNAME:CEST
DTSTART:20200329T010000
END:DAYLIGHT
BEGIN:STANDARD
TZOFFSETFROM:+0200
TZOFFSETTO:+0100
TZNAME:CET
DTSTART:20201025T010000
END:STANDARD
END:VTIMEZONE
BEGIN:VEVENT
DTSTART;TZID=Europe/Berlin:20190328T081500
DTEND;TZID=Europe/Berlin:20190328T210000
DTSTAMP:20260423T032748
CREATED:20190305T133729Z
LAST-MODIFIED:20190305T134111Z
UID:1885-1553760900-1553806800@www.performancemarketing.de
SUMMARY:Like it! - Social Media Summit 2019
DESCRIPTION:Das Social Media Summit 2019 widmet sich neuesten Trends und Themen rund um Social-Media-Marketing. Was sind aktuelle Trends und Herausforderungen im Influencer Marketing? Wie baut man einen erfolgreichen YouTube-Channel auf? Wie setze ich erfolgreiche Kampagnen auf\, die meine Follower zu Fans machen? Alle Infos dazu sowie die besten Social-Media-Marketing-Hacks und Geheimtipps gibt es von den renommiertesten Social Media-Experten auf dem Social Media Summit in München! \nAuf der Bühne werden u.a. erwartet: Benedikt Böckenförder (Visual Statements)\, Mario Lochner und Timo Baudzus (Focus Money)\, Laura Pier (Social Match)\, Collin Croome (coma2 e-branding) und Sven Wedig (Vollpension Medien). Like it und sei dabei!
URL:https://www.performancemarketing.de/event/like-it-social-media-summit-2019/
LOCATION:beach38°\, Friedenstraße 22C\, München\, 81671\, Deutschland
CATEGORIES:Konferenz
ORGANIZER;CN="DMADE Marketing":MAILTO:info@like-it-event.de
END:VEVENT
END:VCALENDAR