BEGIN:VCALENDAR
VERSION:2.0
PRODID:-//PerformanceMarketing.de - ECPv6.15.20//NONSGML v1.0//EN
CALSCALE:GREGORIAN
METHOD:PUBLISH
X-ORIGINAL-URL:https://www.performancemarketing.de
X-WR-CALDESC:Veranstaltungen für PerformanceMarketing.de
REFRESH-INTERVAL;VALUE=DURATION:PT1H
X-Robots-Tag:noindex
X-PUBLISHED-TTL:PT1H
BEGIN:VTIMEZONE
TZID:Europe/Berlin
BEGIN:DAYLIGHT
TZOFFSETFROM:+0100
TZOFFSETTO:+0200
TZNAME:CEST
DTSTART:20180325T010000
END:DAYLIGHT
BEGIN:STANDARD
TZOFFSETFROM:+0200
TZOFFSETTO:+0100
TZNAME:CET
DTSTART:20181028T010000
END:STANDARD
BEGIN:DAYLIGHT
TZOFFSETFROM:+0100
TZOFFSETTO:+0200
TZNAME:CEST
DTSTART:20190331T010000
END:DAYLIGHT
BEGIN:STANDARD
TZOFFSETFROM:+0200
TZOFFSETTO:+0100
TZNAME:CET
DTSTART:20191027T010000
END:STANDARD
BEGIN:DAYLIGHT
TZOFFSETFROM:+0100
TZOFFSETTO:+0200
TZNAME:CEST
DTSTART:20200329T010000
END:DAYLIGHT
BEGIN:STANDARD
TZOFFSETFROM:+0200
TZOFFSETTO:+0100
TZNAME:CET
DTSTART:20201025T010000
END:STANDARD
END:VTIMEZONE
BEGIN:VEVENT
DTSTART;VALUE=DATE:20190312
DTEND;VALUE=DATE:20190314
DTSTAMP:20260423T033030
CREATED:20190213T152027Z
LAST-MODIFIED:20190213T152027Z
UID:1866-1552348800-1552521599@www.performancemarketing.de
SUMMARY:Internet World Expo 2019
DESCRIPTION:Bereits zum 22. Mal findet die Internet World Expo in diesem Jahr in München statt. Die mehr als 18.000 Besucher erwartet das gesamte Portfolio von retailrelevanten Themen wie Payment\, Marketing\, Usability\, Logistik\, Social Media sowie Omni- und Multichannel-Lösungen. Die mehr als 450 Aussteller präsentieren neueste Produkte und Innovationen\, die das Einkaufen im stationären Handel und im Internet vorantreiben und verändern werden. \nHochkarätige Speaker runden das zweitägige Programm perfekt ab. Erwartet werden u.a. Katharina Schulze (B‘90/Grüne)\, Frank Thelen (e42 II)\, Max Amordeluso (Amazon Alexa)\, Dr. Stefan Hoffmann (Outletcity Metzingen)\, Kai Schmidhuber (L’Oréal Group Deutschland) und Vanessa Stützle (Parfümerie Douglas).
URL:https://www.performancemarketing.de/event/internet-world-expo-2019/
LOCATION:Messe München\, Messegelände\, München\, 81823\, Deutschland
CATEGORIES:Messe
ORGANIZER;CN="Ebner Media Group GmbH & Co. KG":MAILTO:dunja.koelwel@ebnermedia.de
END:VEVENT
BEGIN:VEVENT
DTSTART;VALUE=DATE:20190312
DTEND;VALUE=DATE:20190314
DTSTAMP:20260423T033030
CREATED:20190213T153559Z
LAST-MODIFIED:20190213T153559Z
UID:1869-1552348800-1552521599@www.performancemarketing.de
SUMMARY:CMCX 2019
DESCRIPTION:Die CMCX ist die zentrale Business-Plattform für alle\, die Content-Marketing betreiben und eine zeitgemäße Kommunikation mit ihrer Zielgruppe vorantreiben möchten. Hier treffen sich alle relevanten Marketing-Entscheider und Content-Marketer\, um die neuesten Trends und Best Cases zu analysieren und zu setzen. Die mehr als 5.000 nationalen und internationalen Besucher erwarten exklusive Vorträge\, der Austausch mit den Stars der Branche und hilfreiche Praxistipps in zahlreichen Workshops. \nAuf den fünf Bühnen werden u.a. folgende Speaker erwartet: Jörg Poggenpohl (BMW)\, Philip Hartmann (Coca Cola)\, Frank Thomas (Adidas)\, Dr. Markus Irmscher (Nestlé)\, Tim Alexander (Deutsche Bank) und Micky Beisenherz.
URL:https://www.performancemarketing.de/event/cmcx-2019/
LOCATION:Messe München\, Messegelände\, München\, 81823\, Deutschland
CATEGORIES:Konferenz
ORGANIZER;CN="Contilla GmbH - Interaktives Content-Marketing":MAILTO:cmcx@contilla.de
END:VEVENT
END:VCALENDAR