BEGIN:VCALENDAR
VERSION:2.0
PRODID:-//PerformanceMarketing.de - ECPv6.15.20//NONSGML v1.0//EN
CALSCALE:GREGORIAN
METHOD:PUBLISH
X-ORIGINAL-URL:https://www.performancemarketing.de
X-WR-CALDESC:Veranstaltungen für PerformanceMarketing.de
REFRESH-INTERVAL;VALUE=DURATION:PT1H
X-Robots-Tag:noindex
X-PUBLISHED-TTL:PT1H
BEGIN:VTIMEZONE
TZID:Europe/Berlin
BEGIN:DAYLIGHT
TZOFFSETFROM:+0100
TZOFFSETTO:+0200
TZNAME:CEST
DTSTART:20180325T010000
END:DAYLIGHT
BEGIN:STANDARD
TZOFFSETFROM:+0200
TZOFFSETTO:+0100
TZNAME:CET
DTSTART:20181028T010000
END:STANDARD
BEGIN:DAYLIGHT
TZOFFSETFROM:+0100
TZOFFSETTO:+0200
TZNAME:CEST
DTSTART:20190331T010000
END:DAYLIGHT
BEGIN:STANDARD
TZOFFSETFROM:+0200
TZOFFSETTO:+0100
TZNAME:CET
DTSTART:20191027T010000
END:STANDARD
BEGIN:DAYLIGHT
TZOFFSETFROM:+0100
TZOFFSETTO:+0200
TZNAME:CEST
DTSTART:20200329T010000
END:DAYLIGHT
BEGIN:STANDARD
TZOFFSETFROM:+0200
TZOFFSETTO:+0100
TZNAME:CET
DTSTART:20201025T010000
END:STANDARD
END:VTIMEZONE
BEGIN:VEVENT
DTSTART;VALUE=DATE:20190228
DTEND;VALUE=DATE:20190301
DTSTAMP:20260423T032849
CREATED:20190220T130536Z
LAST-MODIFIED:20190220T130536Z
UID:1879-1551312000-1551398399@www.performancemarketing.de
SUMMARY:Sales Marketing Messe 2019
DESCRIPTION:Die Sales Marketing Messe München ist die Top-Adresse für innovative Marktstrategien. Unter dem Motto „Kunden finden\, Kunden binden – Impulse für den Vertrieb“ treffen sich auf der eintägigen Messe Geschäftsführer\, Marketing- und Vertriebsleiter von großen Konzernen und mittelständischen Unternehmen\, um sich über aktuelle Trends und die derzeit angesagtesten Marketing- und Vertriebsstrategien zu informieren. \nAuf der Themenliste für 2019 stehen u.a. Dialog Marketing\, Online-Marketing\, Marketing Automation\, Social Media und E-Commerce. Als Speaker werden u.a. erwartet: Thomas Stahl (IcosAkademie)\, Diana Karcz (Online Solutions Group GmbH)\, Philipp Schachinger (Salesbeat GmbH)\, Florian Bumm (Hanseranking GmbH) und Michael Schneider (Clip GmbH).
URL:https://www.performancemarketing.de/event/sales-marketing-messe-2019/
LOCATION:MOC München\, Lilienthalallee 40\, München\, 80939\, Deutschland
CATEGORIES:Messe
ORGANIZER;CN="Netcomm GmbH":MAILTO:info@netcomm-gmbh.de
END:VEVENT
END:VCALENDAR