BEGIN:VCALENDAR
VERSION:2.0
PRODID:-//PerformanceMarketing.de - ECPv6.15.20//NONSGML v1.0//EN
CALSCALE:GREGORIAN
METHOD:PUBLISH
X-ORIGINAL-URL:https://www.performancemarketing.de
X-WR-CALDESC:Veranstaltungen für PerformanceMarketing.de
REFRESH-INTERVAL;VALUE=DURATION:PT1H
X-Robots-Tag:noindex
X-PUBLISHED-TTL:PT1H
BEGIN:VTIMEZONE
TZID:Europe/Berlin
BEGIN:DAYLIGHT
TZOFFSETFROM:+0100
TZOFFSETTO:+0200
TZNAME:CEST
DTSTART:20170326T010000
END:DAYLIGHT
BEGIN:STANDARD
TZOFFSETFROM:+0200
TZOFFSETTO:+0100
TZNAME:CET
DTSTART:20171029T010000
END:STANDARD
BEGIN:DAYLIGHT
TZOFFSETFROM:+0100
TZOFFSETTO:+0200
TZNAME:CEST
DTSTART:20180325T010000
END:DAYLIGHT
BEGIN:STANDARD
TZOFFSETFROM:+0200
TZOFFSETTO:+0100
TZNAME:CET
DTSTART:20181028T010000
END:STANDARD
BEGIN:DAYLIGHT
TZOFFSETFROM:+0100
TZOFFSETTO:+0200
TZNAME:CEST
DTSTART:20190331T010000
END:DAYLIGHT
BEGIN:STANDARD
TZOFFSETFROM:+0200
TZOFFSETTO:+0100
TZNAME:CET
DTSTART:20191027T010000
END:STANDARD
END:VTIMEZONE
BEGIN:VEVENT
DTSTART;VALUE=DATE:20180514
DTEND;VALUE=DATE:20180517
DTSTAMP:20260423T174642
CREATED:20180216T154453Z
LAST-MODIFIED:20180216T154453Z
UID:1606-1526256000-1526515199@www.performancemarketing.de
SUMMARY:Content Connections 2018
DESCRIPTION:Die Content Connections ist die erste Adresse\, wenn Sie Content-Prozesse in Ihrem Unternehmen voranbringen und optimieren möchten. Zum vierten Mal treffen sich hier 2018 Teilnehmer aus den Bereichen Content-Strategie\, Content Marketing\, Marketing-Technologie\, Digital Marketing und Technische Redaktion. Diskutieren Sie mit Kolleginnen und Kollegen über neueste Trends und Schwerpunkte wie die Zukunft der Content-Erstellung den Einfluss von Künstlicher Intelligenz auf Content-Performance und –Qualität. Als Speaker werden u.a. erwartet: Dr. Andrew Bredenkamp (Acrolinx)\, Ulf Grüner (Schweizer Radio und Fernsehen)\, Pascal Kesselmark (Rieter Machine Works) und Robert Weller (Toushenne.de).
URL:https://www.performancemarketing.de/event/content-connections-2018/
LOCATION:Hotel Meliá Berlin\, Friedrichstrasse 103\, Berlin\, 10117\, Deutschland
CATEGORIES:Konferenz
ORGANIZER;CN="Acrolinx GmbH":MAILTO:contact@foc.ai
END:VEVENT
BEGIN:VEVENT
DTSTART;VALUE=DATE:20180515
DTEND;VALUE=DATE:20180518
DTSTAMP:20260423T174642
CREATED:20180216T161751Z
LAST-MODIFIED:20180216T161751Z
UID:1610-1526342400-1526601599@www.performancemarketing.de
SUMMARY:D2M-Summit 2018
DESCRIPTION:Beim D2M-Summit wird digitale Kundenkommunikation neu gedacht. Die Fachkonferenz widmet sich Trends\, Herausforderungen und Erfahrungswerten bei der Neugestaltung der Kunden- und Servicekommunikation im digitalen Zeitalter. \nDie Konferenztage haben unterschiedliche Schwerpunkte: Am ersten Tag stehen Content und Social Media Marketing im Fokus. Hier soll der Frage nachgegangen werden\, mit welchen neuen digitalen und kommunikativen Ansätzen für die Brand ein größerer Einfluss auf die Kaufentscheidung erwirkt werden kann. Am zweiten Konferenztag geht es um Service- und Engagement-Marketing. Hier werden Möglichkeiten und Gestaltungsansätze für eine effektivere\, digitale Service-Kommunikation diskutiert (Chatbots\, Augmented/Virtual Reality). \nAls Speaker sind 2018 u.a. dabei: Katrin Schütterle (goDentis)\, Laura-Jane Freutel (Hapag-Lloyd)\, Kirsten Wagenaar (Bind Community Building) und Bianca Bauer (Microsoft Deutschland).
URL:https://www.performancemarketing.de/event/d2m-summit-2018/
LOCATION:Hotel East Hamburg\, Simon-von-Utrecht-Straße 31\, Hamburg\, 20359\, Deutschland
CATEGORIES:Konferenz
ORGANIZER;CN="Kongress Media GmbH":MAILTO:contact@kongressmedia.de
END:VEVENT
END:VCALENDAR