BEGIN:VCALENDAR
VERSION:2.0
PRODID:-//PerformanceMarketing.de - ECPv6.15.20//NONSGML v1.0//EN
CALSCALE:GREGORIAN
METHOD:PUBLISH
X-ORIGINAL-URL:https://www.performancemarketing.de
X-WR-CALDESC:Veranstaltungen für PerformanceMarketing.de
REFRESH-INTERVAL;VALUE=DURATION:PT1H
X-Robots-Tag:noindex
X-PUBLISHED-TTL:PT1H
BEGIN:VTIMEZONE
TZID:Europe/Berlin
BEGIN:DAYLIGHT
TZOFFSETFROM:+0100
TZOFFSETTO:+0200
TZNAME:CEST
DTSTART:20170326T010000
END:DAYLIGHT
BEGIN:STANDARD
TZOFFSETFROM:+0200
TZOFFSETTO:+0100
TZNAME:CET
DTSTART:20171029T010000
END:STANDARD
BEGIN:DAYLIGHT
TZOFFSETFROM:+0100
TZOFFSETTO:+0200
TZNAME:CEST
DTSTART:20180325T010000
END:DAYLIGHT
BEGIN:STANDARD
TZOFFSETFROM:+0200
TZOFFSETTO:+0100
TZNAME:CET
DTSTART:20181028T010000
END:STANDARD
BEGIN:DAYLIGHT
TZOFFSETFROM:+0100
TZOFFSETTO:+0200
TZNAME:CEST
DTSTART:20190331T010000
END:DAYLIGHT
BEGIN:STANDARD
TZOFFSETFROM:+0200
TZOFFSETTO:+0100
TZNAME:CET
DTSTART:20191027T010000
END:STANDARD
END:VTIMEZONE
BEGIN:VEVENT
DTSTART;VALUE=DATE:20180429
DTEND;VALUE=DATE:20180503
DTSTAMP:20260423T185557
CREATED:20180315T140511Z
LAST-MODIFIED:20180315T140511Z
UID:1659-1524960000-1525305599@www.performancemarketing.de
SUMMARY:Marketing Nation Summit 2018
DESCRIPTION:Seit 2010 ist der Marketing Nation Summit ein Highlight für zahlreiche Digital-Marketer\, auch über die Grenzen der USA hinaus. Mehr als 6.500 Besucher zog der viertägige Event im letzten Jahr an. Hochkarätige Speaker etablierter Brands diskutieren über aktuelle Trends und Entwicklungen im digitalen Marketing\, Advertising und in der IT. \nFür Einsteiger eignet sich der University Day\, mit dem die Konferenz am ersten Tag startet. Anschließend gibt es zweieinhalb Tage vollgepacktes Programm mit zahlreichen Tracks zu Content Marketing\, Data Management\, Customer Experience oder Analytics. In diesem Jahr lautet das Motto „The Fearless Marketer“ mit Themen wie „Culture of Empowerment“ (erfolgreicher Teamaufbau in Zeiten der Digitalisierung) oder „Order from Chaos“ (wie unterscheide ich erfolgreiche von gehypten Technologien?). \nAls Speaker werden u.a. erwartet: Ajay Awatramani (Marketo)\, Andy Varshneya (Optimizely)\, Erik Heldebro (Bambuser)\, Jeff Canada (Quantcast)\, Randy Frisch (Uberflip) und Stephen Baker (Amazon). Eine Keynote hält Sport-Star Lindsey Vonn.
URL:https://www.performancemarketing.de/event/marketing-nation-summit-2018/
LOCATION:Moscone Center West\, 800 Howard St\, San Francisco\, CA 94107\, Vereinigte Staaten
CATEGORIES:Konferenz
ORGANIZER;CN="Marketo":MAILTO:SummitRegSupport@marketo.com
END:VEVENT
END:VCALENDAR