BEGIN:VCALENDAR
VERSION:2.0
PRODID:-//PerformanceMarketing.de - ECPv6.15.20//NONSGML v1.0//EN
CALSCALE:GREGORIAN
METHOD:PUBLISH
X-ORIGINAL-URL:https://www.performancemarketing.de
X-WR-CALDESC:Veranstaltungen für PerformanceMarketing.de
REFRESH-INTERVAL;VALUE=DURATION:PT1H
X-Robots-Tag:noindex
X-PUBLISHED-TTL:PT1H
BEGIN:VTIMEZONE
TZID:Europe/Berlin
BEGIN:DAYLIGHT
TZOFFSETFROM:+0100
TZOFFSETTO:+0200
TZNAME:CEST
DTSTART:20170326T010000
END:DAYLIGHT
BEGIN:STANDARD
TZOFFSETFROM:+0200
TZOFFSETTO:+0100
TZNAME:CET
DTSTART:20171029T010000
END:STANDARD
BEGIN:DAYLIGHT
TZOFFSETFROM:+0100
TZOFFSETTO:+0200
TZNAME:CEST
DTSTART:20180325T010000
END:DAYLIGHT
BEGIN:STANDARD
TZOFFSETFROM:+0200
TZOFFSETTO:+0100
TZNAME:CET
DTSTART:20181028T010000
END:STANDARD
BEGIN:DAYLIGHT
TZOFFSETFROM:+0100
TZOFFSETTO:+0200
TZNAME:CEST
DTSTART:20190331T010000
END:DAYLIGHT
BEGIN:STANDARD
TZOFFSETFROM:+0200
TZOFFSETTO:+0100
TZNAME:CET
DTSTART:20191027T010000
END:STANDARD
END:VTIMEZONE
BEGIN:VEVENT
DTSTART;VALUE=DATE:20180427
DTEND;VALUE=DATE:20180428
DTSTAMP:20260423T191250
CREATED:20180228T143103Z
LAST-MODIFIED:20180228T143103Z
UID:1634-1524787200-1524873599@www.performancemarketing.de
SUMMARY:Online Marketing Konferenz Bielefeld 2018
DESCRIPTION:Zum dritten Mal treffen sich 2018 zahlreiche renommierte Online-Experten bei der Online Marketing Konferenz Bielefeld. Sie richtet sich sowohl an Marketing-Profis wie auch an interessierte Berufseinsteiger. Zahlreiche hochkarätige Experten und Speaker vermitteln Einblicke in neueste Entwicklungen und Trends in der Branche und geben Tipps\, wie Sie in der eigenen Praxis mithilfe von Online Marketing ihre Produkte und Dienstleistungen bestmöglich präsentieren und vermarkten können. Dank einer prall gefüllten Agenda von SEO über Programmatic Advertising bis hin zu Content Marketing können sich Teilnehmer in allen wichtigen Bereichen des Online Marketings auf den neuesten Stand bringen lassen. \nAls Speaker werden u.a. auf der Bühne stehen: Anke Probst (Xing)\, Norman Nielsen (Zalando)\, Holger Schibbe (United Internet Media GmbH)\, Veronika Karpf (qualitytraffic GmbH)\, Christian Solmecke (Wilde Beuger Solmecke Rechtsanwälte) und Felix Beilharz (FelixBeilharz.de).
URL:https://www.performancemarketing.de/event/online-marketing-konferenz-bielefeld-2018/
LOCATION:Stadthalle Bielefeld\, Willy Brandt Platz 1\, Bielefeld\, 33602\, Deutschland
CATEGORIES:Konferenz
ORGANIZER;CN="qualitytraffic GmbH":MAILTO:info@omkb.de
END:VEVENT
END:VCALENDAR