BEGIN:VCALENDAR
VERSION:2.0
PRODID:-//PerformanceMarketing.de - ECPv6.15.20//NONSGML v1.0//EN
CALSCALE:GREGORIAN
METHOD:PUBLISH
X-WR-CALNAME:PerformanceMarketing.de
X-ORIGINAL-URL:https://www.performancemarketing.de
X-WR-CALDESC:Veranstaltungen für PerformanceMarketing.de
REFRESH-INTERVAL;VALUE=DURATION:PT1H
X-Robots-Tag:noindex
X-PUBLISHED-TTL:PT1H
BEGIN:VTIMEZONE
TZID:Europe/Berlin
BEGIN:DAYLIGHT
TZOFFSETFROM:+0100
TZOFFSETTO:+0200
TZNAME:CEST
DTSTART:20170326T010000
END:DAYLIGHT
BEGIN:STANDARD
TZOFFSETFROM:+0200
TZOFFSETTO:+0100
TZNAME:CET
DTSTART:20171029T010000
END:STANDARD
BEGIN:DAYLIGHT
TZOFFSETFROM:+0100
TZOFFSETTO:+0200
TZNAME:CEST
DTSTART:20180325T010000
END:DAYLIGHT
BEGIN:STANDARD
TZOFFSETFROM:+0200
TZOFFSETTO:+0100
TZNAME:CET
DTSTART:20181028T010000
END:STANDARD
BEGIN:DAYLIGHT
TZOFFSETFROM:+0100
TZOFFSETTO:+0200
TZNAME:CEST
DTSTART:20190331T010000
END:DAYLIGHT
BEGIN:STANDARD
TZOFFSETFROM:+0200
TZOFFSETTO:+0100
TZNAME:CET
DTSTART:20191027T010000
END:STANDARD
END:VTIMEZONE
BEGIN:VEVENT
DTSTART;VALUE=DATE:20180424
DTEND;VALUE=DATE:20180426
DTSTAMP:20260423T191042
CREATED:20180213T132729Z
LAST-MODIFIED:20180213T132729Z
UID:1597-1524528000-1524700799@www.performancemarketing.de
SUMMARY:Mobile Advertising Summit 2018
DESCRIPTION:In diesem Jahr steigt bereits die 4. Auflage des Mobile Advertising Summit. Zum ersten Mal wird es dabei am Vortag der eigentlichen Konferenz einen Training Day geben\, bei dem Teilnehmer aus 15 Seminaren bis zu fünf präferierte Veranstaltungen besuchen können. Die Themen reichen dabei von Mobile Performance Marketing über Mobile Advertising bei Facebook\, Snapchat oder Instagram bis hin zu Mobile Video Monetization. Der Mobile Advertising Summit mit rund 400 Teilnehmern dient so als Plattform für Advertiser\, Medien\, Agenturen und Technologieanbieter\, bei der natürlich auch das Netzwerken nicht zu kurz kommt. Als Speaker werden auf der Konferenz u.a. erwartet: Mark Stohlmann (Telefónica)\, Dr. Jannika Bock (Google)\, Marius Wolf (Affilinet)\, Scherwin Kazemi (Ergo Direkt) und Jan Gräwen (Yoc Mobile Advertising).
URL:https://www.performancemarketing.de/event/mobile-advertising-summit-2018/
LOCATION:Palais in der Kulturbrauerei\, Schönhauser Allee 36\, Berlin\, 10435\, Deutschland
CATEGORIES:Konferenz
ORGANIZER;CN="Electronic Publishing Corporation Ltd.":MAILTO:tickets@adzine.de
END:VEVENT
BEGIN:VEVENT
DTSTART;VALUE=DATE:20180424
DTEND;VALUE=DATE:20180426
DTSTAMP:20260423T191042
CREATED:20180301T143740Z
LAST-MODIFIED:20180301T143740Z
UID:1636-1524528000-1524700799@www.performancemarketing.de
SUMMARY:CPX Performance Marketing Gipfel 2018
DESCRIPTION:Wie erziele ich die beste Performance auf Facebook\, Google & Co.? SEO\, SEA\, Affiliate-Marketing\, E-Mail-Marketing\, Couponing\, Display-Werbung oder Guerilla-Marketing – was verspricht in Ihrem Unternehmen die besten Ergebnisse? Der CPX Performance Marketing Gipfel gibt Antworten! Am ersten Konferenztag teilen hochkarätige Referenten in zahlreichen Vorträgen ihr Wissen über Neuheiten und Trends am Markt und zeigen die besten Strategien und Best Practises auf. Am zweiten Tag können die Teilnehmer in Workshops praxisnah lernen\, wie sich das erworbene Wissen effektiv im eigenen Business umsetzen lässt. \nAls Speaker werden in diesem Jahr u.a. erwartet: Denis Dautaj (Google)\, Dr. Stefan Hanloser (ProSiebenSat.1 Group)\, Dariusch Hosseini (UDG United Digital Group)\, Markus Kellermann (xpose360 GmbH)\, Daniel Kallerhoff (shopping24) und Prof. Dr. Christoph Bauer (ePrivacy GmbH).
URL:https://www.performancemarketing.de/event/cpx-performance-marketing-gipfel-2018/
LOCATION:Holiday Inn München Westpark\, Albert-Roßhaupter-Straße 45\, München\, 81369\, Deutschland
CATEGORIES:Konferenz
ORGANIZER;CN="Neue Mediengesellschaft Ulm mbH":MAILTO:anmeldung@nmg.de
END:VEVENT
END:VCALENDAR