BEGIN:VCALENDAR
VERSION:2.0
PRODID:-//PerformanceMarketing.de - ECPv6.15.20//NONSGML v1.0//EN
CALSCALE:GREGORIAN
METHOD:PUBLISH
X-WR-CALNAME:PerformanceMarketing.de
X-ORIGINAL-URL:https://www.performancemarketing.de
X-WR-CALDESC:Veranstaltungen für PerformanceMarketing.de
REFRESH-INTERVAL;VALUE=DURATION:PT1H
X-Robots-Tag:noindex
X-PUBLISHED-TTL:PT1H
BEGIN:VTIMEZONE
TZID:Europe/Berlin
BEGIN:DAYLIGHT
TZOFFSETFROM:+0100
TZOFFSETTO:+0200
TZNAME:CEST
DTSTART:20170326T010000
END:DAYLIGHT
BEGIN:STANDARD
TZOFFSETFROM:+0200
TZOFFSETTO:+0100
TZNAME:CET
DTSTART:20171029T010000
END:STANDARD
BEGIN:DAYLIGHT
TZOFFSETFROM:+0100
TZOFFSETTO:+0200
TZNAME:CEST
DTSTART:20180325T010000
END:DAYLIGHT
BEGIN:STANDARD
TZOFFSETFROM:+0200
TZOFFSETTO:+0100
TZNAME:CET
DTSTART:20181028T010000
END:STANDARD
BEGIN:DAYLIGHT
TZOFFSETFROM:+0100
TZOFFSETTO:+0200
TZNAME:CEST
DTSTART:20190331T010000
END:DAYLIGHT
BEGIN:STANDARD
TZOFFSETFROM:+0200
TZOFFSETTO:+0100
TZNAME:CET
DTSTART:20191027T010000
END:STANDARD
END:VTIMEZONE
BEGIN:VEVENT
DTSTART;VALUE=DATE:20180409
DTEND;VALUE=DATE:20180411
DTSTAMP:20260423T191018
CREATED:20180208T160458Z
LAST-MODIFIED:20180208T160458Z
UID:1577-1523232000-1523404799@www.performancemarketing.de
SUMMARY:Strategiegipfel Marketing Transformation
DESCRIPTION:Social Media\, Influencer\, Personalisierung oder Data Driven Management – die Trends und Entwicklungen im Online Marketing vollziehen sich in rasantem Tempo. Entscheider stehen so regelmäßig vor der Frage\, welcher Trend Relevanz für die eigene Marketing-Strategie und das eigene Geschäftsmodell hat. Was steigert die Effizienz\, wo müssen Schwerpunkte gesetzt werden? Der Strategiegipfel Marketing Transformation soll hierauf Antworten geben. \nAn zwei Tagen treffen hier führende Köpfe aus dem Digital- und Online Marketing\, Brand Management und Social Media zusammen\, um zu diskutieren\, wie neue Geschäftsmodelle entwickelt werden können und Marketing und Kommunikation mit dem Kunden im Zeitalter der Digitalisierung neu aufgestellt werden können. Zahlreiche Workshops runden das Programm ab. Als Speaker werden u.a. erwartet: Claus Hammer (Daimler)\, Roman Schida (easybank)\, Sven Markschläger (Krombacher)\, Jens-Peter Hilger (Huawei) und Michael Streit (Novartis).
URL:https://www.performancemarketing.de/event/strategiegipfel-marketing-transformation/
LOCATION:Hotel Riu Plaza Berlin\, Martin-Luther-Straße 1\, Berlin\, 10777\, Deutschland
CATEGORIES:Konferenz
ORGANIZER;CN="PROJECT NETWORKS GMBH":MAILTO:mail@project-networks.com
END:VEVENT
BEGIN:VEVENT
DTSTART;VALUE=DATE:20180410
DTEND;VALUE=DATE:20180412
DTSTAMP:20260423T191018
CREATED:20180208T170009Z
LAST-MODIFIED:20180208T170632Z
UID:1581-1523318400-1523491199@www.performancemarketing.de
SUMMARY:d3con 2018
DESCRIPTION:Die d3con ist die weltweit größte Fachkonferenz zum Thema Programmatic Advertising. Programmatic bedeutet heute\, als Publisher und Advertiser eine ganzheitliche Online Marketing-Strategie zu verfolgen\, Daten und User Journeys im Griff zu haben und alle Marketingkanäle effizient messen und steuern zu können. Die d3con bietet Ihnen die Chance\, mit den besten Experten aus Deutschland und der Welt die neuesten Trends zu diskutieren\, Ihr Knowhow auf den neuesten Stand zu bringen und das persönliche Netzwerk zu pflegen und zu erweitern. \nAm ersten Tag der d3con findet im Beach Hamburg die d3con University statt\, die sich an Entscheider richtet\, die noch keine Experten im Programmatic Advertising sind\, sich aber weiterbilden wollen. Der Fokus liegt hierbei auf Werbetreibenden und Agenturen. Am zweiten Tag startet die d3con Konferenz mit führenden Technologieanbietern\, Advertisern\, Publishern und Agenturen zum Diskutieren und Netzwerken auf höchstem Niveau. Als Speaker sind 2018 u.a. zu hören: Maike Abel (Nestlé)\, Stephan Dörner (t3n)\, Robert Günther (Facebook)\, Bülent Inci (Deutsche Bahn) und Melanie Schlegel (Otto).
URL:https://www.performancemarketing.de/event/d3con-2018/
LOCATION:CinemaxX Dammtor\, Dammtordamm 1\, Hamburg\, 20354\, Deutschland
CATEGORIES:Konferenz
ORGANIZER;CN="d3con GmbH":MAILTO:info@d3con.de
END:VEVENT
END:VCALENDAR