BEGIN:VCALENDAR
VERSION:2.0
PRODID:-//PerformanceMarketing.de - ECPv6.15.20//NONSGML v1.0//EN
CALSCALE:GREGORIAN
METHOD:PUBLISH
X-WR-CALNAME:PerformanceMarketing.de
X-ORIGINAL-URL:https://www.performancemarketing.de
X-WR-CALDESC:Veranstaltungen für PerformanceMarketing.de
REFRESH-INTERVAL;VALUE=DURATION:PT1H
X-Robots-Tag:noindex
X-PUBLISHED-TTL:PT1H
BEGIN:VTIMEZONE
TZID:Europe/Berlin
BEGIN:DAYLIGHT
TZOFFSETFROM:+0100
TZOFFSETTO:+0200
TZNAME:CEST
DTSTART:20170326T010000
END:DAYLIGHT
BEGIN:STANDARD
TZOFFSETFROM:+0200
TZOFFSETTO:+0100
TZNAME:CET
DTSTART:20171029T010000
END:STANDARD
BEGIN:DAYLIGHT
TZOFFSETFROM:+0100
TZOFFSETTO:+0200
TZNAME:CEST
DTSTART:20180325T010000
END:DAYLIGHT
BEGIN:STANDARD
TZOFFSETFROM:+0200
TZOFFSETTO:+0100
TZNAME:CET
DTSTART:20181028T010000
END:STANDARD
BEGIN:DAYLIGHT
TZOFFSETFROM:+0100
TZOFFSETTO:+0200
TZNAME:CEST
DTSTART:20190331T010000
END:DAYLIGHT
BEGIN:STANDARD
TZOFFSETFROM:+0200
TZOFFSETTO:+0100
TZNAME:CET
DTSTART:20191027T010000
END:STANDARD
END:VTIMEZONE
BEGIN:VEVENT
DTSTART;TZID=Europe/Berlin:20180315T090000
DTEND;TZID=Europe/Berlin:20180315T180000
DTSTAMP:20260423T204355
CREATED:20180205T145202Z
LAST-MODIFIED:20180205T145202Z
UID:1568-1521104400-1521136800@www.performancemarketing.de
SUMMARY:WebSuccess 2018
DESCRIPTION:2018 findet die zweite Auflage der WebSuccess in Köln statt. Die Marketing-Messe für den Mittelstand bietet eine umfassende Bandbreite an Vorträgen und Workshops aus den unterschiedlichsten Bereichen des Online-Marketings. Flankiert wird die Konferenz von einer Fachausstellung. \nTeilnehmer erfahren hier z.B.\, wie sie ihr Unternehmen in Zeiten der Digitalisierung mit Hilfe von SEA und SEO fit für die Zukunft machen\, über den eigenen Internetauftritt mehr potenzielle Kunden generieren und wie sie soziale Medien sowie E-Mail oder Video-Marketing erfolgreich für Werbung oder die Unternehmens- und Kundenkommunikation einsetzen können. Daneben bietet die WebSuccess ausreichend Gelegenheit\, mit Experten\, Entscheidern und Unternehmern ins Gespräch zu kommen und das eigene Netzwerk auszubauen.
URL:https://www.performancemarketing.de/event/websuccess-2018/
LOCATION:Barthonia Showroom\, Vogelsanger Straße 66\, Köln\, 50823\, Deutschland
CATEGORIES:Konferenz
ORGANIZER;CN="FAIRRANK GmbH":MAILTO:kontakt@fairrank.de
END:VEVENT
END:VCALENDAR