BEGIN:VCALENDAR
VERSION:2.0
PRODID:-//PerformanceMarketing.de - ECPv6.15.20//NONSGML v1.0//EN
CALSCALE:GREGORIAN
METHOD:PUBLISH
X-ORIGINAL-URL:https://www.performancemarketing.de
X-WR-CALDESC:Veranstaltungen für PerformanceMarketing.de
REFRESH-INTERVAL;VALUE=DURATION:PT1H
X-Robots-Tag:noindex
X-PUBLISHED-TTL:PT1H
BEGIN:VTIMEZONE
TZID:Europe/Berlin
BEGIN:DAYLIGHT
TZOFFSETFROM:+0100
TZOFFSETTO:+0200
TZNAME:CEST
DTSTART:20170326T010000
END:DAYLIGHT
BEGIN:STANDARD
TZOFFSETFROM:+0200
TZOFFSETTO:+0100
TZNAME:CET
DTSTART:20171029T010000
END:STANDARD
BEGIN:DAYLIGHT
TZOFFSETFROM:+0100
TZOFFSETTO:+0200
TZNAME:CEST
DTSTART:20180325T010000
END:DAYLIGHT
BEGIN:STANDARD
TZOFFSETFROM:+0200
TZOFFSETTO:+0100
TZNAME:CET
DTSTART:20181028T010000
END:STANDARD
BEGIN:DAYLIGHT
TZOFFSETFROM:+0100
TZOFFSETTO:+0200
TZNAME:CEST
DTSTART:20190331T010000
END:DAYLIGHT
BEGIN:STANDARD
TZOFFSETFROM:+0200
TZOFFSETTO:+0100
TZNAME:CET
DTSTART:20191027T010000
END:STANDARD
END:VTIMEZONE
BEGIN:VEVENT
DTSTART;VALUE=DATE:20180226
DTEND;VALUE=DATE:20180302
DTSTAMP:20260423T203723
CREATED:20180123T134217Z
LAST-MODIFIED:20180123T134425Z
UID:1547-1519603200-1519948799@www.performancemarketing.de
SUMMARY:Mobile World Congress 2018
DESCRIPTION:Mit mehr als 108.000 Teilnehmern und über 2.300 Ausstellern aus 208 Ländern ist der Mobile World Congress in Barcelona der weltweit größte Kongress für die Mobile Industrie. In diesem Jahr steht das Event unter dem Motto „Creating a Better Future“. Führende Köpfe aus der Industrie präsentieren ihre neuesten Produkte und Innovationen\, tauschen Ideen aus und zeigen\, wie Entwicklungen und Visionen aus der mobilen Welt für eine bessere Zukunft sorgen können. Keynotes kommen u.a. von Cher Wang (HTC)\, Christopher Young (McAfee)\, Vittorio Colao (Vodafone)\, Ricardo Antonio Rosselló Navares (Gouverneur von Puerto Rico)\, Kathy Calvin (United Nations Foundation) und Dr. Jim Yong Kim (Präsident der Weltbank).
URL:https://www.performancemarketing.de/event/mobile-world-congress-2018/
LOCATION:Fira Gran Via\, Av. Joan Carles I\, 64\, L’Hospitalet de Llobregat\, Barcelona\, 08908\, Spanien
CATEGORIES:Kongress
ORGANIZER;CN="GSM Association":MAILTO:info@gsma.com
END:VEVENT
BEGIN:VEVENT
DTSTART;VALUE=DATE:20180227
DTEND;VALUE=DATE:20180301
DTSTAMP:20260423T203723
CREATED:20180111T145258Z
LAST-MODIFIED:20180112T144006Z
UID:1526-1519689600-1519862399@www.performancemarketing.de
SUMMARY:CONTENTIXX 2018
DESCRIPTION:Sie wollen mehr aus ihren Inhalten machen? Dann ist die CONTENTIXX ein absoluter Pflichttermin für Sie! Hier vermitteln die besten Referenten der Content Marketing-Branche in familiärer Atmosphäre ihr Wissen und stehen anschließend in Networking-Runden Rede und Antwort. In mehr als 60 Workshops und Networking-Sessions gibt es die heißesten News\, Tipps und Experten-Insights von nationalen und internationalen Experten. In diesem Jahr werden als Speaker u.a. erwartet: Stefan David (jpc.de)\, Ann-Katrin Bünten (Otto GmbH & Co KG)\, Christian B. Schmidt (Digitaleffects GmbH)\, Luisa Dziki (Seokratie GmbH)\, Nico Erpel (Projecter GmbH) und Franziska Schwarzmann (ZEISS AG).
URL:https://www.performancemarketing.de/event/contentixx-2018/
LOCATION:Hotel am Müggelsee\, Müggelheimer Damm 145\, Berlin\, 12559\, Deutschland
CATEGORIES:Konferenz
ORGANIZER;CN="SUMAGO GmbH":MAILTO:team@campixx.de
END:VEVENT
BEGIN:VEVENT
DTSTART;TZID=Europe/Berlin:20180228T093000
DTEND;TZID=Europe/Berlin:20180228T180000
DTSTAMP:20260423T203723
CREATED:20180122T150823Z
LAST-MODIFIED:20180122T152127Z
UID:1539-1519810200-1519840800@www.performancemarketing.de
SUMMARY:Big Data Summit 2018
DESCRIPTION:Seit 2013 treffen sich Entscheider von Global Playern\, mittelständischen Unternehmen und Start-Ups zum Big Data Summit. Mehr als 700 Teilnehmer\, darunter Technologieanbieter\, Strategieberater\, Wissenschaftler und Vertreter aus der Politik tauschen sich über Praxiserfahrungen\, Weiterentwicklungen und neueste Ergebnisse aus Forschung und Entwicklung aus\, vereinbaren Kooperationen\, bauen Investitionen aus und diskutieren vor Ort innovative Lösungen\, Datenanalysen stärker in vorhandene Entscheidungs- und Geschäftsprozesse einzubinden. \nAls Speaker werden beim diesjährigen Big Data Summit u.a. Dr. Jens Baas (Techniker Krankenkasse)\, Stephan Bautz (PricewaterhouseCooper)\, Dr. Alexander Borek (Volkswagen)\, Dr. Roland Goetzke (Bundesministerium für Verkehr und Digitale Infrastruktur) sowie Jürgen Urbanski (Airbus) auf der Bühne stehen. \nAm Tag nach dem Big Data Summit findet am selben Veranstaltungsort der AI Summit statt. Für beide Events sind Kombitickets erhältlich.
URL:https://www.performancemarketing.de/event/big-data-summit-2018/
LOCATION:Congress Park Hanau\, Schlossplatz 1\, Hanau\, 63450\, Deutschland
CATEGORIES:Konferenz
ORGANIZER;CN="Bitkom e.V / Bitkom Servicegesellschaft mbH":MAILTO:f.klaska@bitkom-service.de
END:VEVENT
END:VCALENDAR