BEGIN:VCALENDAR
VERSION:2.0
PRODID:-//PerformanceMarketing.de - ECPv6.15.20//NONSGML v1.0//EN
CALSCALE:GREGORIAN
METHOD:PUBLISH
X-ORIGINAL-URL:https://www.performancemarketing.de
X-WR-CALDESC:Veranstaltungen für PerformanceMarketing.de
REFRESH-INTERVAL;VALUE=DURATION:PT1H
X-Robots-Tag:noindex
X-PUBLISHED-TTL:PT1H
BEGIN:VTIMEZONE
TZID:Europe/Berlin
BEGIN:DAYLIGHT
TZOFFSETFROM:+0100
TZOFFSETTO:+0200
TZNAME:CEST
DTSTART:20160327T010000
END:DAYLIGHT
BEGIN:STANDARD
TZOFFSETFROM:+0200
TZOFFSETTO:+0100
TZNAME:CET
DTSTART:20161030T010000
END:STANDARD
BEGIN:DAYLIGHT
TZOFFSETFROM:+0100
TZOFFSETTO:+0200
TZNAME:CEST
DTSTART:20170326T010000
END:DAYLIGHT
BEGIN:STANDARD
TZOFFSETFROM:+0200
TZOFFSETTO:+0100
TZNAME:CET
DTSTART:20171029T010000
END:STANDARD
BEGIN:DAYLIGHT
TZOFFSETFROM:+0100
TZOFFSETTO:+0200
TZNAME:CEST
DTSTART:20180325T010000
END:DAYLIGHT
BEGIN:STANDARD
TZOFFSETFROM:+0200
TZOFFSETTO:+0100
TZNAME:CET
DTSTART:20181028T010000
END:STANDARD
END:VTIMEZONE
BEGIN:VEVENT
DTSTART;VALUE=DATE:20171019
DTEND;VALUE=DATE:20171021
DTSTAMP:20260424T032933
CREATED:20170905T134557Z
LAST-MODIFIED:20170905T134715Z
UID:1347-1508371200-1508543999@www.performancemarketing.de
SUMMARY:RuhrSummit 2017
DESCRIPTION:Am 19. und 20. Oktober wird das Spotlight der Startup-Szene wieder einmal auf das Ruhrgebiet gerichtet. Beim RuhrSummit 2017 kommen Startups mit vielversprechenden Ideen und Konzepten mit Investoren und Unternehmen zusammen. Im Mittelpunkt stehen aktuelle Technologien und Megatrends\, die von hochkarätigen Speakern präsentiert werden. Auf der Bühne stehen werden u.a. Frank Thelen (e42)\, Titus Dittmann (Titus Skateboarding)\, Hans Sarpei (Schalke 04) sowie der Moderator und Autor Dr. Eckart von Hirschhausen. In Pitches können sich Startups vorstellen und Matches mit Unternehmen vereinbaren. In Panels und Workshops kann das in Vorträgen erworbene Wissen vertieft und angewendet werden\, natürlich bleibt auch für das Networking genügend Platz\, u.a. bei der legendären Rooftop Party mit einem spektakulären Ausblick über den Dächern des Ruhrgebiets.
URL:https://www.performancemarketing.de/event/ruhrsummit-2017/
LOCATION:Dortmunder U\, Leonie-Reygers-Terrasse\, Dortmund\, 44137\, Deutschland
CATEGORIES:Konferenz
ORGANIZER;CN="360 Online Performance Group GmbH":MAILTO:info(at)summit.ruhr
END:VEVENT
END:VCALENDAR