BEGIN:VCALENDAR
VERSION:2.0
PRODID:-//PerformanceMarketing.de - ECPv6.15.20//NONSGML v1.0//EN
CALSCALE:GREGORIAN
METHOD:PUBLISH
X-WR-CALNAME:PerformanceMarketing.de
X-ORIGINAL-URL:https://www.performancemarketing.de
X-WR-CALDESC:Veranstaltungen für PerformanceMarketing.de
REFRESH-INTERVAL;VALUE=DURATION:PT1H
X-Robots-Tag:noindex
X-PUBLISHED-TTL:PT1H
BEGIN:VTIMEZONE
TZID:Europe/Berlin
BEGIN:DAYLIGHT
TZOFFSETFROM:+0100
TZOFFSETTO:+0200
TZNAME:CEST
DTSTART:20160327T010000
END:DAYLIGHT
BEGIN:STANDARD
TZOFFSETFROM:+0200
TZOFFSETTO:+0100
TZNAME:CET
DTSTART:20161030T010000
END:STANDARD
BEGIN:DAYLIGHT
TZOFFSETFROM:+0100
TZOFFSETTO:+0200
TZNAME:CEST
DTSTART:20170326T010000
END:DAYLIGHT
BEGIN:STANDARD
TZOFFSETFROM:+0200
TZOFFSETTO:+0100
TZNAME:CET
DTSTART:20171029T010000
END:STANDARD
BEGIN:DAYLIGHT
TZOFFSETFROM:+0100
TZOFFSETTO:+0200
TZNAME:CEST
DTSTART:20180325T010000
END:DAYLIGHT
BEGIN:STANDARD
TZOFFSETFROM:+0200
TZOFFSETTO:+0100
TZNAME:CET
DTSTART:20181028T010000
END:STANDARD
END:VTIMEZONE
BEGIN:VEVENT
DTSTART;TZID=Europe/Berlin:20171017T090000
DTEND;TZID=Europe/Berlin:20171017T090000
DTSTAMP:20260424T032640
CREATED:20170905T131020Z
LAST-MODIFIED:20170905T131020Z
UID:1344-1508230800-1508230800@www.performancemarketing.de
SUMMARY:Next Generation Food 2017
DESCRIPTION:Auch in der Food-Branche ist die Digitalisierung angekommen. Die E-Food-Branche treibt daher eine große Frage um: Wer gewinnt das Rennen um die letzte Meile? Auf der Next Generation Food gibt es Antworten auf Fragen wie: Welche Unternehmen disruptieren den Food Markt? Wer treibt die Food Revolution? Wo liegt die Zukunft des Lebensmittelhandels in Deutschland? In vier parallelen Sessions zu den aktuellen Food Blockbustern\, interaktiven Workgroups und spannenden Keynotes bleiben hoffentlich keine Fragen. Startup-Pitches\, eine Networking Area mit Speed-Dating und begleitender Fachausstellung sowie eine After Show Party runden das umfangreiche Programm ab. Als Speaker werden u.a. Adrienne Héon-Kleinen (Maggi)\, Gerardo Navarro Suarez (Edeka)\, Gabriela Seir (Coca Cola) und Kai Thornagel (Mondelez) erwartet.
URL:https://www.performancemarketing.de/event/next-generation-food-2017/
LOCATION:Kalkscheune\, Joannisstraße 2\, Berlin\, 10117\, Deutschland
CATEGORIES:Konferenz
ORGANIZER;CN="inspirato":MAILTO:f.thiele@inspirato.de
END:VEVENT
END:VCALENDAR