BEGIN:VCALENDAR
VERSION:2.0
PRODID:-//PerformanceMarketing.de - ECPv6.15.20//NONSGML v1.0//EN
CALSCALE:GREGORIAN
METHOD:PUBLISH
X-WR-CALNAME:PerformanceMarketing.de
X-ORIGINAL-URL:https://www.performancemarketing.de
X-WR-CALDESC:Veranstaltungen für PerformanceMarketing.de
REFRESH-INTERVAL;VALUE=DURATION:PT1H
X-Robots-Tag:noindex
X-PUBLISHED-TTL:PT1H
BEGIN:VTIMEZONE
TZID:Europe/Berlin
BEGIN:DAYLIGHT
TZOFFSETFROM:+0100
TZOFFSETTO:+0200
TZNAME:CEST
DTSTART:20160327T010000
END:DAYLIGHT
BEGIN:STANDARD
TZOFFSETFROM:+0200
TZOFFSETTO:+0100
TZNAME:CET
DTSTART:20161030T010000
END:STANDARD
BEGIN:DAYLIGHT
TZOFFSETFROM:+0100
TZOFFSETTO:+0200
TZNAME:CEST
DTSTART:20170326T010000
END:DAYLIGHT
BEGIN:STANDARD
TZOFFSETFROM:+0200
TZOFFSETTO:+0100
TZNAME:CET
DTSTART:20171029T010000
END:STANDARD
BEGIN:DAYLIGHT
TZOFFSETFROM:+0100
TZOFFSETTO:+0200
TZNAME:CEST
DTSTART:20180325T010000
END:DAYLIGHT
BEGIN:STANDARD
TZOFFSETFROM:+0200
TZOFFSETTO:+0100
TZNAME:CET
DTSTART:20181028T010000
END:STANDARD
END:VTIMEZONE
BEGIN:VEVENT
DTSTART;VALUE=DATE:20171011
DTEND;VALUE=DATE:20171012
DTSTAMP:20260424T032645
CREATED:20170901T142048Z
LAST-MODIFIED:20170901T142048Z
UID:1335-1507680000-1507766399@www.performancemarketing.de
SUMMARY:StartupCon 2017
DESCRIPTION:Die StartupCon ist Deutschlands größte Gründer-Konferenz. 2014 ins Leben gerufen\, will die StartupCon jungen Unternehmen und Gründern Wissen\, Kontakte und kreative Ideen vermitteln\, Synergien aus alteingesessenen Unternehmen weitertragen und nicht zuletzt das Netzwerk der Teilnehmer pflegen und erweitern. In mehr als 30 Workshops können neue Fähigkeiten erlernt werden\, mehr als 300 Investoren stehen als Kooperationspartner bereit. In über 800 Pitches können sich Gründer mit ihren Ideen und Visionen präsentieren. Abgerundet wird das Programm durch zahlreiche spannende Vorträge. Als Speaker stehen u.a. Cyriac Roeding (Roeding Ventures)\, Damien Declercq (Local Motors Berlin GmbH) und Hartmut Teicke (wefox) auf der Bühne.
URL:https://www.performancemarketing.de/event/startupcon-2017/
LOCATION:LANXESS arena\, Willy-Brandt-Platz 3\, Köln\, 50679\, Deutschland
CATEGORIES:Konferenz
ORGANIZER;CN="Business-on.de Christian Weis GmbH":MAILTO:startupcon@business-on.de
END:VEVENT
END:VCALENDAR