BEGIN:VCALENDAR
VERSION:2.0
PRODID:-//PerformanceMarketing.de - ECPv6.15.20//NONSGML v1.0//EN
CALSCALE:GREGORIAN
METHOD:PUBLISH
X-ORIGINAL-URL:https://www.performancemarketing.de
X-WR-CALDESC:Veranstaltungen für PerformanceMarketing.de
REFRESH-INTERVAL;VALUE=DURATION:PT1H
X-Robots-Tag:noindex
X-PUBLISHED-TTL:PT1H
BEGIN:VTIMEZONE
TZID:Europe/Berlin
BEGIN:DAYLIGHT
TZOFFSETFROM:+0100
TZOFFSETTO:+0200
TZNAME:CEST
DTSTART:20160327T010000
END:DAYLIGHT
BEGIN:STANDARD
TZOFFSETFROM:+0200
TZOFFSETTO:+0100
TZNAME:CET
DTSTART:20161030T010000
END:STANDARD
BEGIN:DAYLIGHT
TZOFFSETFROM:+0100
TZOFFSETTO:+0200
TZNAME:CEST
DTSTART:20170326T010000
END:DAYLIGHT
BEGIN:STANDARD
TZOFFSETFROM:+0200
TZOFFSETTO:+0100
TZNAME:CET
DTSTART:20171029T010000
END:STANDARD
BEGIN:DAYLIGHT
TZOFFSETFROM:+0100
TZOFFSETTO:+0200
TZNAME:CEST
DTSTART:20180325T010000
END:DAYLIGHT
BEGIN:STANDARD
TZOFFSETFROM:+0200
TZOFFSETTO:+0100
TZNAME:CET
DTSTART:20181028T010000
END:STANDARD
END:VTIMEZONE
BEGIN:VEVENT
DTSTART;TZID=Europe/Berlin:20170912T190000
DTEND;TZID=Europe/Berlin:20170913T020000
DTSTAMP:20260424T050304
CREATED:20170823T124029Z
LAST-MODIFIED:20170823T124029Z
UID:1298-1505242800-1505268000@www.performancemarketing.de
SUMMARY:Performance Night 2017
DESCRIPTION:Die Performance Night by metapeople ist der Treffpunkt zum Netzwerken und Kennenlernen am Vorabend der dmexco. In der „Wolkenburg“ treffen sich Marketingentscheider aus aller Welt bei Live-Musik und exzellentem Essen\, um sich auf die Digitalmesse einzustimmen. Der Networking-Event findet 2017 bereits zum 13. Mal statt und zieht regelmäßig ein abwechslungsreiches Publikum aus der Branche ins Herz der Domstadt – vom Account Manager über den Managing Director bis hin zum SEO Professional\, hier kommt jeder mit jedem ins Gespräch und kann sich in gemütlicher Atmosphäre über die neuesten Trends und Entwicklungen auf dem Markt austauschen.
URL:https://www.performancemarketing.de/event/performance-night-2017/
LOCATION:Wolkenburg\, Mauritiussteinweg 59\, Köln\, 50676\, Deutschland
CATEGORIES:Event
ORGANIZER;CN="metapeople":MAILTO:performancenight@metapeople.com
END:VEVENT
BEGIN:VEVENT
DTSTART;VALUE=DATE:20170913
DTEND;VALUE=DATE:20170915
DTSTAMP:20260424T050304
CREATED:20170823T122318Z
LAST-MODIFIED:20170823T122318Z
UID:1296-1505260800-1505433599@www.performancemarketing.de
SUMMARY:dmexco 2017
DESCRIPTION:Bereits zum neunten Mal findet am 13. und 14. September 2017 die Digital Marketing Exposition & Conference dmexco statt. Das Motto in diesem Jahr lautet: „Lightening the Age of Transformation. It’s not a Trend – it’s a Movement!“ Die Messe ist ein Highlight für Vertreter der internationalen Branche\, Marken\, Medien\, Agenturen und Influencer sowie Vertreter aus Industrie und Technik. Auf insgesamt 15 Bühnen stellen etablierte Unternehmen und Start-Ups die digitalen Trends von morgen vor\, zahlreiche hochkarätige Speaker geben Einblicke in ihre Arbeitswelt und neueste Entwicklungen auf dem Markt. In diesem Jahr werden u.a. auf der Bühne erwartet: Sheryl Sandberg (Facebook)\, Bob Greenberg (R/GA)\, Tim Kendall (Pinterest)\, Thomas Reiter (ESA) und Julia Jäkel (Gruner + Jahr).
URL:https://www.performancemarketing.de/event/dmexco-2017/
LOCATION:Koelnmesse\, Messeplatz 1\, Köln\, 50679\, Deutschland
CATEGORIES:Konferenz
ORGANIZER;CN="Koelnmesse":MAILTO:info@dmexco.de
END:VEVENT
END:VCALENDAR