BEGIN:VCALENDAR
VERSION:2.0
PRODID:-//PerformanceMarketing.de - ECPv6.15.20//NONSGML v1.0//EN
CALSCALE:GREGORIAN
METHOD:PUBLISH
X-WR-CALNAME:PerformanceMarketing.de
X-ORIGINAL-URL:https://www.performancemarketing.de
X-WR-CALDESC:Veranstaltungen für PerformanceMarketing.de
REFRESH-INTERVAL;VALUE=DURATION:PT1H
X-Robots-Tag:noindex
X-PUBLISHED-TTL:PT1H
BEGIN:VTIMEZONE
TZID:Europe/Berlin
BEGIN:DAYLIGHT
TZOFFSETFROM:+0100
TZOFFSETTO:+0200
TZNAME:CEST
DTSTART:20160327T010000
END:DAYLIGHT
BEGIN:STANDARD
TZOFFSETFROM:+0200
TZOFFSETTO:+0100
TZNAME:CET
DTSTART:20161030T010000
END:STANDARD
BEGIN:DAYLIGHT
TZOFFSETFROM:+0100
TZOFFSETTO:+0200
TZNAME:CEST
DTSTART:20170326T010000
END:DAYLIGHT
BEGIN:STANDARD
TZOFFSETFROM:+0200
TZOFFSETTO:+0100
TZNAME:CET
DTSTART:20171029T010000
END:STANDARD
BEGIN:DAYLIGHT
TZOFFSETFROM:+0100
TZOFFSETTO:+0200
TZNAME:CEST
DTSTART:20180325T010000
END:DAYLIGHT
BEGIN:STANDARD
TZOFFSETFROM:+0200
TZOFFSETTO:+0100
TZNAME:CET
DTSTART:20181028T010000
END:STANDARD
END:VTIMEZONE
BEGIN:VEVENT
DTSTART;VALUE=DATE:20170901
DTEND;VALUE=DATE:20170907
DTSTAMP:20260424T050057
CREATED:20161020T155959Z
LAST-MODIFIED:20161020T155959Z
UID:900-1504224000-1504742399@www.performancemarketing.de
SUMMARY:Internationale Funkausstellung IFA
DESCRIPTION:
URL:https://www.performancemarketing.de/event/internationale-funkausstellung-ifa/
LOCATION:Messe Berlin\, Messedamm 22\, Berlin\, 14055\, Deutschland
CATEGORIES:Messe
ORGANIZER;CN="Messe Berlin GmbH":MAILTO:ifa@messe-berlin.com
END:VEVENT
BEGIN:VEVENT
DTSTART;VALUE=DATE:20170904
DTEND;VALUE=DATE:20170909
DTSTAMP:20260424T050057
CREATED:20170830T094756Z
LAST-MODIFIED:20170830T094756Z
UID:1311-1504483200-1504915199@www.performancemarketing.de
SUMMARY:Startup Safari Cologne
DESCRIPTION:Die Startup Safari Cologne ist eine Veranstaltung der ganz besonderen Art. Es gibt keine feste Location\, die Location ist schlicht die Stadt selbst. Mehr als 100 Startups\, Unternehmen und Investoren öffnen vom 4. bis 8. September 2017 ihre Türen und bieten den Teilnehmern über 150 Sessions wie Workshops\, Masterclasses oder einfach ein geselliges BBQ zum Netzwerken an. Dabei sind so bekannte Unternehmen wie Pixum\, Die Schuhleister\, trivago oder Host Europe am Start. Zu diesem Event werden mehr als 2.000 Interessenten erwartet\, die sich u.a. auf folgende Speaker freuen können: Ben Sufiani (Pirate Skills)\, Alex Peiniger (quintly)\, Jörg Bienert (aiso-lab)\, Florian Schmitt (Lexrocket)\, Claus Boyens (Host Europe) oder Tim Schumacher.
URL:https://www.performancemarketing.de/event/startup-safari-cologne/
CATEGORIES:Event
ORGANIZER;CN="Jolly Roger UG":MAILTO:info@pirate.global
END:VEVENT
BEGIN:VEVENT
DTSTART;VALUE=DATE:20170905
DTEND;VALUE=DATE:20170906
DTSTAMP:20260424T050057
CREATED:20170830T135730Z
LAST-MODIFIED:20170830T140308Z
UID:1318-1504569600-1504655999@www.performancemarketing.de
SUMMARY:Accelerator Day auf der IFA 2017
DESCRIPTION:Vom 1. bis 6. September finden im Rahmen der Internationalen Funkausstellung (IFA) in Berlin die IFA NEXT Startup Days statt. Jeder Thementag steht dabei unter einem anderen Motto. Vertreten ist in diesem Jahr z.B. „Virtual Reality“\, „Future Mobility“ oder „Smart Home“. Am 5. September steigt der Accelerator Day\, bei dem Interessenten über die teilnehmenden Accelerator- und Inkubator-Programme informieren können. Highlights werden Paneldiskussionen\, branchenspezifische Vorstellungen der unterschiedlichen Programme sowie Berichte von Startups und Corporates sein\, die solche Programme erfolgreich durchlaufen haben. Der Accelerator Day findet in der IFA NEXT Halle 26 statt.
URL:https://www.performancemarketing.de/event/accelerator-day-auf-der-ifa-2017/
LOCATION:IFA Berlin\, Messedamm 22\, Berlin\, 14055\, Deutschland
CATEGORIES:Event
ORGANIZER;CN="Gr%C3%BCndermetropole Berlin":MAILTO:christine@gruendermetropole-berlin.de
END:VEVENT
END:VCALENDAR