BEGIN:VCALENDAR
VERSION:2.0
PRODID:-//PerformanceMarketing.de - ECPv6.15.20//NONSGML v1.0//EN
CALSCALE:GREGORIAN
METHOD:PUBLISH
X-WR-CALNAME:PerformanceMarketing.de
X-ORIGINAL-URL:https://www.performancemarketing.de
X-WR-CALDESC:Veranstaltungen für PerformanceMarketing.de
REFRESH-INTERVAL;VALUE=DURATION:PT1H
X-Robots-Tag:noindex
X-PUBLISHED-TTL:PT1H
BEGIN:VTIMEZONE
TZID:Europe/Berlin
BEGIN:DAYLIGHT
TZOFFSETFROM:+0100
TZOFFSETTO:+0200
TZNAME:CEST
DTSTART:20160327T010000
END:DAYLIGHT
BEGIN:STANDARD
TZOFFSETFROM:+0200
TZOFFSETTO:+0100
TZNAME:CET
DTSTART:20161030T010000
END:STANDARD
BEGIN:DAYLIGHT
TZOFFSETFROM:+0100
TZOFFSETTO:+0200
TZNAME:CEST
DTSTART:20170326T010000
END:DAYLIGHT
BEGIN:STANDARD
TZOFFSETFROM:+0200
TZOFFSETTO:+0100
TZNAME:CET
DTSTART:20171029T010000
END:STANDARD
BEGIN:DAYLIGHT
TZOFFSETFROM:+0100
TZOFFSETTO:+0200
TZNAME:CEST
DTSTART:20180325T010000
END:DAYLIGHT
BEGIN:STANDARD
TZOFFSETFROM:+0200
TZOFFSETTO:+0100
TZNAME:CET
DTSTART:20181028T010000
END:STANDARD
END:VTIMEZONE
BEGIN:VEVENT
DTSTART;VALUE=DATE:20170331
DTEND;VALUE=DATE:20170401
DTSTAMP:20260424T114413
CREATED:20161108T165555Z
LAST-MODIFIED:20161108T165652Z
UID:960-1490918400-1491004799@www.performancemarketing.de
SUMMARY:OMKB
DESCRIPTION:Die Online Marketing Konferenz Bielefeld (OMKB) findet 2017 zum zweiten Mal statt und richtet sich ebenso an interessierte Berufsanfänger wie an Marketing-Spezialisten. Auf der ganztägigen Veranstaltung erfahren Teilnehmer in spannenden Vorträgen und lehrreichen Workshops alles über die neuesten Entwicklungen und Trends der Branche vom Suchmaschinenmarketing über Programmatic Advertising bis hin zum Content Marketing. Marketingverantwortliche aus namhaften nationalen und internationalen Unternehmen geben nicht nur spannende Einblicke in die verschiedenen Teilbereiche des Online Marketings\, sondern auch nützliche Anregungen und wertvolle Praxistipps\, wie die eigenen Produkte bestmöglichst präsentiert und vermarktet werden können. Als Speaker werden u.a. Miriam Fohrmann (SIXT)\, Christian Sauer (Webtrekk)\, Nic Lecloux (true fruits) und Branchen-Urgestein Karl Kratz auf der Bühne stehen.
URL:https://www.performancemarketing.de/event/omkb/
LOCATION:Stadthalle Bielefeld\, Willy Brandt Platz 1\, Bielefeld\, 33602\, Deutschland
CATEGORIES:Konferenz
ORGANIZER;CN="qualitytraffic GmbH":MAILTO:info@omkb.de
END:VEVENT
END:VCALENDAR