BEGIN:VCALENDAR
VERSION:2.0
PRODID:-//PerformanceMarketing.de - ECPv6.15.20//NONSGML v1.0//EN
CALSCALE:GREGORIAN
METHOD:PUBLISH
X-ORIGINAL-URL:https://www.performancemarketing.de
X-WR-CALDESC:Veranstaltungen für PerformanceMarketing.de
REFRESH-INTERVAL;VALUE=DURATION:PT1H
X-Robots-Tag:noindex
X-PUBLISHED-TTL:PT1H
BEGIN:VTIMEZONE
TZID:Europe/Berlin
BEGIN:DAYLIGHT
TZOFFSETFROM:+0100
TZOFFSETTO:+0200
TZNAME:CEST
DTSTART:20160327T010000
END:DAYLIGHT
BEGIN:STANDARD
TZOFFSETFROM:+0200
TZOFFSETTO:+0100
TZNAME:CET
DTSTART:20161030T010000
END:STANDARD
BEGIN:DAYLIGHT
TZOFFSETFROM:+0100
TZOFFSETTO:+0200
TZNAME:CEST
DTSTART:20170326T010000
END:DAYLIGHT
BEGIN:STANDARD
TZOFFSETFROM:+0200
TZOFFSETTO:+0100
TZNAME:CET
DTSTART:20171029T010000
END:STANDARD
BEGIN:DAYLIGHT
TZOFFSETFROM:+0100
TZOFFSETTO:+0200
TZNAME:CEST
DTSTART:20180325T010000
END:DAYLIGHT
BEGIN:STANDARD
TZOFFSETFROM:+0200
TZOFFSETTO:+0100
TZNAME:CET
DTSTART:20181028T010000
END:STANDARD
END:VTIMEZONE
BEGIN:VEVENT
DTSTART;VALUE=DATE:20170307
DTEND;VALUE=DATE:20170309
DTSTAMP:20260424T130145
CREATED:20160913T113014Z
LAST-MODIFIED:20160913T113139Z
UID:625-1488844800-1489017599@www.performancemarketing.de
SUMMARY:CMCX
DESCRIPTION:Die CMCX ist die europäische Veranstaltung für Marketing-Entscheider\, die Content-Strategien entwickeln und die Umsetzung von Content Marketing-Kampagnen durchführen. Die CMCX deckt das komplette Spektrum des Content Marketings ab\, parallel dazu findet stets eine Fachmesse für Content Marketing statt\, die eine perfekte Marktübersicht bietet. Als Speaker für die Konferenz 2017 sind bereits Michael Stenberg (Siemens)\, Mario Vigl (Allianz)\, Dr. Markus Irmscher (Nestlé) und Florian Gmeinwieser (Hilti) bekannt.
URL:https://www.performancemarketing.de/event/cmcx/
LOCATION:Messe München\, Messegelände\, München\, 81823\, Deutschland
CATEGORIES:Konferenz
ORGANIZER;CN="Contilla GmbH - Interaktives Content-Marketing":MAILTO:cmcx@contilla.de
END:VEVENT
END:VCALENDAR