BEGIN:VCALENDAR
VERSION:2.0
PRODID:-//PerformanceMarketing.de - ECPv6.15.20//NONSGML v1.0//EN
CALSCALE:GREGORIAN
METHOD:PUBLISH
X-WR-CALNAME:PerformanceMarketing.de
X-ORIGINAL-URL:https://www.performancemarketing.de
X-WR-CALDESC:Veranstaltungen für PerformanceMarketing.de
REFRESH-INTERVAL;VALUE=DURATION:PT1H
X-Robots-Tag:noindex
X-PUBLISHED-TTL:PT1H
BEGIN:VTIMEZONE
TZID:Europe/Berlin
BEGIN:DAYLIGHT
TZOFFSETFROM:+0100
TZOFFSETTO:+0200
TZNAME:CEST
DTSTART:20160327T010000
END:DAYLIGHT
BEGIN:STANDARD
TZOFFSETFROM:+0200
TZOFFSETTO:+0100
TZNAME:CET
DTSTART:20161030T010000
END:STANDARD
BEGIN:DAYLIGHT
TZOFFSETFROM:+0100
TZOFFSETTO:+0200
TZNAME:CEST
DTSTART:20170326T010000
END:DAYLIGHT
BEGIN:STANDARD
TZOFFSETFROM:+0200
TZOFFSETTO:+0100
TZNAME:CET
DTSTART:20171029T010000
END:STANDARD
BEGIN:DAYLIGHT
TZOFFSETFROM:+0100
TZOFFSETTO:+0200
TZNAME:CEST
DTSTART:20180325T010000
END:DAYLIGHT
BEGIN:STANDARD
TZOFFSETFROM:+0200
TZOFFSETTO:+0100
TZNAME:CET
DTSTART:20181028T010000
END:STANDARD
END:VTIMEZONE
BEGIN:VEVENT
DTSTART;VALUE=DATE:20170302
DTEND;VALUE=DATE:20170304
DTSTAMP:20260424T125930
CREATED:20170217T100242Z
LAST-MODIFIED:20170306T153338Z
UID:1048-1488412800-1488585599@www.performancemarketing.de
SUMMARY:Online Marketing Rockstars Festival
DESCRIPTION:Das zweitägige Online Marketing Rockstars Festival liefert Ideen\, Impulse\, bestes Networking und Unterhaltung. Mit rund 25.000 Teilnehmern zählt das Festival zu den größten Veranstaltungen der Online Marketing Branche weltweit und ist ein absoluter Muss-Termin im Veranstaltungskalender. Highlight ist die am zweiten Tag des Festivals stattfindende Online Marketing Rockstars Konferenz mit internationalen Top-Speakern wie Evan Sharp (Pinterest)\, Jonah Peretti (Buzzfeed)\, Sami Slimani oder John Batelle (Wired). Zusätzlich präsentieren etablierte Unternehmen und aufsteigende Start-Ups auf der OMR Expo neue Entwicklungen und Produkte\, außerdem finden Masterclasses und ein tolles Rahmenprogramm mit einer Mega-Party am Abend zum Abschluss des Events statt.
URL:https://www.performancemarketing.de/event/online-marketing-rockstars-festival/
LOCATION:Messe Hamburg\, Messeplatz 1\, Hamburg\, 20357\, Deutschland
CATEGORIES:Konferenz
ORGANIZER;CN="ramp106 GmbH":MAILTO:info@onlinemarketingrockstars.de
END:VEVENT
END:VCALENDAR